BEGIN:VCALENDAR
VERSION:2.0
PRODID:-//Porthole - ECPv6.10.2//NONSGML v1.0//EN
CALSCALE:GREGORIAN
METHOD:PUBLISH
X-WR-CALNAME:Porthole
X-ORIGINAL-URL:https://portholemaine.com
X-WR-CALDESC:Events for Porthole
REFRESH-INTERVAL;VALUE=DURATION:PT1H
X-Robots-Tag:noindex
X-PUBLISHED-TTL:PT1H
BEGIN:VTIMEZONE
TZID:Europe/Moscow
BEGIN:STANDARD
TZOFFSETFROM:+0300
TZOFFSETTO:+0300
TZNAME:MSK
DTSTART:20250101T000000
END:STANDARD
END:VTIMEZONE
BEGIN:VEVENT
DTSTART;TZID=Europe/Moscow:20250919T130000
DTEND;TZID=Europe/Moscow:20250919T160000
DTSTAMP:20260422T032858
CREATED:20250915T205246Z
LAST-MODIFIED:20250915T205246Z
UID:10000920-1758286800-1758297600@portholemaine.com
SUMMARY:Justin Carver
DESCRIPTION:
URL:https://portholemaine.com/event/justin-carver-32/2025-09-19/
CATEGORIES:Live Music
END:VEVENT
BEGIN:VEVENT
DTSTART;TZID=Europe/Moscow:20250919T160000
DTEND;TZID=Europe/Moscow:20250919T190000
DTSTAMP:20260422T032858
CREATED:20250915T205429Z
LAST-MODIFIED:20250915T205429Z
UID:10000923-1758297600-1758308400@portholemaine.com
SUMMARY:A&M Live
DESCRIPTION:
URL:https://portholemaine.com/event/am-live/
CATEGORIES:Entertainment
END:VEVENT
BEGIN:VEVENT
DTSTART;TZID=Europe/Moscow:20250919T193000
DTEND;TZID=Europe/Moscow:20250919T233000
DTSTAMP:20260422T032858
CREATED:20250915T205454Z
LAST-MODIFIED:20250915T205454Z
UID:10000924-1758310200-1758324600@portholemaine.com
SUMMARY:Stolen Mojo
DESCRIPTION:
URL:https://portholemaine.com/event/stolen-mojo-7/
CATEGORIES:Live Music
END:VEVENT
END:VCALENDAR