BEGIN:VCALENDAR
VERSION:2.0
PRODID:-//Porthole - ECPv6.10.2//NONSGML v1.0//EN
CALSCALE:GREGORIAN
METHOD:PUBLISH
X-WR-CALNAME:Porthole
X-ORIGINAL-URL:https://portholemaine.com
X-WR-CALDESC:Events for Porthole
REFRESH-INTERVAL;VALUE=DURATION:PT1H
X-Robots-Tag:noindex
X-PUBLISHED-TTL:PT1H
BEGIN:VTIMEZONE
TZID:Europe/Moscow
BEGIN:STANDARD
TZOFFSETFROM:+0300
TZOFFSETTO:+0300
TZNAME:MSK
DTSTART:20250101T000000
END:STANDARD
END:VTIMEZONE
BEGIN:VEVENT
DTSTART;TZID=Europe/Moscow:20251004T110000
DTEND;TZID=Europe/Moscow:20251004T130000
DTSTAMP:20260422T013447
CREATED:20251003T141132Z
LAST-MODIFIED:20251003T141132Z
UID:10000949-1759575600-1759582800@portholemaine.com
SUMMARY:Andi Fawcett
DESCRIPTION:
URL:https://portholemaine.com/event/andi-fawcett-23/
END:VEVENT
BEGIN:VEVENT
DTSTART;TZID=Europe/Moscow:20251004T130000
DTEND;TZID=Europe/Moscow:20251004T160000
DTSTAMP:20260422T013447
CREATED:20251003T140931Z
LAST-MODIFIED:20251003T140931Z
UID:10000945-1759582800-1759593600@portholemaine.com
SUMMARY:Quiet Riot Act
DESCRIPTION:
URL:https://portholemaine.com/event/quiet-riot-act-16/
END:VEVENT
BEGIN:VEVENT
DTSTART;TZID=Europe/Moscow:20251004T190000
DTEND;TZID=Europe/Moscow:20251004T230000
DTSTAMP:20260422T013447
CREATED:20251003T141007Z
LAST-MODIFIED:20251003T141007Z
UID:10000946-1759604400-1759618800@portholemaine.com
SUMMARY:Cryin' Out Loud
DESCRIPTION:
URL:https://portholemaine.com/event/cryin-out-loud-10/
END:VEVENT
END:VCALENDAR