BEGIN:VCALENDAR
VERSION:2.0
PRODID:-//Porthole - ECPv6.10.2//NONSGML v1.0//EN
CALSCALE:GREGORIAN
METHOD:PUBLISH
X-WR-CALNAME:Porthole
X-ORIGINAL-URL:https://portholemaine.com
X-WR-CALDESC:Events for Porthole
REFRESH-INTERVAL;VALUE=DURATION:PT1H
X-Robots-Tag:noindex
X-PUBLISHED-TTL:PT1H
BEGIN:VTIMEZONE
TZID:Europe/Moscow
BEGIN:STANDARD
TZOFFSETFROM:+0300
TZOFFSETTO:+0300
TZNAME:MSK
DTSTART:20250101T000000
END:STANDARD
END:VTIMEZONE
BEGIN:VEVENT
DTSTART;TZID=Europe/Moscow:20251101T140000
DTEND;TZID=Europe/Moscow:20251101T170000
DTSTAMP:20260421T235348
CREATED:20251025T204133Z
LAST-MODIFIED:20251025T204133Z
UID:10001034-1762005600-1762016400@portholemaine.com
SUMMARY:Andi Fawcett & Friends
DESCRIPTION:
URL:https://portholemaine.com/event/andi-fawcett-friends-5/2025-11-01/
END:VEVENT
BEGIN:VEVENT
DTSTART;TZID=Europe/Moscow:20251101T190000
DTEND;TZID=Europe/Moscow:20251101T230000
DTSTAMP:20260421T235348
CREATED:20251003T142939Z
LAST-MODIFIED:20251003T142939Z
UID:10000962-1762023600-1762038000@portholemaine.com
SUMMARY:DJ Jay-C
DESCRIPTION:
URL:https://portholemaine.com/event/dj-jay-c/
END:VEVENT
END:VCALENDAR