BEGIN:VCALENDAR
VERSION:2.0
PRODID:-//Porthole - ECPv6.10.2//NONSGML v1.0//EN
CALSCALE:GREGORIAN
METHOD:PUBLISH
X-WR-CALNAME:Porthole
X-ORIGINAL-URL:https://portholemaine.com
X-WR-CALDESC:Events for Porthole
REFRESH-INTERVAL;VALUE=DURATION:PT1H
X-Robots-Tag:noindex
X-PUBLISHED-TTL:PT1H
BEGIN:VTIMEZONE
TZID:Europe/Moscow
BEGIN:STANDARD
TZOFFSETFROM:+0300
TZOFFSETTO:+0300
TZNAME:MSK
DTSTART:20260101T000000
END:STANDARD
END:VTIMEZONE
BEGIN:VEVENT
DTSTART;TZID=Europe/Moscow:20260207T140000
DTEND;TZID=Europe/Moscow:20260207T170000
DTSTAMP:20260421T183600
CREATED:20260202T210929Z
LAST-MODIFIED:20260202T210952Z
UID:10001062-1770472800-1770483600@portholemaine.com
SUMMARY:Don Campbell Duo
DESCRIPTION:
URL:https://portholemaine.com/event/don-campbell-duo-2/
END:VEVENT
END:VCALENDAR