BEGIN:VCALENDAR
VERSION:2.0
PRODID:-//Porthole - ECPv6.10.2//NONSGML v1.0//EN
CALSCALE:GREGORIAN
METHOD:PUBLISH
X-ORIGINAL-URL:https://portholemaine.com
X-WR-CALDESC:Events for Porthole
REFRESH-INTERVAL;VALUE=DURATION:PT1H
X-Robots-Tag:noindex
X-PUBLISHED-TTL:PT1H
BEGIN:VTIMEZONE
TZID:Europe/Moscow
BEGIN:STANDARD
TZOFFSETFROM:+0300
TZOFFSETTO:+0300
TZNAME:MSK
DTSTART:20260101T000000
END:STANDARD
END:VTIMEZONE
BEGIN:VEVENT
DTSTART;TZID=Europe/Moscow:20260426T130000
DTEND;TZID=Europe/Moscow:20260426T160000
DTSTAMP:20260421T152222
CREATED:20260411T234321Z
LAST-MODIFIED:20260411T234321Z
UID:10001207-1777208400-1777219200@portholemaine.com
SUMMARY:Tyler Dhone
DESCRIPTION:
URL:https://portholemaine.com/event/tyler-dhone-35/
END:VEVENT
END:VCALENDAR