BEGIN:VCALENDAR
VERSION:2.0
PRODID:-//Porthole - ECPv6.10.2//NONSGML v1.0//EN
CALSCALE:GREGORIAN
METHOD:PUBLISH
X-ORIGINAL-URL:https://portholemaine.com
X-WR-CALDESC:Events for Porthole
REFRESH-INTERVAL;VALUE=DURATION:PT1H
X-Robots-Tag:noindex
X-PUBLISHED-TTL:PT1H
BEGIN:VTIMEZONE
TZID:Europe/Moscow
BEGIN:STANDARD
TZOFFSETFROM:+0300
TZOFFSETTO:+0300
TZNAME:MSK
DTSTART:20240101T000000
END:STANDARD
END:VTIMEZONE
BEGIN:VEVENT
DTSTART;TZID=Europe/Moscow:20240706T010000
DTEND;TZID=Europe/Moscow:20240706T010000
DTSTAMP:20260423T073422
CREATED:20240527T125156Z
LAST-MODIFIED:20240527T125156Z
UID:10000271-1720227600-1720227600@portholemaine.com
SUMMARY:Hello Newman
DESCRIPTION:Live music with Hello Newman
URL:https://portholemaine.com/event/hello-newman-7/
CATEGORIES:Entertainment,Live Music,Music
END:VEVENT
BEGIN:VEVENT
DTSTART;TZID=Europe/Moscow:20240705T010000
DTEND;TZID=Europe/Moscow:20240705T010000
DTSTAMP:20260423T073422
CREATED:20240527T124850Z
LAST-MODIFIED:20240527T124850Z
UID:10000270-1720141200-1720141200@portholemaine.com
SUMMARY:Deck Dance Party with DJ Father Tish
DESCRIPTION:Deck Dance Party with DJ Father Tish
URL:https://portholemaine.com/event/deck-dance-party-with-dj-father-tish/
CATEGORIES:Entertainment,Live Music,Music
END:VEVENT
BEGIN:VEVENT
DTSTART;TZID=Europe/Moscow:20240704T210000
DTEND;TZID=Europe/Moscow:20240704T210000
DTSTAMP:20260423T073422
CREATED:20240527T124754Z
LAST-MODIFIED:20240527T124754Z
UID:10000269-1720126800-1720126800@portholemaine.com
SUMMARY:The Few
DESCRIPTION:Live music with The Few
URL:https://portholemaine.com/event/the-few-16/
CATEGORIES:Entertainment,Live Music,Music
END:VEVENT
BEGIN:VEVENT
DTSTART;TZID=Europe/Moscow:20240704T010000
DTEND;TZID=Europe/Moscow:20240704T010000
DTSTAMP:20260423T073422
CREATED:20240527T124700Z
LAST-MODIFIED:20240527T124700Z
UID:10000268-1720054800-1720054800@portholemaine.com
SUMMARY:DJ Kool V
DESCRIPTION:Summer sounds with DJ Kool V
URL:https://portholemaine.com/event/dj-kool-v-2/
CATEGORIES:Entertainment,Live Music,Music
END:VEVENT
BEGIN:VEVENT
DTSTART;TZID=Europe/Moscow:20240703T010000
DTEND;TZID=Europe/Moscow:20240703T010000
DTSTAMP:20260423T073422
CREATED:20240603T112917Z
LAST-MODIFIED:20240603T112917Z
UID:10000306-1719968400-1719968400@portholemaine.com
SUMMARY:Chase Jobe & The Runnin' Kind
DESCRIPTION:Live music with Chase Jobe & The Runnin’ Kind
URL:https://portholemaine.com/event/chase-jobe-the-runnin-kind-12/
CATEGORIES:Entertainment,Live Music,Music
END:VEVENT
BEGIN:VEVENT
DTSTART;TZID=Europe/Moscow:20240702T010000
DTEND;TZID=Europe/Moscow:20240702T010000
DTSTAMP:20260423T073422
CREATED:20240527T124513Z
LAST-MODIFIED:20240527T124513Z
UID:10000267-1719882000-1719882000@portholemaine.com
SUMMARY:Henry Lowery
DESCRIPTION:Live music with Henry Lowery
URL:https://portholemaine.com/event/henry-lowery-10/
CATEGORIES:Entertainment,Live Music,Music
END:VEVENT
BEGIN:VEVENT
DTSTART;TZID=Europe/Moscow:20240701T010000
DTEND;TZID=Europe/Moscow:20240701T010000
DTSTAMP:20260423T073422
CREATED:20240412T192537Z
LAST-MODIFIED:20240412T192537Z
UID:10000253-1719795600-1719795600@portholemaine.com
SUMMARY:Chase Jobe & The Runnin' Kind
DESCRIPTION:Live music with Chase Jobe & The Runnin’ Kind
URL:https://portholemaine.com/event/chase-jobe-the-runnin-kind-6/
CATEGORIES:Entertainment,Live Music,Music
END:VEVENT
BEGIN:VEVENT
DTSTART;TZID=Europe/Moscow:20240630T210000
DTEND;TZID=Europe/Moscow:20240630T210000
DTSTAMP:20260423T073422
CREATED:20240412T192442Z
LAST-MODIFIED:20240412T192442Z
UID:10000252-1719781200-1719781200@portholemaine.com
SUMMARY:Jameson Four
DESCRIPTION:Live music with Jameson Four
URL:https://portholemaine.com/event/jameson-four/
CATEGORIES:Entertainment,Live Music,Music
END:VEVENT
BEGIN:VEVENT
DTSTART;TZID=Europe/Moscow:20240630T010000
DTEND;TZID=Europe/Moscow:20240630T010000
DTSTAMP:20260423T073422
CREATED:20240412T192242Z
LAST-MODIFIED:20240412T192242Z
UID:10000251-1719709200-1719709200@portholemaine.com
SUMMARY:Spyglass
DESCRIPTION:Live music with Spyglass
URL:https://portholemaine.com/event/spyglass-8/
CATEGORIES:Entertainment,Live Music,Music
END:VEVENT
BEGIN:VEVENT
DTSTART;TZID=Europe/Moscow:20240629T200000
DTEND;TZID=Europe/Moscow:20240629T200000
DTSTAMP:20260423T073422
CREATED:20240412T192157Z
LAST-MODIFIED:20240412T192157Z
UID:10000250-1719691200-1719691200@portholemaine.com
SUMMARY:Bonnie & The Cats
DESCRIPTION:Live music with Bonnie & The Cats
URL:https://portholemaine.com/event/bonnie-the-cats-5/
CATEGORIES:Entertainment,Live Music,Music
END:VEVENT
BEGIN:VEVENT
DTSTART;TZID=Europe/Moscow:20240629T010000
DTEND;TZID=Europe/Moscow:20240629T010000
DTSTAMP:20260423T073422
CREATED:20240603T144446Z
LAST-MODIFIED:20240603T144446Z
UID:10000329-1719622800-1719622800@portholemaine.com
SUMMARY:DJ Jacky Treehorn
DESCRIPTION:Summer sounds with DJ Jacky Treehorn
URL:https://portholemaine.com/event/dj-jacky-treehorn-16/
CATEGORIES:Entertainment,Live Music,Music
END:VEVENT
BEGIN:VEVENT
DTSTART;TZID=Europe/Moscow:20240628T220000
DTEND;TZID=Europe/Moscow:20240628T220000
DTSTAMP:20260423T073422
CREATED:20240412T192038Z
LAST-MODIFIED:20240412T192038Z
UID:10000249-1719612000-1719612000@portholemaine.com
SUMMARY:Darren Bessette
DESCRIPTION:Live music with Darren Bessette
URL:https://portholemaine.com/event/darren-bessette-4/
CATEGORIES:Entertainment,Live Music,Music
END:VEVENT
BEGIN:VEVENT
DTSTART;TZID=Europe/Moscow:20240628T010000
DTEND;TZID=Europe/Moscow:20240628T010000
DTSTAMP:20260423T073422
CREATED:20240412T191933Z
LAST-MODIFIED:20240626T160217Z
UID:10000248-1719536400-1719536400@portholemaine.com
SUMMARY:The Few
DESCRIPTION:Live music with The Few
URL:https://portholemaine.com/event/the-few-15/
LOCATION:The Porthole\, 20 Custom House Wharf\, Portland\, ME\, 04101
CATEGORIES:Entertainment,Live Music,Music
END:VEVENT
BEGIN:VEVENT
DTSTART;TZID=Europe/Moscow:20240627T010000
DTEND;TZID=Europe/Moscow:20240627T010000
DTSTAMP:20260423T073422
CREATED:20240412T191753Z
LAST-MODIFIED:20240412T191753Z
UID:10000247-1719450000-1719450000@portholemaine.com
SUMMARY:MEGS
DESCRIPTION:Live music with MEGS
URL:https://portholemaine.com/event/megs-4/
CATEGORIES:Entertainment,Live Music,Music
END:VEVENT
BEGIN:VEVENT
DTSTART;TZID=Europe/Moscow:20240626T010000
DTEND;TZID=Europe/Moscow:20240626T010000
DTSTAMP:20260423T073422
CREATED:20240603T112631Z
LAST-MODIFIED:20240603T112631Z
UID:10000305-1719363600-1719363600@portholemaine.com
SUMMARY:DJ Father Tish
DESCRIPTION:Summer sounds and good vibes with DJ Father Tish
URL:https://portholemaine.com/event/chase-jobe-the-runnin-kind-11/
CATEGORIES:Entertainment,Live Music,Music
END:VEVENT
BEGIN:VEVENT
DTSTART;TZID=Europe/Moscow:20240625T210000
DTEND;TZID=Europe/Moscow:20240625T210000
DTSTAMP:20260423T073422
CREATED:20240620T102600Z
LAST-MODIFIED:20240620T102600Z
UID:10000334-1719349200-1719349200@portholemaine.com
SUMMARY:Tyler Dhone
DESCRIPTION:Live music with Tyler Dhone
URL:https://portholemaine.com/event/tyler-dhone-5/
CATEGORIES:Entertainment,Live Music,Music
END:VEVENT
BEGIN:VEVENT
DTSTART;TZID=Europe/Moscow:20240625T010000
DTEND;TZID=Europe/Moscow:20240625T010000
DTSTAMP:20260423T073422
CREATED:20240412T191654Z
LAST-MODIFIED:20240412T191654Z
UID:10000246-1719277200-1719277200@portholemaine.com
SUMMARY:Xander Nelson
DESCRIPTION:Live music with Xander Nelson
URL:https://portholemaine.com/event/xander-nelson/
CATEGORIES:Entertainment,Live Music,Music
END:VEVENT
BEGIN:VEVENT
DTSTART;TZID=Europe/Moscow:20240624T200000
DTEND;TZID=Europe/Moscow:20240624T200000
DTSTAMP:20260423T073422
CREATED:20240620T102221Z
LAST-MODIFIED:20240620T102221Z
UID:10000333-1719259200-1719259200@portholemaine.com
SUMMARY:Don Campbell
DESCRIPTION:Live music with Don Campbell
URL:https://portholemaine.com/event/don-campbell-2/
CATEGORIES:Entertainment,Live Music,Music
END:VEVENT
BEGIN:VEVENT
DTSTART;TZID=Europe/Moscow:20240624T010000
DTEND;TZID=Europe/Moscow:20240624T010000
DTSTAMP:20260423T073422
CREATED:20240412T190731Z
LAST-MODIFIED:20240412T190731Z
UID:10000245-1719190800-1719190800@portholemaine.com
SUMMARY:Chase Jobe & The Runnin' Kind
DESCRIPTION:Live music with Chase Jobe & The Runnin’ Kind
URL:https://portholemaine.com/event/chase-jobe-the-runnin-kind-5/
CATEGORIES:Entertainment,Live Music,Music
END:VEVENT
BEGIN:VEVENT
DTSTART;TZID=Europe/Moscow:20240623T200000
DTEND;TZID=Europe/Moscow:20240623T200000
DTSTAMP:20260423T073422
CREATED:20240412T190629Z
LAST-MODIFIED:20240412T190629Z
UID:10000244-1719172800-1719172800@portholemaine.com
SUMMARY:Stolen Mojo
DESCRIPTION:Live music with Stolen Mojo
URL:https://portholemaine.com/event/stolen-mojo-2/
CATEGORIES:Entertainment,Live Music,Music
END:VEVENT
BEGIN:VEVENT
DTSTART;TZID=Europe/Moscow:20240623T010000
DTEND;TZID=Europe/Moscow:20240623T010000
DTSTAMP:20260423T073422
CREATED:20240603T144226Z
LAST-MODIFIED:20240603T144226Z
UID:10000328-1719104400-1719104400@portholemaine.com
SUMMARY:DJ Jacky Treehorn vs DJ Jams Frrever
DESCRIPTION:Summer sounds with DJ Jacky Treehorn
URL:https://portholemaine.com/event/dj-jacky-treehorn-15/
CATEGORIES:Entertainment,Live Music,Music
END:VEVENT
BEGIN:VEVENT
DTSTART;TZID=Europe/Moscow:20240622T220000
DTEND;TZID=Europe/Moscow:20240622T220000
DTSTAMP:20260423T073422
CREATED:20240412T190349Z
LAST-MODIFIED:20240412T190349Z
UID:10000243-1719093600-1719093600@portholemaine.com
SUMMARY:Quiet Riot Act
DESCRIPTION:Live music with The Quiet Riot Act
URL:https://portholemaine.com/event/quiet-riot-act-8/
CATEGORIES:Entertainment,Live Music,Music
END:VEVENT
BEGIN:VEVENT
DTSTART;TZID=Europe/Moscow:20240622T020000
DTEND;TZID=Europe/Moscow:20240622T020000
DTSTAMP:20260423T073422
CREATED:20240412T190246Z
LAST-MODIFIED:20240412T190246Z
UID:10000242-1719021600-1719021600@portholemaine.com
SUMMARY:After Party
DESCRIPTION:Live music with After Party
URL:https://portholemaine.com/event/the-tenderbellies/
CATEGORIES:Entertainment,Live Music,Music
END:VEVENT
BEGIN:VEVENT
DTSTART;TZID=Europe/Moscow:20240621T220000
DTEND;TZID=Europe/Moscow:20240621T220000
DTSTAMP:20260423T073422
CREATED:20240603T143928Z
LAST-MODIFIED:20240603T143928Z
UID:10000327-1719007200-1719007200@portholemaine.com
SUMMARY:Don Campbell
DESCRIPTION:Live music with Don Campbell
URL:https://portholemaine.com/event/runnin-kind-duo/
CATEGORIES:Entertainment,Live Music,Music
END:VEVENT
BEGIN:VEVENT
DTSTART;TZID=Europe/Moscow:20240621T010000
DTEND;TZID=Europe/Moscow:20240621T010000
DTSTAMP:20260423T073422
CREATED:20240412T190048Z
LAST-MODIFIED:20240412T190048Z
UID:10000241-1718931600-1718931600@portholemaine.com
SUMMARY:Misspent Youth
DESCRIPTION:Live music with Misspent Youth
URL:https://portholemaine.com/event/misspent-youth-4/
CATEGORIES:Entertainment,Live Music,Music
END:VEVENT
BEGIN:VEVENT
DTSTART;TZID=Europe/Moscow:20240620T010000
DTEND;TZID=Europe/Moscow:20240620T010000
DTSTAMP:20260423T073422
CREATED:20240412T185101Z
LAST-MODIFIED:20240412T185101Z
UID:10000240-1718845200-1718845200@portholemaine.com
SUMMARY:Toby McAllister
DESCRIPTION:Live music with Toby McAllister
URL:https://portholemaine.com/event/toby-mcallister-2/
CATEGORIES:Entertainment,Live Music,Music
END:VEVENT
BEGIN:VEVENT
DTSTART;TZID=Europe/Moscow:20240619T010000
DTEND;TZID=Europe/Moscow:20240619T010000
DTSTAMP:20260423T073422
CREATED:20240412T184945Z
LAST-MODIFIED:20240412T184945Z
UID:10000239-1718758800-1718758800@portholemaine.com
SUMMARY:Chase Jobe & The Runnin' Kind
DESCRIPTION:Live music with Chase Jobe & The Runnin’ Kind
URL:https://portholemaine.com/event/chase-jobe-the-runnin-kind-4/
CATEGORIES:Entertainment,Live Music,Music
END:VEVENT
BEGIN:VEVENT
DTSTART;TZID=Europe/Moscow:20240618T080000
DTEND;TZID=Europe/Moscow:20240618T170000
DTSTAMP:20260423T073422
CREATED:20240624T123542Z
LAST-MODIFIED:20240624T123640Z
UID:10000001-1718697600-1718730000@portholemaine.com
SUMMARY:Chase Jobe & The Runnin’ Kind
DESCRIPTION:Live music with Chase Jobe & The Runnin’ Kind
URL:https://portholemaine.com/event/chase-jobe-the-runnin-kind/
LOCATION:The Porthole\, 20 Custom House Wharf\, Portland\, ME\, 04101
CATEGORIES:Entertainment,Live Music,Music
ORGANIZER;CN="Porthole Restaurant & Pub":MAILTO:gm@portholemaine.commaine.com
END:VEVENT
BEGIN:VEVENT
DTSTART;TZID=Europe/Moscow:20240618T010000
DTEND;TZID=Europe/Moscow:20240618T010000
DTSTAMP:20260423T073422
CREATED:20240412T184831Z
LAST-MODIFIED:20240412T184831Z
UID:10000238-1718672400-1718672400@portholemaine.com
SUMMARY:Henry Lowery
DESCRIPTION:Live music with Henry Lowery
URL:https://portholemaine.com/event/henry-lowery-9/
CATEGORIES:Entertainment,Live Music,Music
END:VEVENT
BEGIN:VEVENT
DTSTART;TZID=Europe/Moscow:20240617T010000
DTEND;TZID=Europe/Moscow:20240617T010000
DTSTAMP:20260423T073422
CREATED:20240603T113400Z
LAST-MODIFIED:20240603T113400Z
UID:10000309-1718586000-1718586000@portholemaine.com
SUMMARY:Chase Jobe & The Runnin' Kind
DESCRIPTION:Live music with Chase Jobe & The Runnin’ Kind
URL:https://portholemaine.com/event/chase-jobe-the-runnin-kind-14/
CATEGORIES:Entertainment,Live Music,Music
END:VEVENT
END:VCALENDAR