BEGIN:VCALENDAR
VERSION:2.0
PRODID:-//Porthole - ECPv6.10.2//NONSGML v1.0//EN
CALSCALE:GREGORIAN
METHOD:PUBLISH
X-WR-CALNAME:Porthole
X-ORIGINAL-URL:https://portholemaine.com
X-WR-CALDESC:Events for Porthole
REFRESH-INTERVAL;VALUE=DURATION:PT1H
X-Robots-Tag:noindex
X-PUBLISHED-TTL:PT1H
BEGIN:VTIMEZONE
TZID:Europe/Moscow
BEGIN:STANDARD
TZOFFSETFROM:+0300
TZOFFSETTO:+0300
TZNAME:MSK
DTSTART:20240101T000000
END:STANDARD
END:VTIMEZONE
BEGIN:VEVENT
DTSTART;TZID=Europe/Moscow:20240613T010000
DTEND;TZID=Europe/Moscow:20240613T010000
DTSTAMP:20260423T122812
CREATED:20240412T184103Z
LAST-MODIFIED:20240412T184103Z
UID:10000233-1718240400-1718240400@portholemaine.com
SUMMARY:Justin Carver
DESCRIPTION:Live music with Justin Carver
URL:https://portholemaine.com/event/justin-carver-11/
CATEGORIES:Entertainment,Live Music,Music
END:VEVENT
BEGIN:VEVENT
DTSTART;TZID=Europe/Moscow:20240611T230000
DTEND;TZID=Europe/Moscow:20240611T230000
DTSTAMP:20260423T122812
CREATED:20240603T112356Z
LAST-MODIFIED:20240603T112356Z
UID:10000303-1718146800-1718146800@portholemaine.com
SUMMARY:Runnin' Kind Trio
DESCRIPTION:Live music with the Runnin’ Kind Trio
URL:https://portholemaine.com/event/runnin-kind-trio/
CATEGORIES:Entertainment,Live Music,Music
END:VEVENT
BEGIN:VEVENT
DTSTART;TZID=Europe/Moscow:20240610T230000
DTEND;TZID=Europe/Moscow:20240610T230000
DTSTAMP:20260423T122812
CREATED:20240603T112239Z
LAST-MODIFIED:20240603T112239Z
UID:10000302-1718060400-1718060400@portholemaine.com
SUMMARY:Tyler Dhone
DESCRIPTION:Live music with Tyler Dhone
URL:https://portholemaine.com/event/tyler-dhone/
CATEGORIES:Entertainment,Live Music,Music
END:VEVENT
BEGIN:VEVENT
DTSTART;TZID=Europe/Moscow:20240609T210000
DTEND;TZID=Europe/Moscow:20240609T210000
DTSTAMP:20260423T122812
CREATED:20240412T184003Z
LAST-MODIFIED:20240412T184003Z
UID:10000232-1717966800-1717966800@portholemaine.com
SUMMARY:Adriya Joy
DESCRIPTION:Live music with Adriya Joy
URL:https://portholemaine.com/event/adriya-joy-2/
CATEGORIES:Entertainment,Live Music,Music
END:VEVENT
BEGIN:VEVENT
DTSTART;TZID=Europe/Moscow:20240609T010000
DTEND;TZID=Europe/Moscow:20240609T010000
DTSTAMP:20260423T122812
CREATED:20240412T183818Z
LAST-MODIFIED:20240412T183818Z
UID:10000231-1717894800-1717894800@portholemaine.com
SUMMARY:Bazinga!
DESCRIPTION:Live music with Bazinga!
URL:https://portholemaine.com/event/bazinga-2/
CATEGORIES:Entertainment,Live Music,Music
END:VEVENT
BEGIN:VEVENT
DTSTART;TZID=Europe/Moscow:20240608T200000
DTEND;TZID=Europe/Moscow:20240608T200000
DTSTAMP:20260423T122812
CREATED:20240412T183546Z
LAST-MODIFIED:20240412T183546Z
UID:10000230-1717876800-1717876800@portholemaine.com
SUMMARY:The Inflatables
DESCRIPTION:Live music with The Inflatables
URL:https://portholemaine.com/event/the-inflatables-2/
CATEGORIES:Entertainment,Live Music,Music
END:VEVENT
BEGIN:VEVENT
DTSTART;TZID=Europe/Moscow:20240608T010000
DTEND;TZID=Europe/Moscow:20240608T010000
DTSTAMP:20260423T122812
CREATED:20240412T183408Z
LAST-MODIFIED:20240412T183408Z
UID:10000229-1717808400-1717808400@portholemaine.com
SUMMARY:Hello Newman
DESCRIPTION:Live music with Hello Newman
URL:https://portholemaine.com/event/hello-newman-6/
CATEGORIES:Entertainment,Live Music,Music
END:VEVENT
BEGIN:VEVENT
DTSTART;TZID=Europe/Moscow:20240606T230000
DTEND;TZID=Europe/Moscow:20240606T230000
DTSTAMP:20260423T122812
CREATED:20240603T110733Z
LAST-MODIFIED:20240603T110733Z
UID:10000301-1717714800-1717714800@portholemaine.com
SUMMARY:Barney Martin
DESCRIPTION:Live music with Barney Martin
URL:https://portholemaine.com/event/barney-martin/
CATEGORIES:Entertainment,Live Music,Music
END:VEVENT
BEGIN:VEVENT
DTSTART;TZID=Europe/Moscow:20240605T230000
DTEND;TZID=Europe/Moscow:20240605T230000
DTSTAMP:20260423T122812
CREATED:20240412T183257Z
LAST-MODIFIED:20240412T183257Z
UID:10000228-1717628400-1717628400@portholemaine.com
SUMMARY:Quiet Riot Act
DESCRIPTION:Live music with Quiet Riot Act
URL:https://portholemaine.com/event/quiet-riot-act-7/
CATEGORIES:Entertainment,Live Music,Music
END:VEVENT
BEGIN:VEVENT
DTSTART;TZID=Europe/Moscow:20240604T230000
DTEND;TZID=Europe/Moscow:20240604T230000
DTSTAMP:20260423T122812
CREATED:20240603T110602Z
LAST-MODIFIED:20240603T110602Z
UID:10000300-1717542000-1717542000@portholemaine.com
SUMMARY:MEGS
DESCRIPTION:Live music with MEGS
URL:https://portholemaine.com/event/megs-6/
CATEGORIES:Entertainment,Live Music,Music
END:VEVENT
BEGIN:VEVENT
DTSTART;TZID=Europe/Moscow:20240603T230000
DTEND;TZID=Europe/Moscow:20240603T230000
DTSTAMP:20260423T122812
CREATED:20240603T110509Z
LAST-MODIFIED:20240603T110509Z
UID:10000299-1717455600-1717455600@portholemaine.com
SUMMARY:Jonah Bruce
DESCRIPTION:Live music with Jonah Bruce
URL:https://portholemaine.com/event/jonah-bruce-7/
CATEGORIES:Entertainment,Live Music,Music
END:VEVENT
BEGIN:VEVENT
DTSTART;TZID=Europe/Moscow:20240602T210000
DTEND;TZID=Europe/Moscow:20240602T210000
DTSTAMP:20260423T122812
CREATED:20240412T182516Z
LAST-MODIFIED:20240412T182516Z
UID:10000227-1717362000-1717362000@portholemaine.com
SUMMARY:Boba Funk
DESCRIPTION:Live music with Boba Funk
URL:https://portholemaine.com/event/boba-funk-4/
CATEGORIES:Entertainment,Live Music,Music
END:VEVENT
BEGIN:VEVENT
DTSTART;TZID=Europe/Moscow:20240602T010000
DTEND;TZID=Europe/Moscow:20240602T010000
DTSTAMP:20260423T122812
CREATED:20240412T182309Z
LAST-MODIFIED:20240412T182309Z
UID:10000226-1717290000-1717290000@portholemaine.com
SUMMARY:Bonnie & The Cats
DESCRIPTION:Live music with Bonnie & The Cats
URL:https://portholemaine.com/event/bonnie-the-cats-4/
CATEGORIES:Entertainment,Live Music,Music
END:VEVENT
BEGIN:VEVENT
DTSTART;TZID=Europe/Moscow:20240601T200000
DTEND;TZID=Europe/Moscow:20240601T200000
DTSTAMP:20260423T122812
CREATED:20240412T182206Z
LAST-MODIFIED:20240412T182206Z
UID:10000225-1717272000-1717272000@portholemaine.com
SUMMARY:The Cover Tones
DESCRIPTION:Live music with The Cover Tones
URL:https://portholemaine.com/event/the-cover-tones/
CATEGORIES:Entertainment,Live Music,Music
END:VEVENT
BEGIN:VEVENT
DTSTART;TZID=Europe/Moscow:20240601T010000
DTEND;TZID=Europe/Moscow:20240601T010000
DTSTAMP:20260423T122812
CREATED:20240412T180418Z
LAST-MODIFIED:20240412T180418Z
UID:10000224-1717203600-1717203600@portholemaine.com
SUMMARY:Northern Groove
DESCRIPTION:Live music with Northern Groove
URL:https://portholemaine.com/event/northern-groove-5/
CATEGORIES:Entertainment,Live Music,Music
END:VEVENT
BEGIN:VEVENT
DTSTART;TZID=Europe/Moscow:20240531T220000
DTEND;TZID=Europe/Moscow:20240531T220000
DTSTAMP:20260423T122812
CREATED:20240527T123142Z
LAST-MODIFIED:20240527T123142Z
UID:10000266-1717192800-1717192800@portholemaine.com
SUMMARY:DJ Jacky Treehorn
DESCRIPTION:Summer sounds with DJ Jacky Treehorn
URL:https://portholemaine.com/event/dj-jacky-treehorn-12/
CATEGORIES:Entertainment,Live Music,Music
END:VEVENT
BEGIN:VEVENT
DTSTART;TZID=Europe/Moscow:20240530T230000
DTEND;TZID=Europe/Moscow:20240530T230000
DTSTAMP:20260423T122812
CREATED:20240527T123051Z
LAST-MODIFIED:20240527T123051Z
UID:10000265-1717110000-1717110000@portholemaine.com
SUMMARY:Justin Carver
DESCRIPTION:Live music with Justin Carver
URL:https://portholemaine.com/event/justin-carver-13/
CATEGORIES:Entertainment,Live Music,Music
END:VEVENT
BEGIN:VEVENT
DTSTART;TZID=Europe/Moscow:20240528T230000
DTEND;TZID=Europe/Moscow:20240528T230000
DTSTAMP:20260423T122812
CREATED:20240527T122804Z
LAST-MODIFIED:20240527T122804Z
UID:10000264-1716937200-1716937200@portholemaine.com
SUMMARY:Uriah Carver
DESCRIPTION:Live music with Uriah Carver
URL:https://portholemaine.com/event/uriah-carver/
CATEGORIES:Entertainment,Live Music,Music
END:VEVENT
BEGIN:VEVENT
DTSTART;TZID=Europe/Moscow:20240527T010000
DTEND;TZID=Europe/Moscow:20240527T010000
DTSTAMP:20260423T122812
CREATED:20240412T180206Z
LAST-MODIFIED:20240412T180206Z
UID:10000223-1716771600-1716771600@portholemaine.com
SUMMARY:Christie Ray Grant Band
DESCRIPTION:Live music with Christie Ray Grant Band
URL:https://portholemaine.com/event/christie-ray-band/
CATEGORIES:Entertainment,Live Music,Music
END:VEVENT
BEGIN:VEVENT
DTSTART;TZID=Europe/Moscow:20240526T210000
DTEND;TZID=Europe/Moscow:20240526T210000
DTSTAMP:20260423T122812
CREATED:20240412T180106Z
LAST-MODIFIED:20240412T180106Z
UID:10000222-1716757200-1716757200@portholemaine.com
SUMMARY:Stolen Mojo
DESCRIPTION:Live music with Stolen Mojo
URL:https://portholemaine.com/event/stolen-mojo/
CATEGORIES:Entertainment,Live Music,Music
END:VEVENT
BEGIN:VEVENT
DTSTART;TZID=Europe/Moscow:20240526T010000
DTEND;TZID=Europe/Moscow:20240526T010000
DTSTAMP:20260423T122812
CREATED:20240412T180010Z
LAST-MODIFIED:20240412T180010Z
UID:10000221-1716685200-1716685200@portholemaine.com
SUMMARY:DJ Father Tish
DESCRIPTION:Dance on the deck with DJ Father Tish
URL:https://portholemaine.com/event/dj-father-tish/
CATEGORIES:Entertainment,Live Music,Music
END:VEVENT
BEGIN:VEVENT
DTSTART;TZID=Europe/Moscow:20240525T210000
DTEND;TZID=Europe/Moscow:20240525T210000
DTSTAMP:20260423T122812
CREATED:20240412T174826Z
LAST-MODIFIED:20240412T174826Z
UID:10000220-1716670800-1716670800@portholemaine.com
SUMMARY:Peaked in High School
DESCRIPTION:Live music with Peaked in High School
URL:https://portholemaine.com/event/peaked-in-high-school/
CATEGORIES:Entertainment,Live Music,Music
END:VEVENT
BEGIN:VEVENT
DTSTART;TZID=Europe/Moscow:20240525T010000
DTEND;TZID=Europe/Moscow:20240525T010000
DTSTAMP:20260423T122812
CREATED:20240412T174731Z
LAST-MODIFIED:20240412T174731Z
UID:10000219-1716598800-1716598800@portholemaine.com
SUMMARY:Darren Bessette
DESCRIPTION:Live music with Darren Bessette
URL:https://portholemaine.com/event/darren-bessette-3/
CATEGORIES:Entertainment,Live Music,Music
END:VEVENT
BEGIN:VEVENT
DTSTART;TZID=Europe/Moscow:20240524T220000
DTEND;TZID=Europe/Moscow:20240524T220000
DTSTAMP:20260423T122812
CREATED:20240521T110551Z
LAST-MODIFIED:20240521T110551Z
UID:10000262-1716588000-1716588000@portholemaine.com
SUMMARY:Big Deck Fridays with DJ Jacky Treehorn
DESCRIPTION:Summer sounds with DJ Jacky Treehorn
URL:https://portholemaine.com/event/big-deck-fridays-with-dj-jacky-treehorn/
CATEGORIES:Entertainment,Music
END:VEVENT
BEGIN:VEVENT
DTSTART;TZID=Europe/Moscow:20240523T230000
DTEND;TZID=Europe/Moscow:20240523T230000
DTSTAMP:20260423T122812
CREATED:20240522T094211Z
LAST-MODIFIED:20240522T094211Z
UID:10000263-1716505200-1716505200@portholemaine.com
SUMMARY:Shelley Coombs
DESCRIPTION:Live music with Shelley Coombs
URL:https://portholemaine.com/event/shelley-coombs/
CATEGORIES:Entertainment,Live Music,Music
END:VEVENT
BEGIN:VEVENT
DTSTART;TZID=Europe/Moscow:20240522T230000
DTEND;TZID=Europe/Moscow:20240522T230000
DTSTAMP:20260423T122812
CREATED:20240520T142710Z
LAST-MODIFIED:20240520T142710Z
UID:10000261-1716418800-1716418800@portholemaine.com
SUMMARY:MEGS
DESCRIPTION:Live music with MEGS
URL:https://portholemaine.com/event/megs-5/
CATEGORIES:Entertainment,Live Music,Music
END:VEVENT
BEGIN:VEVENT
DTSTART;TZID=Europe/Moscow:20240521T230000
DTEND;TZID=Europe/Moscow:20240521T230000
DTSTAMP:20260423T122812
CREATED:20240520T073442Z
LAST-MODIFIED:20240520T073442Z
UID:10000260-1716332400-1716332400@portholemaine.com
SUMMARY:Justin Carver
DESCRIPTION:Live music with Justin Carver
URL:https://portholemaine.com/event/justin-carver-12/
CATEGORIES:Entertainment,Live Music,Music
END:VEVENT
BEGIN:VEVENT
DTSTART;TZID=Europe/Moscow:20240520T230000
DTEND;TZID=Europe/Moscow:20240520T230000
DTSTAMP:20260423T122812
CREATED:20240520T073401Z
LAST-MODIFIED:20240520T073401Z
UID:10000259-1716246000-1716246000@portholemaine.com
SUMMARY:The Runnin' Kind Duo
DESCRIPTION:Live music with The Runnin’ Kind Duo
URL:https://portholemaine.com/event/the-runnin-kind-duo/
CATEGORIES:Entertainment,Live Music,Music
END:VEVENT
BEGIN:VEVENT
DTSTART;TZID=Europe/Moscow:20240519T210000
DTEND;TZID=Europe/Moscow:20240519T210000
DTSTAMP:20260423T122812
CREATED:20240412T134435Z
LAST-MODIFIED:20240412T134435Z
UID:10000218-1716152400-1716152400@portholemaine.com
SUMMARY:DJ Jams Frrever
DESCRIPTION:Music and tunes with DJ Jams Frrever
URL:https://portholemaine.com/event/dj-jams-frrever-2/
CATEGORIES:Entertainment,Live Music,Music
END:VEVENT
BEGIN:VEVENT
DTSTART;TZID=Europe/Moscow:20240519T010000
DTEND;TZID=Europe/Moscow:20240519T010000
DTSTAMP:20260423T122812
CREATED:20240412T134244Z
LAST-MODIFIED:20240412T134244Z
UID:10000217-1716080400-1716080400@portholemaine.com
SUMMARY:13Black
DESCRIPTION:Live music with 13Black
URL:https://portholemaine.com/event/13black/
CATEGORIES:Entertainment,Live Music,Music
END:VEVENT
END:VCALENDAR