BEGIN:VCALENDAR
VERSION:2.0
PRODID:-//Porthole - ECPv6.10.2//NONSGML v1.0//EN
CALSCALE:GREGORIAN
METHOD:PUBLISH
X-ORIGINAL-URL:https://portholemaine.com
X-WR-CALDESC:Events for Porthole
REFRESH-INTERVAL;VALUE=DURATION:PT1H
X-Robots-Tag:noindex
X-PUBLISHED-TTL:PT1H
BEGIN:VTIMEZONE
TZID:Europe/Moscow
BEGIN:STANDARD
TZOFFSETFROM:+0300
TZOFFSETTO:+0300
TZNAME:MSK
DTSTART:20240101T000000
END:STANDARD
END:VTIMEZONE
BEGIN:VEVENT
DTSTART;TZID=Europe/Moscow:20250705T130000
DTEND;TZID=Europe/Moscow:20250705T130000
DTSTAMP:20260422T152030
CREATED:20240719T223544Z
LAST-MODIFIED:20250630T200423Z
UID:10000382-1751720400-1751720400@portholemaine.com
SUMMARY:Misspent Youth
DESCRIPTION:Live music with Misspent Youth
URL:https://portholemaine.com/event/misspent-youth-5/
LOCATION:The Porthole\, 20 Custom House Wharf\, Portland\, ME\, 04101
CATEGORIES:Entertainment,Live Music,Music
ORGANIZER;CN="Porthole Restaurant & Pub":MAILTO:gm@portholemaine.commaine.com
END:VEVENT
BEGIN:VEVENT
DTSTART;TZID=Europe/Moscow:20250703T160000
DTEND;TZID=Europe/Moscow:20250703T160000
DTSTAMP:20260422T152030
CREATED:20250630T195423Z
LAST-MODIFIED:20250630T195423Z
UID:10000741-1751558400-1751558400@portholemaine.com
SUMMARY:Happy Hour with Jacky Treehorn
DESCRIPTION:Happy Hour with Jacky Treehorn
URL:https://portholemaine.com/event/happy-hour-with-jacky-treehorn-2/
CATEGORIES:Entertainment
END:VEVENT
BEGIN:VEVENT
DTSTART;TZID=Europe/Moscow:20250626T150000
DTEND;TZID=Europe/Moscow:20250626T150000
DTSTAMP:20260422T152030
CREATED:20250415T183817Z
LAST-MODIFIED:20250415T194537Z
UID:10000740-1750950000-1750950000@portholemaine.com
SUMMARY:Happy Hour with Jacky Treehorn
DESCRIPTION:Happy Hour with Jacky Treehorn
URL:https://portholemaine.com/event/happy-hour-with-jacky-treehorn/2025-06-26/
CATEGORIES:Entertainment
END:VEVENT
BEGIN:VEVENT
DTSTART;TZID=Europe/Moscow:20250619T150000
DTEND;TZID=Europe/Moscow:20250619T150000
DTSTAMP:20260422T152030
CREATED:20250415T183817Z
LAST-MODIFIED:20250415T194537Z
UID:10000739-1750345200-1750345200@portholemaine.com
SUMMARY:Happy Hour with Jacky Treehorn
DESCRIPTION:Happy Hour with Jacky Treehorn
URL:https://portholemaine.com/event/happy-hour-with-jacky-treehorn/2025-06-19/
CATEGORIES:Entertainment
END:VEVENT
BEGIN:VEVENT
DTSTART;TZID=Europe/Moscow:20250612T150000
DTEND;TZID=Europe/Moscow:20250612T150000
DTSTAMP:20260422T152030
CREATED:20250415T183817Z
LAST-MODIFIED:20250415T194537Z
UID:10000738-1749740400-1749740400@portholemaine.com
SUMMARY:Happy Hour with Jacky Treehorn
DESCRIPTION:Happy Hour with Jacky Treehorn
URL:https://portholemaine.com/event/happy-hour-with-jacky-treehorn/2025-06-12/
CATEGORIES:Entertainment
END:VEVENT
BEGIN:VEVENT
DTSTART;TZID=Europe/Moscow:20250605T150000
DTEND;TZID=Europe/Moscow:20250605T150000
DTSTAMP:20260422T152030
CREATED:20250415T183817Z
LAST-MODIFIED:20250415T194537Z
UID:10000737-1749135600-1749135600@portholemaine.com
SUMMARY:Happy Hour with Jacky Treehorn
DESCRIPTION:Happy Hour with Jacky Treehorn
URL:https://portholemaine.com/event/happy-hour-with-jacky-treehorn/2025-06-05/
CATEGORIES:Entertainment
END:VEVENT
BEGIN:VEVENT
DTSTART;TZID=Europe/Moscow:20250529T150000
DTEND;TZID=Europe/Moscow:20250529T150000
DTSTAMP:20260422T152030
CREATED:20250415T183817Z
LAST-MODIFIED:20250415T194537Z
UID:10000736-1748530800-1748530800@portholemaine.com
SUMMARY:Happy Hour with Jacky Treehorn
DESCRIPTION:Happy Hour with Jacky Treehorn
URL:https://portholemaine.com/event/happy-hour-with-jacky-treehorn/2025-05-29/
CATEGORIES:Entertainment
END:VEVENT
BEGIN:VEVENT
DTSTART;TZID=Europe/Moscow:20250524T180000
DTEND;TZID=Europe/Moscow:20250524T180000
DTSTAMP:20260422T152030
CREATED:20250320T163254Z
LAST-MODIFIED:20250320T164601Z
UID:10000697-1748109600-1748109600@portholemaine.com
SUMMARY:DJ Tish
DESCRIPTION:
URL:https://portholemaine.com/event/dj-tish/
LOCATION:The Porthole\, 20 Custom House Wharf\, Portland\, ME\, 04101
CATEGORIES:Entertainment
ORGANIZER;CN="Porthole Restaurant & Pub":MAILTO:gm@portholemaine.commaine.com
END:VEVENT
BEGIN:VEVENT
DTSTART;TZID=Europe/Moscow:20250522T150000
DTEND;TZID=Europe/Moscow:20250522T150000
DTSTAMP:20260422T152030
CREATED:20250415T183817Z
LAST-MODIFIED:20250415T194537Z
UID:10000735-1747926000-1747926000@portholemaine.com
SUMMARY:Happy Hour with Jacky Treehorn
DESCRIPTION:Happy Hour with Jacky Treehorn
URL:https://portholemaine.com/event/happy-hour-with-jacky-treehorn/2025-05-22/
CATEGORIES:Entertainment
END:VEVENT
BEGIN:VEVENT
DTSTART;TZID=Europe/Moscow:20250504T160000
DTEND;TZID=Europe/Moscow:20250504T160000
DTSTAMP:20260422T152031
CREATED:20250311T214003Z
LAST-MODIFIED:20250311T214003Z
UID:10000666-1746374400-1746374400@portholemaine.com
SUMMARY:Phil Allen
DESCRIPTION:Live music with Phil Allen
URL:https://portholemaine.com/event/phil-allen/
LOCATION:The Porthole\, 20 Custom House Wharf\, Portland\, ME\, 04101
CATEGORIES:Entertainment,Live Music
ORGANIZER;CN="Porthole Restaurant & Pub":MAILTO:gm@portholemaine.commaine.com
END:VEVENT
BEGIN:VEVENT
DTSTART;TZID=Europe/Moscow:20250504T130000
DTEND;TZID=Europe/Moscow:20250504T130000
DTSTAMP:20260422T152031
CREATED:20250311T213902Z
LAST-MODIFIED:20250311T213902Z
UID:10000665-1746363600-1746363600@portholemaine.com
SUMMARY:Boba Funk
DESCRIPTION:Live music with Boba Funk
URL:https://portholemaine.com/event/boba-funk-7/
LOCATION:The Porthole\, 20 Custom House Wharf\, Portland\, ME\, 04101
CATEGORIES:Entertainment,Live Music
ORGANIZER;CN="Porthole Restaurant & Pub":MAILTO:gm@portholemaine.commaine.com
END:VEVENT
BEGIN:VEVENT
DTSTART;TZID=Europe/Moscow:20250503T180000
DTEND;TZID=Europe/Moscow:20250503T180000
DTSTAMP:20260422T152031
CREATED:20250311T213616Z
LAST-MODIFIED:20250311T213616Z
UID:10000664-1746295200-1746295200@portholemaine.com
SUMMARY:Matty & The Penders
DESCRIPTION:Live music with Matty & The Penders
URL:https://portholemaine.com/event/matty-the-penders/
LOCATION:The Porthole\, 20 Custom House Wharf\, Portland\, ME\, 04101
CATEGORIES:Entertainment,Live Music
ORGANIZER;CN="Porthole Restaurant & Pub":MAILTO:gm@portholemaine.commaine.com
END:VEVENT
BEGIN:VEVENT
DTSTART;TZID=Europe/Moscow:20250503T160000
DTEND;TZID=Europe/Moscow:20250503T160000
DTSTAMP:20260422T152031
CREATED:20250311T213522Z
LAST-MODIFIED:20250311T213522Z
UID:10000663-1746288000-1746288000@portholemaine.com
SUMMARY:Caleb Jolley
DESCRIPTION:Live music with Caleb Jolley
URL:https://portholemaine.com/event/caleb-jolley/
LOCATION:The Porthole\, 20 Custom House Wharf\, Portland\, ME\, 04101
CATEGORIES:Entertainment,Live Music
ORGANIZER;CN="Porthole Restaurant & Pub":MAILTO:gm@portholemaine.commaine.com
END:VEVENT
BEGIN:VEVENT
DTSTART;TZID=Europe/Moscow:20250503T130000
DTEND;TZID=Europe/Moscow:20250503T130000
DTSTAMP:20260422T152031
CREATED:20250311T213143Z
LAST-MODIFIED:20250311T213143Z
UID:10000662-1746277200-1746277200@portholemaine.com
SUMMARY:Something Stupid
DESCRIPTION:Live music with Something Stupid
URL:https://portholemaine.com/event/something-stupid/
LOCATION:The Porthole\, 20 Custom House Wharf\, Portland\, ME\, 04101
CATEGORIES:Entertainment,Live Music
ORGANIZER;CN="Porthole Restaurant & Pub":MAILTO:gm@portholemaine.commaine.com
END:VEVENT
BEGIN:VEVENT
DTSTART;TZID=Europe/Moscow:20250502T180000
DTEND;TZID=Europe/Moscow:20250502T180000
DTSTAMP:20260422T152031
CREATED:20250311T213017Z
LAST-MODIFIED:20250311T213017Z
UID:10000661-1746208800-1746208800@portholemaine.com
SUMMARY:After Dark AF
DESCRIPTION:Live music with our house party band After Dark\, featuring Andi Fawcett!
URL:https://portholemaine.com/event/after-dark-af-2/
LOCATION:The Porthole\, 20 Custom House Wharf\, Portland\, ME\, 04101
CATEGORIES:Entertainment,Live Music
ORGANIZER;CN="Porthole Restaurant & Pub":MAILTO:gm@portholemaine.commaine.com
END:VEVENT
BEGIN:VEVENT
DTSTART;TZID=Europe/Moscow:20250427T130000
DTEND;TZID=Europe/Moscow:20250427T130000
DTSTAMP:20260422T152031
CREATED:20250311T215100Z
LAST-MODIFIED:20250311T161857Z
UID:10000671-1745758800-1745758800@portholemaine.com
SUMMARY:Under the Covers
DESCRIPTION:Live music with Under the Covers
URL:https://portholemaine.com/event/under-the-covers-3/
LOCATION:The Porthole\, 20 Custom House Wharf\, Portland\, ME\, 04101
CATEGORIES:Entertainment,Live Music
ORGANIZER;CN="Porthole Restaurant & Pub":MAILTO:gm@portholemaine.commaine.com
END:VEVENT
BEGIN:VEVENT
DTSTART;TZID=Europe/Moscow:20250426T180000
DTEND;TZID=Europe/Moscow:20250426T180000
DTSTAMP:20260422T152031
CREATED:20250311T214905Z
LAST-MODIFIED:20250421T152431Z
UID:10000670-1745690400-1745690400@portholemaine.com
SUMMARY:After Dark
DESCRIPTION:Live music with After Dark!
URL:https://portholemaine.com/event/sugarbox-12/
LOCATION:The Porthole\, 20 Custom House Wharf\, Portland\, ME\, 04101
CATEGORIES:Entertainment,Live Music
ORGANIZER;CN="Porthole Restaurant & Pub":MAILTO:gm@portholemaine.commaine.com
END:VEVENT
BEGIN:VEVENT
DTSTART;TZID=Europe/Moscow:20250426T130000
DTEND;TZID=Europe/Moscow:20250426T130000
DTSTAMP:20260422T152031
CREATED:20250311T214806Z
LAST-MODIFIED:20250421T153039Z
UID:10000669-1745672400-1745672400@portholemaine.com
SUMMARY:Justin Carver
DESCRIPTION:Live music with Justin Carver
URL:https://portholemaine.com/event/andi-fawcett-duo/
LOCATION:The Porthole\, 20 Custom House Wharf\, Portland\, ME\, 04101
CATEGORIES:Entertainment,Live Music
ORGANIZER;CN="Porthole Restaurant & Pub":MAILTO:gm@portholemaine.commaine.com
END:VEVENT
BEGIN:VEVENT
DTSTART;TZID=Europe/Moscow:20250425T180000
DTEND;TZID=Europe/Moscow:20250425T180000
DTSTAMP:20260422T152031
CREATED:20250311T214538Z
LAST-MODIFIED:20250421T152911Z
UID:10000668-1745604000-1745604000@portholemaine.com
SUMMARY:Andi Fawcett & Friends
DESCRIPTION:Live music with Andi Fawcett!
URL:https://portholemaine.com/event/after-dark-af-3/
LOCATION:The Porthole\, 20 Custom House Wharf\, Portland\, ME\, 04101
CATEGORIES:Entertainment,Live Music
ORGANIZER;CN="Porthole Restaurant & Pub":MAILTO:gm@portholemaine.commaine.com
END:VEVENT
BEGIN:VEVENT
DTSTART;TZID=Europe/Moscow:20250404T180000
DTEND;TZID=Europe/Moscow:20250404T210000
DTSTAMP:20260422T152031
CREATED:20250321T074909Z
LAST-MODIFIED:20250321T080115Z
UID:10000704-1743789600-1743800400@portholemaine.com
SUMMARY:Spring Fling Party
DESCRIPTION:
URL:https://portholemaine.com/event/spring-fling-party/
LOCATION:The Porthole\, 20 Custom House Wharf\, Portland\, ME\, 04101
CATEGORIES:Entertainment
ORGANIZER;CN="Porthole Restaurant & Pub":MAILTO:gm@portholemaine.commaine.com
END:VEVENT
BEGIN:VEVENT
DTSTART;TZID=Europe/Moscow:20250315T200000
DTEND;TZID=Europe/Moscow:20250315T200000
DTSTAMP:20260422T152031
CREATED:20250124T191506Z
LAST-MODIFIED:20250124T191506Z
UID:10000584-1742068800-1742068800@portholemaine.com
SUMMARY:After Dark
DESCRIPTION:Live music with our house party band\, After Dark!
URL:https://portholemaine.com/event/after-dark/
LOCATION:The Porthole\, 20 Custom House Wharf\, Portland\, ME\, 04101
CATEGORIES:Entertainment,Live Music,Music
ORGANIZER;CN="Porthole Restaurant & Pub":MAILTO:gm@portholemaine.commaine.com
END:VEVENT
BEGIN:VEVENT
DTSTART;TZID=Europe/Moscow:20250314T210000
DTEND;TZID=Europe/Moscow:20250314T210000
DTSTAMP:20260422T152031
CREATED:20250124T191409Z
LAST-MODIFIED:20250124T191555Z
UID:10000583-1741986000-1741986000@portholemaine.com
SUMMARY:Jams Frrever
DESCRIPTION:Kick off St. Paddy’s Weekend at our dance party featuring Jams Frrever\, one of Portland’s favorite DJs!
URL:https://portholemaine.com/event/jams-frrever/
LOCATION:The Porthole\, 20 Custom House Wharf\, Portland\, ME\, 04101
CATEGORIES:Entertainment,Music
ORGANIZER;CN="Porthole Restaurant & Pub":MAILTO:gm@portholemaine.commaine.com
END:VEVENT
BEGIN:VEVENT
DTSTART;TZID=Europe/Moscow:20250222T190000
DTEND;TZID=Europe/Moscow:20250222T190000
DTSTAMP:20260422T152031
CREATED:20250205T174241Z
LAST-MODIFIED:20250222T133307Z
UID:10000585-1740250800-1740250800@portholemaine.com
SUMMARY:After Dark
DESCRIPTION:Saturday night music in Portland with our house party band\, After Dark!
URL:https://portholemaine.com/event/after-dark-af/
LOCATION:The Porthole\, 20 Custom House Wharf\, Portland\, ME\, 04101
CATEGORIES:Entertainment,Live Music,Music
END:VEVENT
BEGIN:VEVENT
DTSTART;TZID=Europe/Moscow:20240831T210000
DTEND;TZID=Europe/Moscow:20240831T210000
DTSTAMP:20260422T152031
CREATED:20240719T230023Z
LAST-MODIFIED:20240819T003044Z
UID:10000397-1725138000-1725138000@portholemaine.com
SUMMARY:Don Campbell Duo
DESCRIPTION:Live music with Don Campbell Duo
URL:https://portholemaine.com/event/don-campbell-3/
LOCATION:The Porthole\, 20 Custom House Wharf\, Portland\, ME\, 04101
CATEGORIES:Entertainment,Live Music,Music
ORGANIZER;CN="Porthole Restaurant & Pub":MAILTO:gm@portholemaine.commaine.com
END:VEVENT
BEGIN:VEVENT
DTSTART;TZID=Europe/Moscow:20240831T190000
DTEND;TZID=Europe/Moscow:20240831T190000
DTSTAMP:20260422T152031
CREATED:20240719T230057Z
LAST-MODIFIED:20240719T230057Z
UID:10000398-1725130800-1725130800@portholemaine.com
SUMMARY:Deck Dance Party with DJ Father Tish
DESCRIPTION:Deck Dance Party with DJ Father Tish
URL:https://portholemaine.com/event/deck-dance-party-with-dj-father-tish-9/
LOCATION:The Porthole\, 20 Custom House Wharf\, Portland\, ME\, 04101
CATEGORIES:Entertainment,Live Music,Music
END:VEVENT
BEGIN:VEVENT
DTSTART;TZID=Europe/Moscow:20240830T220000
DTEND;TZID=Europe/Moscow:20240830T220000
DTSTAMP:20260422T152031
CREATED:20240719T225810Z
LAST-MODIFIED:20240719T225810Z
UID:10000395-1725055200-1725055200@portholemaine.com
SUMMARY:The Runnin' Kind Duo
DESCRIPTION:Live music with The Runnin’ Kind Duo
URL:https://portholemaine.com/event/the-runnin-kind-duo-2/
LOCATION:The Porthole\, 20 Custom House Wharf\, Portland\, ME\, 04101
CATEGORIES:Entertainment,Live Music,Music
ORGANIZER;CN="Porthole Restaurant & Pub":MAILTO:gm@portholemaine.commaine.com
END:VEVENT
BEGIN:VEVENT
DTSTART;TZID=Europe/Moscow:20240830T190000
DTEND;TZID=Europe/Moscow:20240830T190000
DTSTAMP:20260422T152031
CREATED:20240719T225908Z
LAST-MODIFIED:20240719T225908Z
UID:10000396-1725044400-1725044400@portholemaine.com
SUMMARY:Northern Groove
DESCRIPTION:Live music with Northern Groove
URL:https://portholemaine.com/event/northern-groove-7/
CATEGORIES:Entertainment,Live Music,Music
END:VEVENT
BEGIN:VEVENT
DTSTART;TZID=Europe/Moscow:20240830T010000
DTEND;TZID=Europe/Moscow:20240830T010000
DTSTAMP:20260422T152031
CREATED:20240719T225705Z
LAST-MODIFIED:20240719T225705Z
UID:10000394-1724979600-1724979600@portholemaine.com
SUMMARY:Spyglass
DESCRIPTION:Live music with Spyglass
URL:https://portholemaine.com/event/spyglass-10/
LOCATION:The Porthole\, 20 Custom House Wharf\, Portland\, ME\, 04101
CATEGORIES:Entertainment,Live Music,Music
ORGANIZER;CN="Porthole Restaurant & Pub":MAILTO:gm@portholemaine.commaine.com
END:VEVENT
BEGIN:VEVENT
DTSTART;TZID=Europe/Moscow:20240829T210000
DTEND;TZID=Europe/Moscow:20240829T210000
DTSTAMP:20260422T152031
CREATED:20240719T225540Z
LAST-MODIFIED:20240719T225540Z
UID:10000393-1724965200-1724965200@portholemaine.com
SUMMARY:Tyler Dhone
DESCRIPTION:Live music with Tyler Dhone
URL:https://portholemaine.com/event/tyler-dhone-12/
LOCATION:The Porthole\, 20 Custom House Wharf\, Portland\, ME\, 04101
CATEGORIES:Entertainment,Live Music,Music
ORGANIZER;CN="Porthole Restaurant & Pub":MAILTO:gm@portholemaine.commaine.com
END:VEVENT
BEGIN:VEVENT
DTSTART;TZID=Europe/Moscow:20240829T010000
DTEND;TZID=Europe/Moscow:20240829T010000
DTSTAMP:20260422T152031
CREATED:20240719T225444Z
LAST-MODIFIED:20240819T002915Z
UID:10000392-1724893200-1724893200@portholemaine.com
SUMMARY:Tyler Dhone
DESCRIPTION:Live music with Tyler Dhone
URL:https://portholemaine.com/event/tyler-dhone-11/
LOCATION:The Porthole\, 20 Custom House Wharf\, Portland\, ME\, 04101
CATEGORIES:Entertainment,Live Music,Music
END:VEVENT
END:VCALENDAR