BEGIN:VCALENDAR
VERSION:2.0
PRODID:-//Porthole - ECPv6.10.2//NONSGML v1.0//EN
CALSCALE:GREGORIAN
METHOD:PUBLISH
X-WR-CALNAME:Porthole
X-ORIGINAL-URL:https://portholemaine.com
X-WR-CALDESC:Events for Porthole
REFRESH-INTERVAL;VALUE=DURATION:PT1H
X-Robots-Tag:noindex
X-PUBLISHED-TTL:PT1H
BEGIN:VTIMEZONE
TZID:Europe/Moscow
BEGIN:STANDARD
TZOFFSETFROM:+0300
TZOFFSETTO:+0300
TZNAME:MSK
DTSTART:20240101T000000
END:STANDARD
END:VTIMEZONE
BEGIN:VEVENT
DTSTART;TZID=Europe/Moscow:20240801T180000
DTEND;TZID=Europe/Moscow:20240801T180000
DTSTAMP:20260423T020113
CREATED:20240719T163934Z
LAST-MODIFIED:20240719T163934Z
UID:10000344-1722535200-1722535200@portholemaine.com
SUMMARY:The Few
DESCRIPTION:Live music with The Few
URL:https://portholemaine.com/event/the-few-14/
LOCATION:The Porthole\, 20 Custom House Wharf\, Portland\, ME\, 04101
CATEGORIES:Entertainment,Live Music,Music
ORGANIZER;CN="Porthole Restaurant & Pub":MAILTO:gm@portholemaine.commaine.com
END:VEVENT
BEGIN:VEVENT
DTSTART;TZID=Europe/Moscow:20240801T140000
DTEND;TZID=Europe/Moscow:20240801T140000
DTSTAMP:20260423T020113
CREATED:20240719T163838Z
LAST-MODIFIED:20240719T163838Z
UID:10000343-1722520800-1722520800@portholemaine.com
SUMMARY:Tyler Dhone
DESCRIPTION:Live music with Tyler Dhone
URL:https://portholemaine.com/event/tyler-dhone-6/
LOCATION:The Porthole\, 20 Custom House Wharf\, Portland\, ME\, 04101
CATEGORIES:Entertainment,Live Music,Music
ORGANIZER;CN="Porthole Restaurant & Pub":MAILTO:gm@portholemaine.commaine.com
END:VEVENT
BEGIN:VEVENT
DTSTART;TZID=Europe/Moscow:20240801T010000
DTEND;TZID=Europe/Moscow:20240801T010000
DTSTAMP:20260423T020113
CREATED:20240527T140537Z
LAST-MODIFIED:20240718T145450Z
UID:10000298-1722474000-1722474000@portholemaine.com
SUMMARY:MEGS
DESCRIPTION:Live music with MEGS
URL:https://portholemaine.com/event/megs-3/
LOCATION:Example Region
CATEGORIES:Entertainment,Live Music,Music
END:VEVENT
BEGIN:VEVENT
DTSTART;TZID=Europe/Moscow:20240731T010000
DTEND;TZID=Europe/Moscow:20240731T010000
DTSTAMP:20260423T020113
CREATED:20240603T113936Z
LAST-MODIFIED:20240603T113936Z
UID:10000313-1722387600-1722387600@portholemaine.com
SUMMARY:Chase Jobe & The Runnin' Kind
DESCRIPTION:Live music with Chase Jobe & The Runnin’ Kind
URL:https://portholemaine.com/event/chase-jobe-the-runnin-kind-16/
LOCATION:Example Region
CATEGORIES:Entertainment,Live Music,Music
END:VEVENT
BEGIN:VEVENT
DTSTART;TZID=Europe/Moscow:20240730T010000
DTEND;TZID=Europe/Moscow:20240730T010000
DTSTAMP:20260423T020113
CREATED:20240527T140458Z
LAST-MODIFIED:20240527T140458Z
UID:10000297-1722301200-1722301200@portholemaine.com
SUMMARY:Henry Lowery
DESCRIPTION:Live music with Henry Lowery
URL:https://portholemaine.com/event/henry-lowery-12/
LOCATION:Example Region
CATEGORIES:Entertainment,Live Music,Music
END:VEVENT
BEGIN:VEVENT
DTSTART;TZID=Europe/Moscow:20240729T010000
DTEND;TZID=Europe/Moscow:20240729T010000
DTSTAMP:20260423T020113
CREATED:20240527T140158Z
LAST-MODIFIED:20240527T140158Z
UID:10000296-1722214800-1722214800@portholemaine.com
SUMMARY:Chase Jobe & the Runnin' Kind
DESCRIPTION:Live music with Chase Jobe & the Runnin’ Kind
URL:https://portholemaine.com/event/chase-jobe-the-runnin-kind-10/
LOCATION:Example Region
CATEGORIES:Entertainment,Live Music,Music
END:VEVENT
BEGIN:VEVENT
DTSTART;TZID=Europe/Moscow:20240728T210000
DTEND;TZID=Europe/Moscow:20240728T210000
DTSTAMP:20260423T020113
CREATED:20240527T134757Z
LAST-MODIFIED:20240527T134757Z
UID:10000287-1722200400-1722200400@portholemaine.com
SUMMARY:Audriya Joy
DESCRIPTION:Live music with Audriya Joy
URL:https://portholemaine.com/event/audriya-joy/
LOCATION:Example Region
CATEGORIES:Entertainment,Live Music,Music
END:VEVENT
BEGIN:VEVENT
DTSTART;TZID=Europe/Moscow:20240728T010000
DTEND;TZID=Europe/Moscow:20240728T010000
DTSTAMP:20260423T020113
CREATED:20240527T135927Z
LAST-MODIFIED:20240527T135927Z
UID:10000295-1722128400-1722128400@portholemaine.com
SUMMARY:Deck Dance Party with DJ Father Tish
DESCRIPTION:Deck Dance Party with DJ Father Tish
URL:https://portholemaine.com/event/deck-dance-party-with-dj-father-tish-5/
LOCATION:Example Region
CATEGORIES:Entertainment,Music
END:VEVENT
BEGIN:VEVENT
DTSTART;TZID=Europe/Moscow:20240727T200000
DTEND;TZID=Europe/Moscow:20240727T200000
DTSTAMP:20260423T020113
CREATED:20240527T135811Z
LAST-MODIFIED:20240527T135811Z
UID:10000294-1722110400-1722110400@portholemaine.com
SUMMARY:Spyglass
DESCRIPTION:Live music with Spyglass
URL:https://portholemaine.com/event/spyglass-7/
LOCATION:Example Region
CATEGORIES:Entertainment,Live Music,Music
END:VEVENT
BEGIN:VEVENT
DTSTART;TZID=Europe/Moscow:20240727T010000
DTEND;TZID=Europe/Moscow:20240727T010000
DTSTAMP:20260423T020113
CREATED:20240527T135658Z
LAST-MODIFIED:20240527T135658Z
UID:10000293-1722042000-1722042000@portholemaine.com
SUMMARY:13Black
DESCRIPTION:Live music with 13Black
URL:https://portholemaine.com/event/13black-3/
LOCATION:Example Region
CATEGORIES:Entertainment,Live Music,Music
END:VEVENT
BEGIN:VEVENT
DTSTART;TZID=Europe/Moscow:20240726T010000
DTEND;TZID=Europe/Moscow:20240726T010000
DTSTAMP:20260423T020113
CREATED:20240527T135602Z
LAST-MODIFIED:20240527T135602Z
UID:10000292-1721955600-1721955600@portholemaine.com
SUMMARY:Andi Fawcett
DESCRIPTION:Live music with Andi Fawcett
URL:https://portholemaine.com/event/andi-fawcett-6/
LOCATION:Example Region
CATEGORIES:Entertainment,Live Music,Music
END:VEVENT
BEGIN:VEVENT
DTSTART;TZID=Europe/Moscow:20240725T010000
DTEND;TZID=Europe/Moscow:20240725T010000
DTSTAMP:20260423T020113
CREATED:20240527T135346Z
LAST-MODIFIED:20240527T135346Z
UID:10000291-1721869200-1721869200@portholemaine.com
SUMMARY:Justin Carver
DESCRIPTION:Live music with Justin Carver
URL:https://portholemaine.com/event/justin-carver-14/
LOCATION:Example Region
CATEGORIES:Entertainment,Live Music,Music
END:VEVENT
BEGIN:VEVENT
DTSTART;TZID=Europe/Moscow:20240724T010000
DTEND;TZID=Europe/Moscow:20240724T010000
DTSTAMP:20260423T020113
CREATED:20240603T113834Z
LAST-MODIFIED:20240603T113834Z
UID:10000312-1721782800-1721782800@portholemaine.com
SUMMARY:Chase Jobe & The Runnin' Kind
DESCRIPTION:Live music with Chase Jobe & The Runnin’ Kind
URL:https://portholemaine.com/event/chase-jobe-the-runnin-kind-15/
LOCATION:Example Region
CATEGORIES:Entertainment,Live Music,Music
END:VEVENT
BEGIN:VEVENT
DTSTART;TZID=Europe/Moscow:20240723T010000
DTEND;TZID=Europe/Moscow:20240723T010000
DTSTAMP:20260423T020113
CREATED:20240527T135250Z
LAST-MODIFIED:20240527T135250Z
UID:10000290-1721696400-1721696400@portholemaine.com
SUMMARY:Jonah Bruce
DESCRIPTION:Live music with Jonah Bruce
URL:https://portholemaine.com/event/jonah-bruce-6/
LOCATION:Example Region
CATEGORIES:Entertainment,Live Music,Music
END:VEVENT
BEGIN:VEVENT
DTSTART;TZID=Europe/Moscow:20240722T010000
DTEND;TZID=Europe/Moscow:20240722T010000
DTSTAMP:20260423T020113
CREATED:20240527T135148Z
LAST-MODIFIED:20240527T135148Z
UID:10000289-1721610000-1721610000@portholemaine.com
SUMMARY:Chase Jobe & The Runnin' Kind
DESCRIPTION:Live music with Chase Jobe & The Runnin’ Kind
URL:https://portholemaine.com/event/chase-jobe-the-runnin-kind-9/
LOCATION:Example Region
CATEGORIES:Entertainment,Live Music,Music
END:VEVENT
BEGIN:VEVENT
DTSTART;TZID=Europe/Moscow:20240721T210000
DTEND;TZID=Europe/Moscow:20240721T210000
DTSTAMP:20260423T020113
CREATED:20240527T134932Z
LAST-MODIFIED:20240527T134932Z
UID:10000288-1721595600-1721595600@portholemaine.com
SUMMARY:The Few
DESCRIPTION:Live music with The Few
URL:https://portholemaine.com/event/the-few-18/
LOCATION:Example Region
CATEGORIES:Entertainment,Live Music,Music
END:VEVENT
BEGIN:VEVENT
DTSTART;TZID=Europe/Moscow:20240721T010000
DTEND;TZID=Europe/Moscow:20240721T010000
DTSTAMP:20260423T020113
CREATED:20240527T132301Z
LAST-MODIFIED:20240527T132301Z
UID:10000286-1721523600-1721523600@portholemaine.com
SUMMARY:Deck Dance Party with DJ Father Tish
DESCRIPTION:Deck Dance Party with DJ Father Tish
URL:https://portholemaine.com/event/deck-dance-party-with-dj-father-tish-4/
LOCATION:Example Region
CATEGORIES:Entertainment,Live Music,Music
END:VEVENT
BEGIN:VEVENT
DTSTART;TZID=Europe/Moscow:20240720T210000
DTEND;TZID=Europe/Moscow:20240720T210000
DTSTAMP:20260423T020113
CREATED:20240527T132205Z
LAST-MODIFIED:20240719T021405Z
UID:10000285-1721509200-1721509200@portholemaine.com
SUMMARY:Quiet Riot Act
DESCRIPTION:Live music with Quiet Riot Act
URL:https://portholemaine.com/event/quiet-riot-act-9/
LOCATION:Example Region
CATEGORIES:Entertainment,Live Music,Music
END:VEVENT
BEGIN:VEVENT
DTSTART;TZID=Europe/Moscow:20240720T010000
DTEND;TZID=Europe/Moscow:20240720T010000
DTSTAMP:20260423T020113
CREATED:20240603T113703Z
LAST-MODIFIED:20240603T113703Z
UID:10000311-1721437200-1721437200@portholemaine.com
SUMMARY:Northern Groove
DESCRIPTION:Live music with Northern Groove
URL:https://portholemaine.com/event/northern-groove-6/
LOCATION:Example Region
CATEGORIES:Entertainment,Live Music,Music
END:VEVENT
BEGIN:VEVENT
DTSTART;TZID=Europe/Moscow:20240719T010000
DTEND;TZID=Europe/Moscow:20240719T010000
DTSTAMP:20260423T020113
CREATED:20240527T132016Z
LAST-MODIFIED:20240527T132016Z
UID:10000284-1721350800-1721350800@portholemaine.com
SUMMARY:The Cover Tones
DESCRIPTION:
URL:https://portholemaine.com/event/the-cover-tones-2/
LOCATION:Example Region
CATEGORIES:Entertainment,Live Music,Music
END:VEVENT
BEGIN:VEVENT
DTSTART;TZID=Europe/Moscow:20240718T010000
DTEND;TZID=Europe/Moscow:20240718T010000
DTSTAMP:20260423T020113
CREATED:20240603T113544Z
LAST-MODIFIED:20240603T113544Z
UID:10000310-1721264400-1721264400@portholemaine.com
SUMMARY:The Few
DESCRIPTION:Live music with The Few
URL:https://portholemaine.com/event/the-few-19/
LOCATION:Example Region
CATEGORIES:Entertainment,Live Music,Music
END:VEVENT
BEGIN:VEVENT
DTSTART;TZID=Europe/Moscow:20240717T010000
DTEND;TZID=Europe/Moscow:20240717T010000
DTSTAMP:20260423T020113
CREATED:20240603T114120Z
LAST-MODIFIED:20240603T114120Z
UID:10000314-1721178000-1721178000@portholemaine.com
SUMMARY:Chase Jobe & The Runnin' Kind
DESCRIPTION:Live music with Chase Jobe & The Runnin’ Kind
URL:https://portholemaine.com/event/chase-jobe-the-runnin-kind-17/
LOCATION:Example Region
CATEGORIES:Entertainment,Live Music,Music
END:VEVENT
BEGIN:VEVENT
DTSTART;TZID=Europe/Moscow:20240716T010000
DTEND;TZID=Europe/Moscow:20240716T010000
DTSTAMP:20260423T020113
CREATED:20240527T131059Z
LAST-MODIFIED:20240527T131059Z
UID:10000283-1721091600-1721091600@portholemaine.com
SUMMARY:Henry Lowery
DESCRIPTION:Live music with Henry Lowery
URL:https://portholemaine.com/event/henry-lowery-11/
LOCATION:Example Region
CATEGORIES:Entertainment,Live Music,Music
END:VEVENT
BEGIN:VEVENT
DTSTART;TZID=Europe/Moscow:20240715T010000
DTEND;TZID=Europe/Moscow:20240715T010000
DTSTAMP:20260423T020113
CREATED:20240527T131008Z
LAST-MODIFIED:20240527T131008Z
UID:10000282-1721005200-1721005200@portholemaine.com
SUMMARY:Chase Jobe & the Runnin' Kind
DESCRIPTION:Live music with Chase Jobe & the Runnin’ Kind
URL:https://portholemaine.com/event/chase-jobe-the-runnin-kind-8/
LOCATION:Example Region
CATEGORIES:Entertainment,Live Music,Music
END:VEVENT
BEGIN:VEVENT
DTSTART;TZID=Europe/Moscow:20240714T210000
DTEND;TZID=Europe/Moscow:20240714T210000
DTSTAMP:20260423T020113
CREATED:20240527T130810Z
LAST-MODIFIED:20240527T130810Z
UID:10000281-1720990800-1720990800@portholemaine.com
SUMMARY:Stolen Mojo
DESCRIPTION:Live music with Stolen Mojo
URL:https://portholemaine.com/event/stolen-mojo-3/
LOCATION:Example Region
CATEGORIES:Entertainment,Live Music,Music
END:VEVENT
BEGIN:VEVENT
DTSTART;TZID=Europe/Moscow:20240714T010000
DTEND;TZID=Europe/Moscow:20240714T010000
DTSTAMP:20260423T020113
CREATED:20240527T130653Z
LAST-MODIFIED:20240527T130653Z
UID:10000280-1720918800-1720918800@portholemaine.com
SUMMARY:Deck Dance Party with DJ Father Tish
DESCRIPTION:Deck Dance Party with DJ Father Tish
URL:https://portholemaine.com/event/deck-dance-party-with-dj-father-tish-3/
LOCATION:Example Region
CATEGORIES:Entertainment,Live Music,Music
END:VEVENT
BEGIN:VEVENT
DTSTART;TZID=Europe/Moscow:20240713T200000
DTEND;TZID=Europe/Moscow:20240713T200000
DTSTAMP:20260423T020113
CREATED:20240527T130512Z
LAST-MODIFIED:20240527T130512Z
UID:10000279-1720900800-1720900800@portholemaine.com
SUMMARY:Now is Now
DESCRIPTION:Live music with Now is Now
URL:https://portholemaine.com/event/now-is-now/
LOCATION:Example Region
CATEGORIES:Entertainment,Live Music,Music
END:VEVENT
BEGIN:VEVENT
DTSTART;TZID=Europe/Moscow:20240712T220000
DTEND;TZID=Europe/Moscow:20240712T220000
DTSTAMP:20260423T020113
CREATED:20240527T130408Z
LAST-MODIFIED:20240527T130408Z
UID:10000278-1720821600-1720821600@portholemaine.com
SUMMARY:DJ Jacky Treehorn
DESCRIPTION:Summer sounds with DJ Jacky Treehorn
URL:https://portholemaine.com/event/dj-jacky-treehorn-13/
LOCATION:Example Region
CATEGORIES:Entertainment,Live Music,Music
END:VEVENT
BEGIN:VEVENT
DTSTART;TZID=Europe/Moscow:20240712T010000
DTEND;TZID=Europe/Moscow:20240712T010000
DTSTAMP:20260423T020113
CREATED:20240527T130115Z
LAST-MODIFIED:20240527T130115Z
UID:10000277-1720746000-1720746000@portholemaine.com
SUMMARY:The Few
DESCRIPTION:Live music with The Few
URL:https://portholemaine.com/event/the-few-17/
LOCATION:Example Region
CATEGORIES:Entertainment,Live Music,Music
END:VEVENT
BEGIN:VEVENT
DTSTART;TZID=Europe/Moscow:20240711T010000
DTEND;TZID=Europe/Moscow:20240711T010000
DTSTAMP:20260423T020113
CREATED:20240603T113235Z
LAST-MODIFIED:20240603T113235Z
UID:10000308-1720659600-1720659600@portholemaine.com
SUMMARY:Tribis Nobilis
DESCRIPTION:Live music with Tribis Nobilis
URL:https://portholemaine.com/event/tribis-nobilis/
LOCATION:Example Region
CATEGORIES:Entertainment,Live Music,Music
END:VEVENT
END:VCALENDAR