BEGIN:VCALENDAR
VERSION:2.0
PRODID:-//Porthole - ECPv6.10.2//NONSGML v1.0//EN
CALSCALE:GREGORIAN
METHOD:PUBLISH
X-WR-CALNAME:Porthole
X-ORIGINAL-URL:https://portholemaine.com
X-WR-CALDESC:Events for Porthole
REFRESH-INTERVAL;VALUE=DURATION:PT1H
X-Robots-Tag:noindex
X-PUBLISHED-TTL:PT1H
BEGIN:VTIMEZONE
TZID:Europe/Moscow
BEGIN:STANDARD
TZOFFSETFROM:+0300
TZOFFSETTO:+0300
TZNAME:MSK
DTSTART:20250101T000000
END:STANDARD
END:VTIMEZONE
BEGIN:VEVENT
DTSTART;TZID=Europe/Moscow:20250916T130000
DTEND;TZID=Europe/Moscow:20250916T160000
DTSTAMP:20260422T051726
CREATED:20250915T205018Z
LAST-MODIFIED:20250915T205018Z
UID:10000916-1758027600-1758038400@portholemaine.com
SUMMARY:Don Campbell
DESCRIPTION:
URL:https://portholemaine.com/event/don-campbell-8/
END:VEVENT
BEGIN:VEVENT
DTSTART;TZID=Europe/Moscow:20250916T170000
DTEND;TZID=Europe/Moscow:20250916T200000
DTSTAMP:20260422T051726
CREATED:20250915T204953Z
LAST-MODIFIED:20250915T204953Z
UID:10000915-1758042000-1758052800@portholemaine.com
SUMMARY:Michael Corleto
DESCRIPTION:
URL:https://portholemaine.com/event/michael-corleto/
CATEGORIES:Live Music
END:VEVENT
BEGIN:VEVENT
DTSTART;TZID=Europe/Moscow:20250917T130000
DTEND;TZID=Europe/Moscow:20250917T160000
DTSTAMP:20260422T051726
CREATED:20250915T205115Z
LAST-MODIFIED:20250915T205115Z
UID:10000917-1758114000-1758124800@portholemaine.com
SUMMARY:Tyler Dhone
DESCRIPTION:
URL:https://portholemaine.com/event/tyler-dhone-30/
CATEGORIES:Live Music
END:VEVENT
BEGIN:VEVENT
DTSTART;TZID=Europe/Moscow:20250917T170000
DTEND;TZID=Europe/Moscow:20250917T200000
DTSTAMP:20260422T051726
CREATED:20250915T205147Z
LAST-MODIFIED:20250915T205147Z
UID:10000918-1758128400-1758139200@portholemaine.com
SUMMARY:Two For Jackson
DESCRIPTION:
URL:https://portholemaine.com/event/two-for-jackson/
CATEGORIES:Live Music
END:VEVENT
BEGIN:VEVENT
DTSTART;TZID=Europe/Moscow:20250918T130000
DTEND;TZID=Europe/Moscow:20250918T150000
DTSTAMP:20260422T051726
CREATED:20250915T205246Z
LAST-MODIFIED:20250915T205246Z
UID:10000919-1758200400-1758207600@portholemaine.com
SUMMARY:Justin Carver
DESCRIPTION:
URL:https://portholemaine.com/event/justin-carver-32/2025-09-18/
CATEGORIES:Live Music
END:VEVENT
BEGIN:VEVENT
DTSTART;TZID=Europe/Moscow:20250918T150000
DTEND;TZID=Europe/Moscow:20250918T180000
DTSTAMP:20260422T051726
CREATED:20250915T205330Z
LAST-MODIFIED:20250915T205330Z
UID:10000921-1758207600-1758218400@portholemaine.com
SUMMARY:DJ Jackie Treehorn
DESCRIPTION:
URL:https://portholemaine.com/event/dj-jackie-treehorn/
CATEGORIES:Live Music
END:VEVENT
BEGIN:VEVENT
DTSTART;TZID=Europe/Moscow:20250918T180000
DTEND;TZID=Europe/Moscow:20250918T210000
DTSTAMP:20260422T051726
CREATED:20250915T205404Z
LAST-MODIFIED:20250915T205404Z
UID:10000922-1758218400-1758229200@portholemaine.com
SUMMARY:Tyler Dhone
DESCRIPTION:
URL:https://portholemaine.com/event/tyler-dhone-31/
CATEGORIES:Entertainment
END:VEVENT
BEGIN:VEVENT
DTSTART;TZID=Europe/Moscow:20250919T130000
DTEND;TZID=Europe/Moscow:20250919T160000
DTSTAMP:20260422T051726
CREATED:20250915T205246Z
LAST-MODIFIED:20250915T205246Z
UID:10000920-1758286800-1758297600@portholemaine.com
SUMMARY:Justin Carver
DESCRIPTION:
URL:https://portholemaine.com/event/justin-carver-32/2025-09-19/
CATEGORIES:Live Music
END:VEVENT
BEGIN:VEVENT
DTSTART;TZID=Europe/Moscow:20250919T160000
DTEND;TZID=Europe/Moscow:20250919T190000
DTSTAMP:20260422T051726
CREATED:20250915T205429Z
LAST-MODIFIED:20250915T205429Z
UID:10000923-1758297600-1758308400@portholemaine.com
SUMMARY:A&M Live
DESCRIPTION:
URL:https://portholemaine.com/event/am-live/
CATEGORIES:Entertainment
END:VEVENT
BEGIN:VEVENT
DTSTART;TZID=Europe/Moscow:20250919T193000
DTEND;TZID=Europe/Moscow:20250919T233000
DTSTAMP:20260422T051726
CREATED:20250915T205454Z
LAST-MODIFIED:20250915T205454Z
UID:10000924-1758310200-1758324600@portholemaine.com
SUMMARY:Stolen Mojo
DESCRIPTION:
URL:https://portholemaine.com/event/stolen-mojo-7/
CATEGORIES:Live Music
END:VEVENT
BEGIN:VEVENT
DTSTART;TZID=Europe/Moscow:20250920T130000
DTEND;TZID=Europe/Moscow:20250920T160000
DTSTAMP:20260422T051726
CREATED:20250915T205524Z
LAST-MODIFIED:20250915T205524Z
UID:10000925-1758373200-1758384000@portholemaine.com
SUMMARY:Goff Hill Rundown
DESCRIPTION:
URL:https://portholemaine.com/event/goff-hill-rundown-2/
CATEGORIES:Live Music
END:VEVENT
BEGIN:VEVENT
DTSTART;TZID=Europe/Moscow:20250920T160000
DTEND;TZID=Europe/Moscow:20250920T190000
DTSTAMP:20260422T051726
CREATED:20250915T205552Z
LAST-MODIFIED:20250915T205552Z
UID:10000926-1758384000-1758394800@portholemaine.com
SUMMARY:Guy Meets Girl
DESCRIPTION:
URL:https://portholemaine.com/event/guy-meets-girl/
CATEGORIES:Live Music
END:VEVENT
BEGIN:VEVENT
DTSTART;TZID=Europe/Moscow:20250920T193000
DTEND;TZID=Europe/Moscow:20250920T233000
DTSTAMP:20260422T051726
CREATED:20250915T205623Z
LAST-MODIFIED:20250915T205804Z
UID:10000927-1758396600-1758411000@portholemaine.com
SUMMARY:Sugarbox
DESCRIPTION:
URL:https://portholemaine.com/event/sugarbox-15/
CATEGORIES:Live Music
END:VEVENT
BEGIN:VEVENT
DTSTART;TZID=Europe/Moscow:20250921T130000
DTEND;TZID=Europe/Moscow:20250921T160000
DTSTAMP:20260422T051726
CREATED:20250610T154017Z
LAST-MODIFIED:20250610T155250Z
UID:10000903-1758459600-1758470400@portholemaine.com
SUMMARY:Sugarbox — Casablanca Cruise
DESCRIPTION:Casablanca Concert Cruise with Sugarbox
URL:https://portholemaine.com/event/sugarbox-14/
CATEGORIES:Casablanca Cruise
END:VEVENT
BEGIN:VEVENT
DTSTART;TZID=Europe/Moscow:20250921T130000
DTEND;TZID=Europe/Moscow:20250921T170000
DTSTAMP:20260422T051726
CREATED:20250915T205838Z
LAST-MODIFIED:20250915T205838Z
UID:10000929-1758459600-1758474000@portholemaine.com
SUMMARY:Nate Ramos Band
DESCRIPTION:
URL:https://portholemaine.com/event/nate-ramos-band-2/
CATEGORIES:Live Music
END:VEVENT
BEGIN:VEVENT
DTSTART;TZID=Europe/Moscow:20250922T130000
DTEND;TZID=Europe/Moscow:20250922T160000
DTSTAMP:20260422T051726
CREATED:20250915T210107Z
LAST-MODIFIED:20250915T210107Z
UID:10000930-1758546000-1758556800@portholemaine.com
SUMMARY:Michael Corleto
DESCRIPTION:
URL:https://portholemaine.com/event/michael-corleto-2/
CATEGORIES:Entertainment
END:VEVENT
BEGIN:VEVENT
DTSTART;TZID=Europe/Moscow:20250922T170000
DTEND;TZID=Europe/Moscow:20250922T200000
DTSTAMP:20260422T051726
CREATED:20250915T210141Z
LAST-MODIFIED:20250915T210141Z
UID:10000931-1758560400-1758571200@portholemaine.com
SUMMARY:Two For Jackson
DESCRIPTION:
URL:https://portholemaine.com/event/two-for-jackson-2/
CATEGORIES:Live Music
END:VEVENT
BEGIN:VEVENT
DTSTART;TZID=Europe/Moscow:20250923T130000
DTEND;TZID=Europe/Moscow:20250923T160000
DTSTAMP:20260422T051726
CREATED:20250915T210328Z
LAST-MODIFIED:20250915T210328Z
UID:10000932-1758632400-1758643200@portholemaine.com
SUMMARY:Andi Fawcett
DESCRIPTION:
URL:https://portholemaine.com/event/andi-fawcett-22/2025-09-23/
CATEGORIES:Live Music
END:VEVENT
BEGIN:VEVENT
DTSTART;TZID=Europe/Moscow:20250923T170000
DTEND;TZID=Europe/Moscow:20250923T200000
DTSTAMP:20260422T051726
CREATED:20250915T211052Z
LAST-MODIFIED:20250915T211052Z
UID:10000943-1758646800-1758657600@portholemaine.com
SUMMARY:After Dark
DESCRIPTION:
URL:https://portholemaine.com/event/after-dark-11/
CATEGORIES:Live Music
END:VEVENT
BEGIN:VEVENT
DTSTART;TZID=Europe/Moscow:20250924T170000
DTEND;TZID=Europe/Moscow:20250924T200000
DTSTAMP:20260422T051726
CREATED:20250915T210529Z
LAST-MODIFIED:20250915T210529Z
UID:10000937-1758733200-1758744000@portholemaine.com
SUMMARY:Sierra Harris
DESCRIPTION:
URL:https://portholemaine.com/event/sierra-harris-2/
CATEGORIES:Live Music
END:VEVENT
BEGIN:VEVENT
DTSTART;TZID=Europe/Moscow:20250925T130000
DTEND;TZID=Europe/Moscow:20250925T150000
DTSTAMP:20260422T051726
CREATED:20250915T210617Z
LAST-MODIFIED:20250915T210617Z
UID:10000938-1758805200-1758812400@portholemaine.com
SUMMARY:Tyler Dhone
DESCRIPTION:
URL:https://portholemaine.com/event/tyler-dhone-32/
CATEGORIES:Live Music
END:VEVENT
BEGIN:VEVENT
DTSTART;TZID=Europe/Moscow:20250925T180000
DTEND;TZID=Europe/Moscow:20250925T200000
DTSTAMP:20260422T051726
CREATED:20250915T210328Z
LAST-MODIFIED:20250915T210328Z
UID:10000933-1758823200-1758830400@portholemaine.com
SUMMARY:Andi Fawcett
DESCRIPTION:
URL:https://portholemaine.com/event/andi-fawcett-22/2025-09-25/
CATEGORIES:Live Music
END:VEVENT
BEGIN:VEVENT
DTSTART;TZID=Europe/Moscow:20250926T130000
DTEND;TZID=Europe/Moscow:20250926T160000
DTSTAMP:20260422T051726
CREATED:20250915T210647Z
LAST-MODIFIED:20250915T210647Z
UID:10000939-1758891600-1758902400@portholemaine.com
SUMMARY:Justin Carver
DESCRIPTION:
URL:https://portholemaine.com/event/justin-carver-33/
CATEGORIES:Live Music
END:VEVENT
BEGIN:VEVENT
DTSTART;TZID=Europe/Moscow:20250926T190000
DTEND;TZID=Europe/Moscow:20250926T230000
DTSTAMP:20260422T051726
CREATED:20250915T210451Z
LAST-MODIFIED:20250915T210451Z
UID:10000936-1758913200-1758927600@portholemaine.com
SUMMARY:After Dark
DESCRIPTION:
URL:https://portholemaine.com/event/after-dark-10/
CATEGORIES:Live Music
END:VEVENT
BEGIN:VEVENT
DTSTART;TZID=Europe/Moscow:20250927T130000
DTEND;TZID=Europe/Moscow:20250927T160000
DTSTAMP:20260422T051726
CREATED:20250915T210741Z
LAST-MODIFIED:20250915T210741Z
UID:10000940-1758978000-1758988800@portholemaine.com
SUMMARY:Tyler Dhone
DESCRIPTION:
URL:https://portholemaine.com/event/tyler-dhone-33/
CATEGORIES:Live Music
END:VEVENT
BEGIN:VEVENT
DTSTART;TZID=Europe/Moscow:20250927T190000
DTEND;TZID=Europe/Moscow:20250927T230000
DTSTAMP:20260422T051726
CREATED:20250915T210817Z
LAST-MODIFIED:20250915T210817Z
UID:10000941-1758999600-1759014000@portholemaine.com
SUMMARY:The Minute Men
DESCRIPTION:
URL:https://portholemaine.com/event/the-minute-men/
CATEGORIES:Live Music
END:VEVENT
BEGIN:VEVENT
DTSTART;TZID=Europe/Moscow:20250928T120000
DTEND;TZID=Europe/Moscow:20250928T150000
DTSTAMP:20260422T051726
CREATED:20250610T154152Z
LAST-MODIFIED:20250610T155233Z
UID:10000904-1759060800-1759071600@portholemaine.com
SUMMARY:Hello Newman — Casablanca Cruise
DESCRIPTION:Casablanca Concert Cruise with Hello Newman
URL:https://portholemaine.com/event/hello-newman-13/
CATEGORIES:Casablanca Cruise
END:VEVENT
BEGIN:VEVENT
DTSTART;TZID=Europe/Moscow:20250928T130000
DTEND;TZID=Europe/Moscow:20250928T160000
DTSTAMP:20260422T051726
CREATED:20250915T210854Z
LAST-MODIFIED:20250915T210854Z
UID:10000942-1759064400-1759075200@portholemaine.com
SUMMARY:Ray St. Cyr
DESCRIPTION:
URL:https://portholemaine.com/event/ray-st-cyr/
CATEGORIES:Live Music
END:VEVENT
BEGIN:VEVENT
DTSTART;TZID=Europe/Moscow:20250930T130000
DTEND;TZID=Europe/Moscow:20250930T160000
DTSTAMP:20260422T051726
CREATED:20250915T210328Z
LAST-MODIFIED:20250915T210328Z
UID:10000934-1759237200-1759248000@portholemaine.com
SUMMARY:Andi Fawcett
DESCRIPTION:
URL:https://portholemaine.com/event/andi-fawcett-22/2025-09-30/
CATEGORIES:Live Music
END:VEVENT
BEGIN:VEVENT
DTSTART;TZID=Europe/Moscow:20251003T190000
DTEND;TZID=Europe/Moscow:20251003T230000
DTSTAMP:20260422T051726
CREATED:20251003T140837Z
LAST-MODIFIED:20251003T140837Z
UID:10000944-1759518000-1759532400@portholemaine.com
SUMMARY:After Dark
DESCRIPTION:
URL:https://portholemaine.com/event/after-dark-12/
CATEGORIES:Entertainment
END:VEVENT
END:VCALENDAR