BEGIN:VCALENDAR
VERSION:2.0
PRODID:-//Porthole - ECPv6.10.2//NONSGML v1.0//EN
CALSCALE:GREGORIAN
METHOD:PUBLISH
X-WR-CALNAME:Porthole
X-ORIGINAL-URL:https://portholemaine.com
X-WR-CALDESC:Events for Porthole
REFRESH-INTERVAL;VALUE=DURATION:PT1H
X-Robots-Tag:noindex
X-PUBLISHED-TTL:PT1H
BEGIN:VTIMEZONE
TZID:Europe/Moscow
BEGIN:STANDARD
TZOFFSETFROM:+0300
TZOFFSETTO:+0300
TZNAME:MSK
DTSTART:20260101T000000
END:STANDARD
END:VTIMEZONE
BEGIN:VEVENT
DTSTART;TZID=Europe/Moscow:20260314T140000
DTEND;TZID=Europe/Moscow:20260314T170000
DTSTAMP:20260421T231728
CREATED:20251025T204133Z
LAST-MODIFIED:20251025T204133Z
UID:10001051-1773496800-1773507600@portholemaine.com
SUMMARY:Andi Fawcett & Friends
DESCRIPTION:
URL:https://portholemaine.com/event/andi-fawcett-friends-5/2026-03-14/
END:VEVENT
BEGIN:VEVENT
DTSTART;TZID=Europe/Moscow:20260321T140000
DTEND;TZID=Europe/Moscow:20260321T170000
DTSTAMP:20260421T231728
CREATED:20251025T204133Z
LAST-MODIFIED:20251025T204133Z
UID:10001052-1774101600-1774112400@portholemaine.com
SUMMARY:Andi Fawcett & Friends
DESCRIPTION:
URL:https://portholemaine.com/event/andi-fawcett-friends-5/2026-03-21/
END:VEVENT
BEGIN:VEVENT
DTSTART;TZID=Europe/Moscow:20260325T180000
DTEND;TZID=Europe/Moscow:20260325T200000
DTSTAMP:20260421T231728
CREATED:20260325T155139Z
LAST-MODIFIED:20260325T155139Z
UID:10001195-1774461600-1774468800@portholemaine.com
SUMMARY:Trivia with Raise The Bar
DESCRIPTION:
URL:https://portholemaine.com/event/trivia-with-raise-the-bar/2026-03-25/
END:VEVENT
BEGIN:VEVENT
DTSTART;TZID=Europe/Moscow:20260401T180000
DTEND;TZID=Europe/Moscow:20260401T200000
DTSTAMP:20260421T231728
CREATED:20260325T155139Z
LAST-MODIFIED:20260325T155139Z
UID:10001196-1775066400-1775073600@portholemaine.com
SUMMARY:Trivia with Raise The Bar
DESCRIPTION:
URL:https://portholemaine.com/event/trivia-with-raise-the-bar/2026-04-01/
END:VEVENT
BEGIN:VEVENT
DTSTART;TZID=Europe/Moscow:20260404T140000
DTEND;TZID=Europe/Moscow:20260404T170000
DTSTAMP:20260421T231728
CREATED:20251025T204133Z
LAST-MODIFIED:20251025T204133Z
UID:10001053-1775311200-1775322000@portholemaine.com
SUMMARY:Andi Fawcett & Friends
DESCRIPTION:
URL:https://portholemaine.com/event/andi-fawcett-friends-5/2026-04-04/
END:VEVENT
BEGIN:VEVENT
DTSTART;TZID=Europe/Moscow:20260408T180000
DTEND;TZID=Europe/Moscow:20260408T200000
DTSTAMP:20260421T231728
CREATED:20260325T155139Z
LAST-MODIFIED:20260325T155139Z
UID:10001197-1775671200-1775678400@portholemaine.com
SUMMARY:Trivia with Raise The Bar
DESCRIPTION:
URL:https://portholemaine.com/event/trivia-with-raise-the-bar/2026-04-08/
END:VEVENT
BEGIN:VEVENT
DTSTART;TZID=Europe/Moscow:20260411T140000
DTEND;TZID=Europe/Moscow:20260411T170000
DTSTAMP:20260421T231728
CREATED:20251025T204133Z
LAST-MODIFIED:20251025T204133Z
UID:10001054-1775916000-1775926800@portholemaine.com
SUMMARY:Andi Fawcett & Friends
DESCRIPTION:
URL:https://portholemaine.com/event/andi-fawcett-friends-5/2026-04-11/
END:VEVENT
BEGIN:VEVENT
DTSTART;TZID=Europe/Moscow:20260415T180000
DTEND;TZID=Europe/Moscow:20260415T200000
DTSTAMP:20260421T231728
CREATED:20260325T155139Z
LAST-MODIFIED:20260325T155139Z
UID:10001198-1776276000-1776283200@portholemaine.com
SUMMARY:Trivia with Raise The Bar
DESCRIPTION:
URL:https://portholemaine.com/event/trivia-with-raise-the-bar/2026-04-15/
END:VEVENT
BEGIN:VEVENT
DTSTART;TZID=Europe/Moscow:20260418T140000
DTEND;TZID=Europe/Moscow:20260418T170000
DTSTAMP:20260421T231728
CREATED:20260411T234009Z
LAST-MODIFIED:20260411T234015Z
UID:10001055-1776520800-1776531600@portholemaine.com
SUMMARY:Christie Ray Grant
DESCRIPTION:
URL:https://portholemaine.com/event/andi-fawcett-friends-5-3/
END:VEVENT
BEGIN:VEVENT
DTSTART;TZID=Europe/Moscow:20260422T180000
DTEND;TZID=Europe/Moscow:20260422T200000
DTSTAMP:20260421T231728
CREATED:20260325T155139Z
LAST-MODIFIED:20260325T155139Z
UID:10001199-1776880800-1776888000@portholemaine.com
SUMMARY:Trivia with Raise The Bar
DESCRIPTION:
URL:https://portholemaine.com/event/trivia-with-raise-the-bar/2026-04-22/
END:VEVENT
BEGIN:VEVENT
DTSTART;TZID=Europe/Moscow:20260423T170000
DTEND;TZID=Europe/Moscow:20260423T200000
DTSTAMP:20260421T231728
CREATED:20260325T160356Z
LAST-MODIFIED:20260325T160356Z
UID:10001204-1776963600-1776974400@portholemaine.com
SUMMARY:Orono Brewing Deck Season Kick Off Party
DESCRIPTION:
URL:https://portholemaine.com/event/orono-brewing-deck-season-kick-off-party/
END:VEVENT
BEGIN:VEVENT
DTSTART;TZID=Europe/Moscow:20260424T180000
DTEND;TZID=Europe/Moscow:20260424T220000
DTSTAMP:20260421T231728
CREATED:20260411T234207Z
LAST-MODIFIED:20260411T234418Z
UID:10001205-1777053600-1777068000@portholemaine.com
SUMMARY:After Dark
DESCRIPTION:
URL:https://portholemaine.com/event/after-dark-16/
END:VEVENT
BEGIN:VEVENT
DTSTART;TZID=Europe/Moscow:20260425T140000
DTEND;TZID=Europe/Moscow:20260425T170000
DTSTAMP:20260421T231728
CREATED:20251025T204133Z
LAST-MODIFIED:20251025T204133Z
UID:10001056-1777125600-1777136400@portholemaine.com
SUMMARY:Andi Fawcett & Friends
DESCRIPTION:
URL:https://portholemaine.com/event/andi-fawcett-friends-5/2026-04-25/
END:VEVENT
BEGIN:VEVENT
DTSTART;TZID=Europe/Moscow:20260425T190000
DTEND;TZID=Europe/Moscow:20260425T220000
DTSTAMP:20260421T231728
CREATED:20260411T234249Z
LAST-MODIFIED:20260411T234446Z
UID:10001206-1777143600-1777154400@portholemaine.com
SUMMARY:The Middle Men
DESCRIPTION:
URL:https://portholemaine.com/event/the-middle-men-5/
END:VEVENT
BEGIN:VEVENT
DTSTART;TZID=Europe/Moscow:20260426T130000
DTEND;TZID=Europe/Moscow:20260426T160000
DTSTAMP:20260421T231728
CREATED:20260411T234321Z
LAST-MODIFIED:20260411T234321Z
UID:10001207-1777208400-1777219200@portholemaine.com
SUMMARY:Tyler Dhone
DESCRIPTION:
URL:https://portholemaine.com/event/tyler-dhone-35/
END:VEVENT
BEGIN:VEVENT
DTSTART;TZID=Europe/Moscow:20260429T180000
DTEND;TZID=Europe/Moscow:20260429T200000
DTSTAMP:20260421T231728
CREATED:20260325T155139Z
LAST-MODIFIED:20260325T155139Z
UID:10001200-1777485600-1777492800@portholemaine.com
SUMMARY:Trivia with Raise The Bar
DESCRIPTION:
URL:https://portholemaine.com/event/trivia-with-raise-the-bar/2026-04-29/
END:VEVENT
BEGIN:VEVENT
DTSTART;TZID=Europe/Moscow:20260506T180000
DTEND;TZID=Europe/Moscow:20260506T200000
DTSTAMP:20260421T231728
CREATED:20260325T155139Z
LAST-MODIFIED:20260325T155139Z
UID:10001201-1778090400-1778097600@portholemaine.com
SUMMARY:Trivia with Raise The Bar
DESCRIPTION:
URL:https://portholemaine.com/event/trivia-with-raise-the-bar/2026-05-06/
END:VEVENT
BEGIN:VEVENT
DTSTART;TZID=Europe/Moscow:20260513T180000
DTEND;TZID=Europe/Moscow:20260513T200000
DTSTAMP:20260421T231728
CREATED:20260325T155139Z
LAST-MODIFIED:20260325T155139Z
UID:10001202-1778695200-1778702400@portholemaine.com
SUMMARY:Trivia with Raise The Bar
DESCRIPTION:
URL:https://portholemaine.com/event/trivia-with-raise-the-bar/2026-05-13/
END:VEVENT
BEGIN:VEVENT
DTSTART;TZID=Europe/Moscow:20260520T180000
DTEND;TZID=Europe/Moscow:20260520T200000
DTSTAMP:20260421T231728
CREATED:20260325T155139Z
LAST-MODIFIED:20260325T155139Z
UID:10001203-1779300000-1779307200@portholemaine.com
SUMMARY:Trivia with Raise The Bar
DESCRIPTION:
URL:https://portholemaine.com/event/trivia-with-raise-the-bar/2026-05-20/
END:VEVENT
END:VCALENDAR