BEGIN:VCALENDAR
VERSION:2.0
PRODID:-//Porthole - ECPv6.10.2//NONSGML v1.0//EN
CALSCALE:GREGORIAN
METHOD:PUBLISH
X-ORIGINAL-URL:https://portholemaine.com
X-WR-CALDESC:Events for Porthole
REFRESH-INTERVAL;VALUE=DURATION:PT1H
X-Robots-Tag:noindex
X-PUBLISHED-TTL:PT1H
BEGIN:VTIMEZONE
TZID:Europe/Moscow
BEGIN:STANDARD
TZOFFSETFROM:+0300
TZOFFSETTO:+0300
TZNAME:MSK
DTSTART:20250101T000000
END:STANDARD
END:VTIMEZONE
BEGIN:VEVENT
DTSTART;TZID=Europe/Moscow:20251031T190000
DTEND;TZID=Europe/Moscow:20251031T230000
DTSTAMP:20260422T052823
CREATED:20251003T142915Z
LAST-MODIFIED:20251003T142915Z
UID:10000961-1761937200-1761951600@portholemaine.com
SUMMARY:After Dark
DESCRIPTION:
URL:https://portholemaine.com/event/after-dark-15/
END:VEVENT
BEGIN:VEVENT
DTSTART;TZID=Europe/Moscow:20251101T140000
DTEND;TZID=Europe/Moscow:20251101T170000
DTSTAMP:20260422T052823
CREATED:20251025T204133Z
LAST-MODIFIED:20251025T204133Z
UID:10001034-1762005600-1762016400@portholemaine.com
SUMMARY:Andi Fawcett & Friends
DESCRIPTION:
URL:https://portholemaine.com/event/andi-fawcett-friends-5/2025-11-01/
END:VEVENT
BEGIN:VEVENT
DTSTART;TZID=Europe/Moscow:20251101T190000
DTEND;TZID=Europe/Moscow:20251101T230000
DTSTAMP:20260422T052823
CREATED:20251003T142939Z
LAST-MODIFIED:20251003T142939Z
UID:10000962-1762023600-1762038000@portholemaine.com
SUMMARY:DJ Jay-C
DESCRIPTION:
URL:https://portholemaine.com/event/dj-jay-c/
END:VEVENT
BEGIN:VEVENT
DTSTART;TZID=Europe/Moscow:20251108T140000
DTEND;TZID=Europe/Moscow:20251108T170000
DTSTAMP:20260422T052823
CREATED:20251025T204133Z
LAST-MODIFIED:20251025T204133Z
UID:10001035-1762610400-1762621200@portholemaine.com
SUMMARY:Andi Fawcett & Friends
DESCRIPTION:
URL:https://portholemaine.com/event/andi-fawcett-friends-5/2025-11-08/
END:VEVENT
BEGIN:VEVENT
DTSTART;TZID=Europe/Moscow:20251115T140000
DTEND;TZID=Europe/Moscow:20251115T170000
DTSTAMP:20260422T052823
CREATED:20251025T204133Z
LAST-MODIFIED:20251025T204133Z
UID:10001036-1763215200-1763226000@portholemaine.com
SUMMARY:Andi Fawcett & Friends
DESCRIPTION:
URL:https://portholemaine.com/event/andi-fawcett-friends-5/2025-11-15/
END:VEVENT
BEGIN:VEVENT
DTSTART;TZID=Europe/Moscow:20251121T180000
DTEND;TZID=Europe/Moscow:20251121T210000
DTSTAMP:20260422T052823
CREATED:20251118T202022Z
LAST-MODIFIED:20251118T202104Z
UID:10001060-1763748000-1763758800@portholemaine.com
SUMMARY:Don Campbell Duo
DESCRIPTION:
URL:https://portholemaine.com/event/don-campbell-duo/
END:VEVENT
BEGIN:VEVENT
DTSTART;TZID=Europe/Moscow:20251122T140000
DTEND;TZID=Europe/Moscow:20251122T170000
DTSTAMP:20260422T052823
CREATED:20251025T204133Z
LAST-MODIFIED:20251025T204133Z
UID:10001037-1763820000-1763830800@portholemaine.com
SUMMARY:Andi Fawcett & Friends
DESCRIPTION:
URL:https://portholemaine.com/event/andi-fawcett-friends-5/2025-11-22/
END:VEVENT
BEGIN:VEVENT
DTSTART;TZID=Europe/Moscow:20251128T130000
DTEND;TZID=Europe/Moscow:20251128T160000
DTSTAMP:20260422T052823
CREATED:20251027T163236Z
LAST-MODIFIED:20251027T163236Z
UID:10001059-1764334800-1764345600@portholemaine.com
SUMMARY:Maker's Market
DESCRIPTION:
URL:https://portholemaine.com/event/makers-market/
END:VEVENT
BEGIN:VEVENT
DTSTART;TZID=Europe/Moscow:20251128T173000
DTEND;TZID=Europe/Moscow:20251128T193000
DTSTAMP:20260422T052823
CREATED:20251025T204351Z
LAST-MODIFIED:20251025T205906Z
UID:10001058-1764351000-1764358200@portholemaine.com
SUMMARY:Tree Lighting Celebration
DESCRIPTION:
URL:https://portholemaine.com/event/tree-lighting-celebration/
END:VEVENT
BEGIN:VEVENT
DTSTART;TZID=Europe/Moscow:20251129T150000
DTEND;TZID=Europe/Moscow:20251129T180000
DTSTAMP:20260422T052823
CREATED:20251025T204319Z
LAST-MODIFIED:20251025T204319Z
UID:10001057-1764428400-1764439200@portholemaine.com
SUMMARY:Holiday Cheer with Don Campbell
DESCRIPTION:
URL:https://portholemaine.com/event/holiday-cheer-with-don-campbell/
END:VEVENT
BEGIN:VEVENT
DTSTART;TZID=Europe/Moscow:20251206T140000
DTEND;TZID=Europe/Moscow:20251206T170000
DTSTAMP:20260422T052823
CREATED:20251025T204133Z
LAST-MODIFIED:20251025T204133Z
UID:10001038-1765029600-1765040400@portholemaine.com
SUMMARY:Andi Fawcett & Friends
DESCRIPTION:
URL:https://portholemaine.com/event/andi-fawcett-friends-5/2025-12-06/
END:VEVENT
BEGIN:VEVENT
DTSTART;TZID=Europe/Moscow:20251213T140000
DTEND;TZID=Europe/Moscow:20251213T170000
DTSTAMP:20260422T052823
CREATED:20251025T204133Z
LAST-MODIFIED:20251025T204133Z
UID:10001039-1765634400-1765645200@portholemaine.com
SUMMARY:Andi Fawcett & Friends
DESCRIPTION:
URL:https://portholemaine.com/event/andi-fawcett-friends-5/2025-12-13/
END:VEVENT
BEGIN:VEVENT
DTSTART;TZID=Europe/Moscow:20251220T140000
DTEND;TZID=Europe/Moscow:20251220T170000
DTSTAMP:20260422T052823
CREATED:20251025T204133Z
LAST-MODIFIED:20251025T204133Z
UID:10001040-1766239200-1766250000@portholemaine.com
SUMMARY:Andi Fawcett & Friends
DESCRIPTION:
URL:https://portholemaine.com/event/andi-fawcett-friends-5/2025-12-20/
END:VEVENT
BEGIN:VEVENT
DTSTART;TZID=Europe/Moscow:20251227T140000
DTEND;TZID=Europe/Moscow:20251227T170000
DTSTAMP:20260422T052823
CREATED:20251025T204133Z
LAST-MODIFIED:20251025T204133Z
UID:10001041-1766844000-1766854800@portholemaine.com
SUMMARY:Andi Fawcett & Friends
DESCRIPTION:
URL:https://portholemaine.com/event/andi-fawcett-friends-5/2025-12-27/
END:VEVENT
BEGIN:VEVENT
DTSTART;TZID=Europe/Moscow:20260110T140000
DTEND;TZID=Europe/Moscow:20260110T170000
DTSTAMP:20260422T052823
CREATED:20251025T204133Z
LAST-MODIFIED:20251025T204133Z
UID:10001042-1768053600-1768064400@portholemaine.com
SUMMARY:Andi Fawcett & Friends
DESCRIPTION:
URL:https://portholemaine.com/event/andi-fawcett-friends-5/2026-01-10/
END:VEVENT
BEGIN:VEVENT
DTSTART;TZID=Europe/Moscow:20260117T140000
DTEND;TZID=Europe/Moscow:20260117T170000
DTSTAMP:20260422T052823
CREATED:20251025T204133Z
LAST-MODIFIED:20251025T204133Z
UID:10001043-1768658400-1768669200@portholemaine.com
SUMMARY:Andi Fawcett & Friends
DESCRIPTION:
URL:https://portholemaine.com/event/andi-fawcett-friends-5/2026-01-17/
END:VEVENT
BEGIN:VEVENT
DTSTART;TZID=Europe/Moscow:20260124T140000
DTEND;TZID=Europe/Moscow:20260124T170000
DTSTAMP:20260422T052823
CREATED:20251025T204133Z
LAST-MODIFIED:20251025T204133Z
UID:10001044-1769263200-1769274000@portholemaine.com
SUMMARY:Andi Fawcett & Friends
DESCRIPTION:
URL:https://portholemaine.com/event/andi-fawcett-friends-5/2026-01-24/
END:VEVENT
BEGIN:VEVENT
DTSTART;TZID=Europe/Moscow:20260131T140000
DTEND;TZID=Europe/Moscow:20260131T170000
DTSTAMP:20260422T052823
CREATED:20251025T204133Z
LAST-MODIFIED:20251025T204133Z
UID:10001045-1769868000-1769878800@portholemaine.com
SUMMARY:Andi Fawcett & Friends
DESCRIPTION:
URL:https://portholemaine.com/event/andi-fawcett-friends-5/2026-01-31/
END:VEVENT
BEGIN:VEVENT
DTSTART;TZID=Europe/Moscow:20260207T140000
DTEND;TZID=Europe/Moscow:20260207T170000
DTSTAMP:20260422T052823
CREATED:20260202T210929Z
LAST-MODIFIED:20260202T210952Z
UID:10001062-1770472800-1770483600@portholemaine.com
SUMMARY:Don Campbell Duo
DESCRIPTION:
URL:https://portholemaine.com/event/don-campbell-duo-2/
END:VEVENT
BEGIN:VEVENT
DTSTART;TZID=Europe/Moscow:20260213T170000
DTEND;TZID=Europe/Moscow:20260213T200000
DTSTAMP:20260422T052823
CREATED:20260202T211731Z
LAST-MODIFIED:20260202T211731Z
UID:10001063-1771002000-1771012800@portholemaine.com
SUMMARY:Shelly Coombs
DESCRIPTION:
URL:https://portholemaine.com/event/shelly-coombs-3/
END:VEVENT
BEGIN:VEVENT
DTSTART;TZID=Europe/Moscow:20260214T140000
DTEND;TZID=Europe/Moscow:20260214T170000
DTSTAMP:20260422T052823
CREATED:20251025T204133Z
LAST-MODIFIED:20251025T204133Z
UID:10001047-1771077600-1771088400@portholemaine.com
SUMMARY:Andi Fawcett & Friends
DESCRIPTION:
URL:https://portholemaine.com/event/andi-fawcett-friends-5/2026-02-14/
END:VEVENT
BEGIN:VEVENT
DTSTART;TZID=Europe/Moscow:20260220T170000
DTEND;TZID=Europe/Moscow:20260220T200000
DTSTAMP:20260422T052823
CREATED:20260202T211822Z
LAST-MODIFIED:20260202T211822Z
UID:10001064-1771606800-1771617600@portholemaine.com
SUMMARY:2 For Jackson
DESCRIPTION:
URL:https://portholemaine.com/event/2-for-jackson/
END:VEVENT
BEGIN:VEVENT
DTSTART;TZID=Europe/Moscow:20260221T140000
DTEND;TZID=Europe/Moscow:20260221T170000
DTSTAMP:20260422T052823
CREATED:20251025T204133Z
LAST-MODIFIED:20251025T204133Z
UID:10001048-1771682400-1771693200@portholemaine.com
SUMMARY:Andi Fawcett & Friends
DESCRIPTION:
URL:https://portholemaine.com/event/andi-fawcett-friends-5/2026-02-21/
END:VEVENT
BEGIN:VEVENT
DTSTART;TZID=Europe/Moscow:20260227T170000
DTEND;TZID=Europe/Moscow:20260227T200000
DTSTAMP:20260422T052823
CREATED:20260202T211856Z
LAST-MODIFIED:20260202T211856Z
UID:10001065-1772211600-1772222400@portholemaine.com
SUMMARY:After Dark Trio
DESCRIPTION:
URL:https://portholemaine.com/event/after-dark-trio/
END:VEVENT
BEGIN:VEVENT
DTSTART;TZID=Europe/Moscow:20260228T140000
DTEND;TZID=Europe/Moscow:20260228T160000
DTSTAMP:20260422T052823
CREATED:20260202T212029Z
LAST-MODIFIED:20260202T212030Z
UID:10001049-1772287200-1772294400@portholemaine.com
SUMMARY:Andi Fawcett & Friends
DESCRIPTION:
URL:https://portholemaine.com/event/andi-fawcett-friends-5-2/
END:VEVENT
BEGIN:VEVENT
DTSTART;TZID=Europe/Moscow:20260228T190000
DTEND;TZID=Europe/Moscow:20260228T230000
DTSTAMP:20260422T052823
CREATED:20260202T211951Z
LAST-MODIFIED:20260202T211951Z
UID:10001066-1772305200-1772319600@portholemaine.com
SUMMARY:First Responders Gala
DESCRIPTION:Ticketed Event\, Closed to the public. See social media for details
URL:https://portholemaine.com/event/first-responders-gala/
END:VEVENT
BEGIN:VEVENT
DTSTART;TZID=Europe/Moscow:20260307T140000
DTEND;TZID=Europe/Moscow:20260307T170000
DTSTAMP:20260422T052823
CREATED:20251025T204133Z
LAST-MODIFIED:20251025T204133Z
UID:10001050-1772892000-1772902800@portholemaine.com
SUMMARY:Andi Fawcett & Friends
DESCRIPTION:
URL:https://portholemaine.com/event/andi-fawcett-friends-5/2026-03-07/
END:VEVENT
BEGIN:VEVENT
DTSTART;TZID=Europe/Moscow:20260314T140000
DTEND;TZID=Europe/Moscow:20260314T170000
DTSTAMP:20260422T052823
CREATED:20251025T204133Z
LAST-MODIFIED:20251025T204133Z
UID:10001051-1773496800-1773507600@portholemaine.com
SUMMARY:Andi Fawcett & Friends
DESCRIPTION:
URL:https://portholemaine.com/event/andi-fawcett-friends-5/2026-03-14/
END:VEVENT
BEGIN:VEVENT
DTSTART;TZID=Europe/Moscow:20260321T140000
DTEND;TZID=Europe/Moscow:20260321T170000
DTSTAMP:20260422T052823
CREATED:20251025T204133Z
LAST-MODIFIED:20251025T204133Z
UID:10001052-1774101600-1774112400@portholemaine.com
SUMMARY:Andi Fawcett & Friends
DESCRIPTION:
URL:https://portholemaine.com/event/andi-fawcett-friends-5/2026-03-21/
END:VEVENT
BEGIN:VEVENT
DTSTART;TZID=Europe/Moscow:20260325T180000
DTEND;TZID=Europe/Moscow:20260325T200000
DTSTAMP:20260422T052823
CREATED:20260325T155139Z
LAST-MODIFIED:20260325T155139Z
UID:10001195-1774461600-1774468800@portholemaine.com
SUMMARY:Trivia with Raise The Bar
DESCRIPTION:
URL:https://portholemaine.com/event/trivia-with-raise-the-bar/2026-03-25/
END:VEVENT
END:VCALENDAR