BEGIN:VCALENDAR
VERSION:2.0
PRODID:-//Porthole - ECPv6.10.2//NONSGML v1.0//EN
CALSCALE:GREGORIAN
METHOD:PUBLISH
X-WR-CALNAME:Porthole
X-ORIGINAL-URL:https://portholemaine.com
X-WR-CALDESC:Events for Porthole
REFRESH-INTERVAL;VALUE=DURATION:PT1H
X-Robots-Tag:noindex
X-PUBLISHED-TTL:PT1H
BEGIN:VTIMEZONE
TZID:Europe/Moscow
BEGIN:STANDARD
TZOFFSETFROM:+0300
TZOFFSETTO:+0300
TZNAME:MSK
DTSTART:20250101T000000
END:STANDARD
END:VTIMEZONE
BEGIN:VEVENT
DTSTART;TZID=Europe/Moscow:20250523T180000
DTEND;TZID=Europe/Moscow:20250523T180000
DTSTAMP:20260423T004757
CREATED:20250320T161842Z
LAST-MODIFIED:20250320T161842Z
UID:10000695-1748023200-1748023200@portholemaine.com
SUMMARY:After Dark
DESCRIPTION:Live music with After Dark
URL:https://portholemaine.com/event/after-dark-3/
LOCATION:The Porthole\, 20 Custom House Wharf\, Portland\, ME\, 04101
CATEGORIES:Live Music,Music
ORGANIZER;CN="Porthole Restaurant & Pub":MAILTO:gm@portholemaine.commaine.com
END:VEVENT
BEGIN:VEVENT
DTSTART;TZID=Europe/Moscow:20250522T150000
DTEND;TZID=Europe/Moscow:20250522T150000
DTSTAMP:20260423T004757
CREATED:20250415T183817Z
LAST-MODIFIED:20250415T194537Z
UID:10000735-1747926000-1747926000@portholemaine.com
SUMMARY:Happy Hour with Jacky Treehorn
DESCRIPTION:Happy Hour with Jacky Treehorn
URL:https://portholemaine.com/event/happy-hour-with-jacky-treehorn/2025-05-22/
LOCATION:Example Region
CATEGORIES:Entertainment
END:VEVENT
BEGIN:VEVENT
DTSTART;TZID=Europe/Moscow:20250518T130000
DTEND;TZID=Europe/Moscow:20250518T130000
DTSTAMP:20260423T004757
CREATED:20250320T161533Z
LAST-MODIFIED:20250320T164719Z
UID:10000694-1747573200-1747573200@portholemaine.com
SUMMARY:Andi Fawcett Duo
DESCRIPTION:Live music with Andi Fawcett Duo
URL:https://portholemaine.com/event/andi-fawcett-duo-2/
LOCATION:The Porthole\, 20 Custom House Wharf\, Portland\, ME\, 04101
CATEGORIES:Live Music,Music
ORGANIZER;CN="Porthole Restaurant & Pub":MAILTO:gm@portholemaine.commaine.com
END:VEVENT
BEGIN:VEVENT
DTSTART;TZID=Europe/Moscow:20250518T110000
DTEND;TZID=Europe/Moscow:20250518T123000
DTSTAMP:20260423T004757
CREATED:20250320T104332Z
LAST-MODIFIED:20250320T134028Z
UID:10000686-1747566000-1747571400@portholemaine.com
SUMMARY:Spring Wreath Workshop
DESCRIPTION:TICKETS
URL:https://portholemaine.com/event/floral-workshop/
LOCATION:The Porthole\, 20 Custom House Wharf\, Portland\, ME\, 04101
ORGANIZER;CN="Porthole Restaurant & Pub":MAILTO:gm@portholemaine.commaine.com
END:VEVENT
BEGIN:VEVENT
DTSTART;TZID=Europe/Moscow:20250517T180000
DTEND;TZID=Europe/Moscow:20250517T180000
DTSTAMP:20260423T004757
CREATED:20250320T161247Z
LAST-MODIFIED:20250320T164906Z
UID:10000693-1747504800-1747504800@portholemaine.com
SUMMARY:13 Black
DESCRIPTION:Live music with 13 Black
URL:https://portholemaine.com/event/13-black-4/
LOCATION:The Porthole\, 20 Custom House Wharf\, Portland\, ME\, 04101
CATEGORIES:Live Music,Music
ORGANIZER;CN="Porthole Restaurant & Pub":MAILTO:gm@portholemaine.commaine.com
END:VEVENT
BEGIN:VEVENT
DTSTART;TZID=Europe/Moscow:20250517T160000
DTEND;TZID=Europe/Moscow:20250517T160000
DTSTAMP:20260423T004757
CREATED:20250320T161155Z
LAST-MODIFIED:20250320T170041Z
UID:10000692-1747497600-1747497600@portholemaine.com
SUMMARY:Shelley Coombs
DESCRIPTION:Live music with Shelley Coombs
URL:https://portholemaine.com/event/shelley-coombs-2/
LOCATION:The Porthole\, 20 Custom House Wharf\, Portland\, ME\, 04101
CATEGORIES:Live Music,Music
ORGANIZER;CN="Porthole Restaurant & Pub":MAILTO:gm@portholemaine.commaine.com
END:VEVENT
BEGIN:VEVENT
DTSTART;TZID=Europe/Moscow:20250516T180000
DTEND;TZID=Europe/Moscow:20250516T180000
DTSTAMP:20260423T004757
CREATED:20250320T160054Z
LAST-MODIFIED:20250320T160054Z
UID:10000691-1747418400-1747418400@portholemaine.com
SUMMARY:After Dark
DESCRIPTION:Live music with our house party band\, After Dark
URL:https://portholemaine.com/event/after-dark-2/
LOCATION:The Porthole\, 20 Custom House Wharf\, Portland\, ME\, 04101
CATEGORIES:Live Music,Music
ORGANIZER;CN="Porthole Restaurant & Pub":MAILTO:gm@portholemaine.commaine.com
END:VEVENT
BEGIN:VEVENT
DTSTART;TZID=Europe/Moscow:20250516T160000
DTEND;TZID=Europe/Moscow:20250516T160000
DTSTAMP:20260423T004757
CREATED:20250320T155807Z
LAST-MODIFIED:20250320T165013Z
UID:10000690-1747411200-1747411200@portholemaine.com
SUMMARY:Caleb Jolley
DESCRIPTION:Live music with Caleb Jolley
URL:https://portholemaine.com/event/caleb-jolley-2/
LOCATION:The Porthole\, 20 Custom House Wharf\, Portland\, ME\, 04101
CATEGORIES:Live Music,Music
ORGANIZER;CN="Porthole Restaurant & Pub":MAILTO:gm@portholemaine.commaine.com
END:VEVENT
BEGIN:VEVENT
DTSTART;TZID=Europe/Moscow:20250511T160000
DTEND;TZID=Europe/Moscow:20250511T170000
DTSTAMP:20260423T004757
CREATED:20250320T155643Z
LAST-MODIFIED:20250320T155643Z
UID:10000689-1746979200-1746982800@portholemaine.com
SUMMARY:The Inflatables
DESCRIPTION:Live music with The Inflatables
URL:https://portholemaine.com/event/the-inflatables-3/
LOCATION:The Porthole\, 20 Custom House Wharf\, Portland\, ME\, 04101
CATEGORIES:Live Music,Music
END:VEVENT
BEGIN:VEVENT
DTSTART;TZID=Europe/Moscow:20250510T180000
DTEND;TZID=Europe/Moscow:20250510T180000
DTSTAMP:20260423T004757
CREATED:20250320T155520Z
LAST-MODIFIED:20250320T155520Z
UID:10000688-1746900000-1746900000@portholemaine.com
SUMMARY:After Dark AF
DESCRIPTION:Live music with our house party band\, After Dark\, featuring Andi Fawcett
URL:https://portholemaine.com/event/after-dark-af-4/
LOCATION:The Porthole\, 20 Custom House Wharf\, Portland\, ME\, 04101
CATEGORIES:Live Music,Music
ORGANIZER;CN="Porthole Restaurant & Pub":MAILTO:gm@portholemaine.commaine.com
END:VEVENT
BEGIN:VEVENT
DTSTART;TZID=Europe/Moscow:20250510T130000
DTEND;TZID=Europe/Moscow:20250510T130000
DTSTAMP:20260423T004757
CREATED:20250320T111244Z
LAST-MODIFIED:20250415T184041Z
UID:10000687-1746882000-1746882000@portholemaine.com
SUMMARY:Quiet Riot Act
DESCRIPTION:Live music with Quiet Riot Act
URL:https://portholemaine.com/event/11211/
LOCATION:Example Region
CATEGORIES:Live Music,Music
END:VEVENT
BEGIN:VEVENT
DTSTART;TZID=Europe/Moscow:20250509T180000
DTEND;TZID=Europe/Moscow:20250509T180000
DTSTAMP:20260423T004757
CREATED:20250415T184135Z
LAST-MODIFIED:20250415T184135Z
UID:10000798-1746813600-1746813600@portholemaine.com
SUMMARY:The Irony
DESCRIPTION:Live music with The Irony
URL:https://portholemaine.com/event/the-irony/
LOCATION:Example Region
END:VEVENT
BEGIN:VEVENT
DTSTART;TZID=Europe/Moscow:20250504T160000
DTEND;TZID=Europe/Moscow:20250504T160000
DTSTAMP:20260423T004757
CREATED:20250311T214003Z
LAST-MODIFIED:20250311T214003Z
UID:10000666-1746374400-1746374400@portholemaine.com
SUMMARY:Phil Allen
DESCRIPTION:Live music with Phil Allen
URL:https://portholemaine.com/event/phil-allen/
LOCATION:The Porthole\, 20 Custom House Wharf\, Portland\, ME\, 04101
CATEGORIES:Entertainment,Live Music
ORGANIZER;CN="Porthole Restaurant & Pub":MAILTO:gm@portholemaine.commaine.com
END:VEVENT
BEGIN:VEVENT
DTSTART;TZID=Europe/Moscow:20250504T130000
DTEND;TZID=Europe/Moscow:20250504T130000
DTSTAMP:20260423T004757
CREATED:20250311T213902Z
LAST-MODIFIED:20250311T213902Z
UID:10000665-1746363600-1746363600@portholemaine.com
SUMMARY:Boba Funk
DESCRIPTION:Live music with Boba Funk
URL:https://portholemaine.com/event/boba-funk-7/
LOCATION:The Porthole\, 20 Custom House Wharf\, Portland\, ME\, 04101
CATEGORIES:Entertainment,Live Music
ORGANIZER;CN="Porthole Restaurant & Pub":MAILTO:gm@portholemaine.commaine.com
END:VEVENT
BEGIN:VEVENT
DTSTART;TZID=Europe/Moscow:20250503T180000
DTEND;TZID=Europe/Moscow:20250503T180000
DTSTAMP:20260423T004757
CREATED:20250311T213616Z
LAST-MODIFIED:20250311T213616Z
UID:10000664-1746295200-1746295200@portholemaine.com
SUMMARY:Matty & The Penders
DESCRIPTION:Live music with Matty & The Penders
URL:https://portholemaine.com/event/matty-the-penders/
LOCATION:The Porthole\, 20 Custom House Wharf\, Portland\, ME\, 04101
CATEGORIES:Entertainment,Live Music
ORGANIZER;CN="Porthole Restaurant & Pub":MAILTO:gm@portholemaine.commaine.com
END:VEVENT
BEGIN:VEVENT
DTSTART;TZID=Europe/Moscow:20250503T160000
DTEND;TZID=Europe/Moscow:20250503T160000
DTSTAMP:20260423T004757
CREATED:20250311T213522Z
LAST-MODIFIED:20250311T213522Z
UID:10000663-1746288000-1746288000@portholemaine.com
SUMMARY:Caleb Jolley
DESCRIPTION:Live music with Caleb Jolley
URL:https://portholemaine.com/event/caleb-jolley/
LOCATION:The Porthole\, 20 Custom House Wharf\, Portland\, ME\, 04101
CATEGORIES:Entertainment,Live Music
ORGANIZER;CN="Porthole Restaurant & Pub":MAILTO:gm@portholemaine.commaine.com
END:VEVENT
BEGIN:VEVENT
DTSTART;TZID=Europe/Moscow:20250503T130000
DTEND;TZID=Europe/Moscow:20250503T130000
DTSTAMP:20260423T004757
CREATED:20250311T213143Z
LAST-MODIFIED:20250311T213143Z
UID:10000662-1746277200-1746277200@portholemaine.com
SUMMARY:Something Stupid
DESCRIPTION:Live music with Something Stupid
URL:https://portholemaine.com/event/something-stupid/
LOCATION:The Porthole\, 20 Custom House Wharf\, Portland\, ME\, 04101
CATEGORIES:Entertainment,Live Music
ORGANIZER;CN="Porthole Restaurant & Pub":MAILTO:gm@portholemaine.commaine.com
END:VEVENT
BEGIN:VEVENT
DTSTART;TZID=Europe/Moscow:20250502T180000
DTEND;TZID=Europe/Moscow:20250502T180000
DTSTAMP:20260423T004757
CREATED:20250311T213017Z
LAST-MODIFIED:20250311T213017Z
UID:10000661-1746208800-1746208800@portholemaine.com
SUMMARY:After Dark AF
DESCRIPTION:Live music with our house party band After Dark\, featuring Andi Fawcett!
URL:https://portholemaine.com/event/after-dark-af-2/
LOCATION:The Porthole\, 20 Custom House Wharf\, Portland\, ME\, 04101
CATEGORIES:Entertainment,Live Music
ORGANIZER;CN="Porthole Restaurant & Pub":MAILTO:gm@portholemaine.commaine.com
END:VEVENT
BEGIN:VEVENT
DTSTART;TZID=Europe/Moscow:20250427T130000
DTEND;TZID=Europe/Moscow:20250427T130000
DTSTAMP:20260423T004757
CREATED:20250311T215100Z
LAST-MODIFIED:20250311T161857Z
UID:10000671-1745758800-1745758800@portholemaine.com
SUMMARY:Under the Covers
DESCRIPTION:Live music with Under the Covers
URL:https://portholemaine.com/event/under-the-covers-3/
LOCATION:The Porthole\, 20 Custom House Wharf\, Portland\, ME\, 04101
CATEGORIES:Entertainment,Live Music
ORGANIZER;CN="Porthole Restaurant & Pub":MAILTO:gm@portholemaine.commaine.com
END:VEVENT
BEGIN:VEVENT
DTSTART;TZID=Europe/Moscow:20250426T180000
DTEND;TZID=Europe/Moscow:20250426T180000
DTSTAMP:20260423T004757
CREATED:20250311T214905Z
LAST-MODIFIED:20250421T152431Z
UID:10000670-1745690400-1745690400@portholemaine.com
SUMMARY:After Dark
DESCRIPTION:Live music with After Dark!
URL:https://portholemaine.com/event/sugarbox-12/
LOCATION:The Porthole\, 20 Custom House Wharf\, Portland\, ME\, 04101
CATEGORIES:Entertainment,Live Music
ORGANIZER;CN="Porthole Restaurant & Pub":MAILTO:gm@portholemaine.commaine.com
END:VEVENT
BEGIN:VEVENT
DTSTART;TZID=Europe/Moscow:20250426T140000
DTEND;TZID=Europe/Moscow:20250426T200000
DTSTAMP:20260423T004757
CREATED:20250404T135357Z
LAST-MODIFIED:20250404T135443Z
UID:10000705-1745676000-1745697600@portholemaine.com
SUMMARY:Taco & Tequila Crawl
DESCRIPTION:Join the Taco & Tequila Crawl where you’ll exchange your tokens for flavor-packed tacos while sipping on discounted handcrafted margaritas\, smooth tequila\, and ice-cold beer — all while soaking in that fiesta atmosphere.  Join the Bar Crawl USA experience today!
URL:https://portholemaine.com/event/taco-tequila-crawl/
LOCATION:Example Region
END:VEVENT
BEGIN:VEVENT
DTSTART;TZID=Europe/Moscow:20250426T130000
DTEND;TZID=Europe/Moscow:20250426T130000
DTSTAMP:20260423T004757
CREATED:20250311T214806Z
LAST-MODIFIED:20250421T153039Z
UID:10000669-1745672400-1745672400@portholemaine.com
SUMMARY:Justin Carver
DESCRIPTION:Live music with Justin Carver
URL:https://portholemaine.com/event/andi-fawcett-duo/
LOCATION:The Porthole\, 20 Custom House Wharf\, Portland\, ME\, 04101
CATEGORIES:Entertainment,Live Music
ORGANIZER;CN="Porthole Restaurant & Pub":MAILTO:gm@portholemaine.commaine.com
END:VEVENT
BEGIN:VEVENT
DTSTART;TZID=Europe/Moscow:20250425T180000
DTEND;TZID=Europe/Moscow:20250425T180000
DTSTAMP:20260423T004757
CREATED:20250311T214538Z
LAST-MODIFIED:20250421T152911Z
UID:10000668-1745604000-1745604000@portholemaine.com
SUMMARY:Andi Fawcett & Friends
DESCRIPTION:Live music with Andi Fawcett!
URL:https://portholemaine.com/event/after-dark-af-3/
LOCATION:The Porthole\, 20 Custom House Wharf\, Portland\, ME\, 04101
CATEGORIES:Entertainment,Live Music
ORGANIZER;CN="Porthole Restaurant & Pub":MAILTO:gm@portholemaine.commaine.com
END:VEVENT
BEGIN:VEVENT
DTSTART;TZID=Europe/Moscow:20250420T130000
DTEND;TZID=Europe/Moscow:20250420T130000
DTSTAMP:20260423T004757
CREATED:20250415T184257Z
LAST-MODIFIED:20250415T184257Z
UID:10000799-1745154000-1745154000@portholemaine.com
SUMMARY:Uriah Carver
DESCRIPTION:Live music with Uriah Carver
URL:https://portholemaine.com/event/uriah-carver-3/
LOCATION:Example Region
END:VEVENT
BEGIN:VEVENT
DTSTART;TZID=Europe/Moscow:20250419T130000
DTEND;TZID=Europe/Moscow:20250419T130000
DTSTAMP:20260423T004757
CREATED:20250418T155131Z
LAST-MODIFIED:20250418T155131Z
UID:10000889-1745067600-1745067600@portholemaine.com
SUMMARY:Andi Fawcett & Friends
DESCRIPTION:Live music with Andi Fawcett & Friends
URL:https://portholemaine.com/event/andi-fawcett-friends-4/
LOCATION:The Porthole\, 20 Custom House Wharf\, Portland\, ME\, 04101
CATEGORIES:Live Music
ORGANIZER;CN="Porthole Restaurant & Pub":MAILTO:gm@portholemaine.commaine.com
END:VEVENT
BEGIN:VEVENT
DTSTART;TZID=Europe/Moscow:20250418T180000
DTEND;TZID=Europe/Moscow:20250418T180000
DTSTAMP:20260423T004757
CREATED:20250415T184330Z
LAST-MODIFIED:20250415T184330Z
UID:10000800-1744999200-1744999200@portholemaine.com
SUMMARY:Don Campbell
DESCRIPTION:Live music with Don Campbell
URL:https://portholemaine.com/event/don-campbell-7/
LOCATION:Example Region
CATEGORIES:Live Music
END:VEVENT
BEGIN:VEVENT
DTSTART;TZID=Europe/Moscow:20250418T160000
DTEND;TZID=Europe/Moscow:20250418T160000
DTSTAMP:20260423T004757
CREATED:20250418T154832Z
LAST-MODIFIED:20250418T154832Z
UID:10000887-1744992000-1744992000@portholemaine.com
SUMMARY:After Dark Duo
DESCRIPTION:Live music with The After Dark Duo
URL:https://portholemaine.com/event/after-dark-duo/
LOCATION:The Porthole\, 20 Custom House Wharf\, Portland\, ME\, 04101
CATEGORIES:Live Music
ORGANIZER;CN="Porthole Restaurant & Pub":MAILTO:gm@portholemaine.commaine.com
END:VEVENT
BEGIN:VEVENT
DTSTART;TZID=Europe/Moscow:20250411T170000
DTEND;TZID=Europe/Moscow:20250411T183000
DTSTAMP:20260423T004757
CREATED:20250310T161608Z
LAST-MODIFIED:20250401T164113Z
UID:10000615-1744390800-1744396200@portholemaine.com
SUMMARY:Sip & Script Workshop
DESCRIPTION:5 PM – 6:30 PM \nWhether you’re a stationery nerd\, DIY Bride-to-be\, or just a crafty individual\, you’ll be introduced to modern calligraphy with a pointed dip pen and ink in this workshop. We will cover all the basics and prepare you to add those unique lettered details to your snail mail\, wedding paper goods\, home decor\, and more! The perfect crafty night out! \nTICKETS
URL:https://portholemaine.com/event/sip-script-workshop/
LOCATION:The Porthole\, 20 Custom House Wharf\, Portland\, ME\, 04101
END:VEVENT
BEGIN:VEVENT
DTSTART;TZID=Europe/Moscow:20250405T150000
DTEND;TZID=Europe/Moscow:20250405T150000
DTSTAMP:20260423T004757
CREATED:20250205T175719Z
LAST-MODIFIED:20250418T155033Z
UID:10000672-1743865200-1743865200@portholemaine.com
SUMMARY:Andi Fawcett & Friends
DESCRIPTION:Live music with Andi Fawcett & Friends
URL:https://portholemaine.com/event/andi-fawcett-friends-3/2025-04-05/
LOCATION:The Porthole\, 20 Custom House Wharf\, Portland\, ME\, 04101
CATEGORIES:Live Music,Music
ORGANIZER;CN="Porthole Restaurant & Pub":MAILTO:gm@portholemaine.commaine.com
END:VEVENT
BEGIN:VEVENT
DTSTART;TZID=Europe/Moscow:20250404T180000
DTEND;TZID=Europe/Moscow:20250404T210000
DTSTAMP:20260423T004757
CREATED:20250321T074909Z
LAST-MODIFIED:20250321T080115Z
UID:10000704-1743789600-1743800400@portholemaine.com
SUMMARY:Spring Fling Party
DESCRIPTION:
URL:https://portholemaine.com/event/spring-fling-party/
LOCATION:The Porthole\, 20 Custom House Wharf\, Portland\, ME\, 04101
CATEGORIES:Entertainment
ORGANIZER;CN="Porthole Restaurant & Pub":MAILTO:gm@portholemaine.commaine.com
END:VEVENT
END:VCALENDAR