BEGIN:VCALENDAR
VERSION:2.0
PRODID:-//Porthole - ECPv6.10.2//NONSGML v1.0//EN
CALSCALE:GREGORIAN
METHOD:PUBLISH
X-WR-CALNAME:Porthole
X-ORIGINAL-URL:https://portholemaine.com
X-WR-CALDESC:Events for Porthole
REFRESH-INTERVAL;VALUE=DURATION:PT1H
X-Robots-Tag:noindex
X-PUBLISHED-TTL:PT1H
BEGIN:VTIMEZONE
TZID:Europe/Moscow
BEGIN:STANDARD
TZOFFSETFROM:+0300
TZOFFSETTO:+0300
TZNAME:MSK
DTSTART:20250101T000000
END:STANDARD
END:VTIMEZONE
BEGIN:VEVENT
DTSTART;TZID=Europe/Moscow:20250621T180000
DTEND;TZID=Europe/Moscow:20250621T180000
DTSTAMP:20260423T010634
CREATED:20250414T162259Z
LAST-MODIFIED:20250414T162259Z
UID:10000723-1750528800-1750528800@portholemaine.com
SUMMARY:13Black
DESCRIPTION:Live music with 13Black
URL:https://portholemaine.com/event/13black-5/
LOCATION:The Porthole\, 20 Custom House Wharf\, Portland\, ME\, 04101
CATEGORIES:Live Music
ORGANIZER;CN="Porthole Restaurant & Pub":MAILTO:gm@portholemaine.commaine.com
END:VEVENT
BEGIN:VEVENT
DTSTART;TZID=Europe/Moscow:20250621T130000
DTEND;TZID=Europe/Moscow:20250621T130000
DTSTAMP:20260423T010634
CREATED:20250414T162206Z
LAST-MODIFIED:20250414T162206Z
UID:10000722-1750510800-1750510800@portholemaine.com
SUMMARY:Cryin’ Out Loud
DESCRIPTION:Live music with Cryin’ Out Loud
URL:https://portholemaine.com/event/cryin-out-loud-9/
LOCATION:The Porthole\, 20 Custom House Wharf\, Portland\, ME\, 04101
CATEGORIES:Live Music
END:VEVENT
BEGIN:VEVENT
DTSTART;TZID=Europe/Moscow:20250620T180000
DTEND;TZID=Europe/Moscow:20250620T180000
DTSTAMP:20260423T010634
CREATED:20250414T161233Z
LAST-MODIFIED:20250414T161233Z
UID:10000721-1750442400-1750442400@portholemaine.com
SUMMARY:After Dark AF
DESCRIPTION:Live music with After Dark featuring Andi Fawcett
URL:https://portholemaine.com/event/after-dark-af-8/
LOCATION:The Porthole\, 20 Custom House Wharf\, Portland\, ME\, 04101
CATEGORIES:Live Music
ORGANIZER;CN="Porthole Restaurant & Pub":MAILTO:gm@portholemaine.commaine.com
END:VEVENT
BEGIN:VEVENT
DTSTART;TZID=Europe/Moscow:20250619T150000
DTEND;TZID=Europe/Moscow:20250619T150000
DTSTAMP:20260423T010634
CREATED:20250415T183817Z
LAST-MODIFIED:20250415T194537Z
UID:10000739-1750345200-1750345200@portholemaine.com
SUMMARY:Happy Hour with Jacky Treehorn
DESCRIPTION:Happy Hour with Jacky Treehorn
URL:https://portholemaine.com/event/happy-hour-with-jacky-treehorn/2025-06-19/
LOCATION:Example Region
CATEGORIES:Entertainment
END:VEVENT
BEGIN:VEVENT
DTSTART;TZID=Europe/Moscow:20250618T180000
DTEND;TZID=Europe/Moscow:20250618T180000
DTSTAMP:20260423T010634
CREATED:20250414T160143Z
LAST-MODIFIED:20250414T160143Z
UID:10000719-1750269600-1750269600@portholemaine.com
SUMMARY:Sierra Harris
DESCRIPTION:Live music with Sierra Harris
URL:https://portholemaine.com/event/sierra-harris/
LOCATION:The Porthole\, 20 Custom House Wharf\, Portland\, ME\, 04101
CATEGORIES:Live Music
ORGANIZER;CN="Porthole Restaurant & Pub":MAILTO:gm@portholemaine.commaine.com
END:VEVENT
BEGIN:VEVENT
DTSTART;TZID=Europe/Moscow:20250618T130000
DTEND;TZID=Europe/Moscow:20250618T130000
DTSTAMP:20260423T010634
CREATED:20250414T160023Z
LAST-MODIFIED:20250414T160023Z
UID:10000718-1750251600-1750251600@portholemaine.com
SUMMARY:Tyler Dhone
DESCRIPTION:Live music with Tyler Dhone
URL:https://portholemaine.com/event/tyler-dhone-22/
LOCATION:The Porthole\, 20 Custom House Wharf\, Portland\, ME\, 04101
CATEGORIES:Live Music
END:VEVENT
BEGIN:VEVENT
DTSTART;TZID=Europe/Moscow:20250615T130000
DTEND;TZID=Europe/Moscow:20250615T130000
DTSTAMP:20260423T010634
CREATED:20250414T155545Z
LAST-MODIFIED:20250414T155545Z
UID:10000716-1749992400-1749992400@portholemaine.com
SUMMARY:Under the Covers
DESCRIPTION:Live music with Under the Covers
URL:https://portholemaine.com/event/under-the-covers-5/
LOCATION:Example Region
CATEGORIES:Live Music
END:VEVENT
BEGIN:VEVENT
DTSTART;TZID=Europe/Moscow:20250614T180000
DTEND;TZID=Europe/Moscow:20250614T180000
DTSTAMP:20260423T010634
CREATED:20250414T155504Z
LAST-MODIFIED:20250414T155504Z
UID:10000715-1749924000-1749924000@portholemaine.com
SUMMARY:Matty & The Penders
DESCRIPTION:Live music with Matty & the Penders
URL:https://portholemaine.com/event/matty-the-penders-2/
LOCATION:The Porthole\, 20 Custom House Wharf\, Portland\, ME\, 04101
CATEGORIES:Live Music
END:VEVENT
BEGIN:VEVENT
DTSTART;TZID=Europe/Moscow:20250614T130000
DTEND;TZID=Europe/Moscow:20250614T130000
DTSTAMP:20260423T010634
CREATED:20250414T155403Z
LAST-MODIFIED:20250414T155403Z
UID:10000714-1749906000-1749906000@portholemaine.com
SUMMARY:Boba Funk
DESCRIPTION:Live music with Boba Funk
URL:https://portholemaine.com/event/boba-funk-8/
LOCATION:The Porthole\, 20 Custom House Wharf\, Portland\, ME\, 04101
CATEGORIES:Live Music
ORGANIZER;CN="Porthole Restaurant & Pub":MAILTO:gm@portholemaine.commaine.com
END:VEVENT
BEGIN:VEVENT
DTSTART;TZID=Europe/Moscow:20250613T180000
DTEND;TZID=Europe/Moscow:20250613T180000
DTSTAMP:20260423T010634
CREATED:20250414T155223Z
LAST-MODIFIED:20250414T155223Z
UID:10000713-1749837600-1749837600@portholemaine.com
SUMMARY:After Dark AF
DESCRIPTION:Live music with After Dark featuring Andi Fawcett
URL:https://portholemaine.com/event/after-dark-af-7/
LOCATION:The Porthole\, 20 Custom House Wharf\, Portland\, ME\, 04101
CATEGORIES:Live Music
ORGANIZER;CN="Porthole Restaurant & Pub":MAILTO:gm@portholemaine.commaine.com
END:VEVENT
BEGIN:VEVENT
DTSTART;TZID=Europe/Moscow:20250612T150000
DTEND;TZID=Europe/Moscow:20250612T150000
DTSTAMP:20260423T010634
CREATED:20250415T183817Z
LAST-MODIFIED:20250415T194537Z
UID:10000738-1749740400-1749740400@portholemaine.com
SUMMARY:Happy Hour with Jacky Treehorn
DESCRIPTION:Happy Hour with Jacky Treehorn
URL:https://portholemaine.com/event/happy-hour-with-jacky-treehorn/2025-06-12/
LOCATION:Example Region
CATEGORIES:Entertainment
END:VEVENT
BEGIN:VEVENT
DTSTART;TZID=Europe/Moscow:20250611T130000
DTEND;TZID=Europe/Moscow:20250611T130000
DTSTAMP:20260423T010634
CREATED:20250414T155047Z
LAST-MODIFIED:20250414T155047Z
UID:10000712-1749646800-1749646800@portholemaine.com
SUMMARY:Tyler Dhone
DESCRIPTION:Live music with Tyler Dhone
URL:https://portholemaine.com/event/tyler-dhone-21/
LOCATION:The Porthole\, 20 Custom House Wharf\, Portland\, ME\, 04101
CATEGORIES:Live Music
END:VEVENT
BEGIN:VEVENT
DTSTART;TZID=Europe/Moscow:20250607T180000
DTEND;TZID=Europe/Moscow:20250607T180000
DTSTAMP:20260423T010634
CREATED:20250414T152919Z
LAST-MODIFIED:20250414T154556Z
UID:10000709-1749319200-1749319200@portholemaine.com
SUMMARY:Hello Newman
DESCRIPTION:Live music with Hello Newman
URL:https://portholemaine.com/event/hello-newman-10/
LOCATION:The Porthole\, 20 Custom House Wharf\, Portland\, ME\, 04101
CATEGORIES:Live Music
END:VEVENT
BEGIN:VEVENT
DTSTART;TZID=Europe/Moscow:20250607T130000
DTEND;TZID=Europe/Moscow:20250607T130000
DTSTAMP:20260423T010634
CREATED:20250414T152136Z
LAST-MODIFIED:20250414T152136Z
UID:10000708-1749301200-1749301200@portholemaine.com
SUMMARY:Quiet Riot Act
DESCRIPTION:Live music with Quiet Riot Act
URL:https://portholemaine.com/event/quiet-riot-act-14/
LOCATION:The Porthole\, 20 Custom House Wharf\, Portland\, ME\, 04101
CATEGORIES:Live Music
END:VEVENT
BEGIN:VEVENT
DTSTART;TZID=Europe/Moscow:20250606T180000
DTEND;TZID=Europe/Moscow:20250606T180000
DTSTAMP:20260423T010634
CREATED:20250414T152014Z
LAST-MODIFIED:20250414T152014Z
UID:10000707-1749232800-1749232800@portholemaine.com
SUMMARY:After Dark AF
DESCRIPTION:Live music with After Dark featuring Andi Fawcett
URL:https://portholemaine.com/event/after-dark-af-6/
LOCATION:The Porthole\, 20 Custom House Wharf\, Portland\, ME\, 04101
CATEGORIES:Live Music
END:VEVENT
BEGIN:VEVENT
DTSTART;TZID=Europe/Moscow:20250605T150000
DTEND;TZID=Europe/Moscow:20250605T150000
DTSTAMP:20260423T010634
CREATED:20250415T183817Z
LAST-MODIFIED:20250415T194537Z
UID:10000737-1749135600-1749135600@portholemaine.com
SUMMARY:Happy Hour with Jacky Treehorn
DESCRIPTION:Happy Hour with Jacky Treehorn
URL:https://portholemaine.com/event/happy-hour-with-jacky-treehorn/2025-06-05/
LOCATION:Example Region
CATEGORIES:Entertainment
END:VEVENT
BEGIN:VEVENT
DTSTART;TZID=Europe/Moscow:20250531T180000
DTEND;TZID=Europe/Moscow:20250531T180000
DTSTAMP:20260423T010634
CREATED:20250320T165728Z
LAST-MODIFIED:20250320T165728Z
UID:10000702-1748714400-1748714400@portholemaine.com
SUMMARY:Stolen Mojo
DESCRIPTION:Live music with Stolen Mojo
URL:https://portholemaine.com/event/stolen-mojo-5/
LOCATION:The Porthole\, 20 Custom House Wharf\, Portland\, ME\, 04101
CATEGORIES:Live Music,Music
ORGANIZER;CN="Porthole Restaurant & Pub":MAILTO:gm@portholemaine.commaine.com
END:VEVENT
BEGIN:VEVENT
DTSTART;TZID=Europe/Moscow:20250531T160000
DTEND;TZID=Europe/Moscow:20250531T160000
DTSTAMP:20260423T010634
CREATED:20250320T165539Z
LAST-MODIFIED:20250320T170116Z
UID:10000701-1748707200-1748707200@portholemaine.com
SUMMARY:Tyler Dhone
DESCRIPTION:Live music with Tyler Dhone
URL:https://portholemaine.com/event/tyler-dhone-20/
LOCATION:The Porthole\, 20 Custom House Wharf\, Portland\, ME\, 04101
CATEGORIES:Live Music,Music
END:VEVENT
BEGIN:VEVENT
DTSTART;TZID=Europe/Moscow:20250531T130000
DTEND;TZID=Europe/Moscow:20250531T130000
DTSTAMP:20260423T010634
CREATED:20250320T165836Z
LAST-MODIFIED:20250320T165959Z
UID:10000703-1748696400-1748696400@portholemaine.com
SUMMARY:Bonnie & The Cats
DESCRIPTION:Live music with Bonnie & The Cats
URL:https://portholemaine.com/event/bonnie-cats/
LOCATION:The Porthole\, 20 Custom House Wharf\, Portland\, ME\, 04101
CATEGORIES:Live Music,Music
ORGANIZER;CN="Porthole Restaurant & Pub":MAILTO:gm@portholemaine.commaine.com
END:VEVENT
BEGIN:VEVENT
DTSTART;TZID=Europe/Moscow:20250530T180000
DTEND;TZID=Europe/Moscow:20250530T180000
DTSTAMP:20260423T010634
CREATED:20250320T164356Z
LAST-MODIFIED:20250320T164414Z
UID:10000700-1748628000-1748628000@portholemaine.com
SUMMARY:After Dark AF
DESCRIPTION:Live music with our house party band\, After Dark featuring Andi Fawcett!
URL:https://portholemaine.com/event/after-dark-af-5/
LOCATION:The Porthole\, 20 Custom House Wharf\, Portland\, ME\, 04101
CATEGORIES:Live Music,Music
ORGANIZER;CN="Porthole Restaurant & Pub":MAILTO:gm@portholemaine.commaine.com
END:VEVENT
BEGIN:VEVENT
DTSTART;TZID=Europe/Moscow:20250529T150000
DTEND;TZID=Europe/Moscow:20250529T150000
DTSTAMP:20260423T010634
CREATED:20250415T183817Z
LAST-MODIFIED:20250415T194537Z
UID:10000736-1748530800-1748530800@portholemaine.com
SUMMARY:Happy Hour with Jacky Treehorn
DESCRIPTION:Happy Hour with Jacky Treehorn
URL:https://portholemaine.com/event/happy-hour-with-jacky-treehorn/2025-05-29/
LOCATION:Example Region
CATEGORIES:Entertainment
END:VEVENT
BEGIN:VEVENT
DTSTART;TZID=Europe/Moscow:20250525T180000
DTEND;TZID=Europe/Moscow:20250525T180000
DTSTAMP:20260423T010634
CREATED:20250320T164235Z
LAST-MODIFIED:20250320T165439Z
UID:10000699-1748196000-1748196000@portholemaine.com
SUMMARY:The Middle Men
DESCRIPTION:Live music with The Middle Men
URL:https://portholemaine.com/event/the-middle-men/
LOCATION:The Porthole\, 20 Custom House Wharf\, Portland\, ME\, 04101
CATEGORIES:Live Music,Music
ORGANIZER;CN="Porthole Restaurant & Pub":MAILTO:gm@portholemaine.commaine.com
END:VEVENT
BEGIN:VEVENT
DTSTART;TZID=Europe/Moscow:20250525T130000
DTEND;TZID=Europe/Moscow:20250525T130000
DTSTAMP:20260423T010634
CREATED:20250320T163852Z
LAST-MODIFIED:20250320T163852Z
UID:10000698-1748178000-1748178000@portholemaine.com
SUMMARY:Christie Ray Grant Band
DESCRIPTION:Live music with Christie Ray Grant Band
URL:https://portholemaine.com/event/christie-ray-grant-band-2/
LOCATION:The Porthole\, 20 Custom House Wharf\, Portland\, ME\, 04101
CATEGORIES:Live Music,Music
ORGANIZER;CN="Porthole Restaurant & Pub":MAILTO:gm@portholemaine.commaine.com
END:VEVENT
BEGIN:VEVENT
DTSTART;TZID=Europe/Moscow:20250524T180000
DTEND;TZID=Europe/Moscow:20250524T180000
DTSTAMP:20260423T010634
CREATED:20250320T163254Z
LAST-MODIFIED:20250320T164601Z
UID:10000697-1748109600-1748109600@portholemaine.com
SUMMARY:DJ Tish
DESCRIPTION:
URL:https://portholemaine.com/event/dj-tish/
LOCATION:The Porthole\, 20 Custom House Wharf\, Portland\, ME\, 04101
CATEGORIES:Entertainment
ORGANIZER;CN="Porthole Restaurant & Pub":MAILTO:gm@portholemaine.commaine.com
END:VEVENT
BEGIN:VEVENT
DTSTART;TZID=Europe/Moscow:20250524T130000
DTEND;TZID=Europe/Moscow:20250524T130000
DTSTAMP:20260423T010634
CREATED:20250320T162043Z
LAST-MODIFIED:20250415T184104Z
UID:10000696-1748091600-1748091600@portholemaine.com
SUMMARY:Cryin’ Out Loud
DESCRIPTION:Live music with Cryin’ Out Loud
URL:https://portholemaine.com/event/cryin-out-loud-8/
LOCATION:The Porthole\, 20 Custom House Wharf\, Portland\, ME\, 04101
CATEGORIES:Live Music,Music
ORGANIZER;CN="Porthole Restaurant & Pub":MAILTO:gm@portholemaine.commaine.com
END:VEVENT
BEGIN:VEVENT
DTSTART;TZID=Europe/Moscow:20250523T180000
DTEND;TZID=Europe/Moscow:20250523T180000
DTSTAMP:20260423T010634
CREATED:20250320T161842Z
LAST-MODIFIED:20250320T161842Z
UID:10000695-1748023200-1748023200@portholemaine.com
SUMMARY:After Dark
DESCRIPTION:Live music with After Dark
URL:https://portholemaine.com/event/after-dark-3/
LOCATION:The Porthole\, 20 Custom House Wharf\, Portland\, ME\, 04101
CATEGORIES:Live Music,Music
ORGANIZER;CN="Porthole Restaurant & Pub":MAILTO:gm@portholemaine.commaine.com
END:VEVENT
BEGIN:VEVENT
DTSTART;TZID=Europe/Moscow:20250522T150000
DTEND;TZID=Europe/Moscow:20250522T150000
DTSTAMP:20260423T010634
CREATED:20250415T183817Z
LAST-MODIFIED:20250415T194537Z
UID:10000735-1747926000-1747926000@portholemaine.com
SUMMARY:Happy Hour with Jacky Treehorn
DESCRIPTION:Happy Hour with Jacky Treehorn
URL:https://portholemaine.com/event/happy-hour-with-jacky-treehorn/2025-05-22/
LOCATION:Example Region
CATEGORIES:Entertainment
END:VEVENT
BEGIN:VEVENT
DTSTART;TZID=Europe/Moscow:20250518T130000
DTEND;TZID=Europe/Moscow:20250518T130000
DTSTAMP:20260423T010634
CREATED:20250320T161533Z
LAST-MODIFIED:20250320T164719Z
UID:10000694-1747573200-1747573200@portholemaine.com
SUMMARY:Andi Fawcett Duo
DESCRIPTION:Live music with Andi Fawcett Duo
URL:https://portholemaine.com/event/andi-fawcett-duo-2/
LOCATION:The Porthole\, 20 Custom House Wharf\, Portland\, ME\, 04101
CATEGORIES:Live Music,Music
ORGANIZER;CN="Porthole Restaurant & Pub":MAILTO:gm@portholemaine.commaine.com
END:VEVENT
BEGIN:VEVENT
DTSTART;TZID=Europe/Moscow:20250518T110000
DTEND;TZID=Europe/Moscow:20250518T123000
DTSTAMP:20260423T010634
CREATED:20250320T104332Z
LAST-MODIFIED:20250320T134028Z
UID:10000686-1747566000-1747571400@portholemaine.com
SUMMARY:Spring Wreath Workshop
DESCRIPTION:TICKETS
URL:https://portholemaine.com/event/floral-workshop/
LOCATION:The Porthole\, 20 Custom House Wharf\, Portland\, ME\, 04101
ORGANIZER;CN="Porthole Restaurant & Pub":MAILTO:gm@portholemaine.commaine.com
END:VEVENT
BEGIN:VEVENT
DTSTART;TZID=Europe/Moscow:20250517T180000
DTEND;TZID=Europe/Moscow:20250517T180000
DTSTAMP:20260423T010634
CREATED:20250320T161247Z
LAST-MODIFIED:20250320T164906Z
UID:10000693-1747504800-1747504800@portholemaine.com
SUMMARY:13 Black
DESCRIPTION:Live music with 13 Black
URL:https://portholemaine.com/event/13-black-4/
LOCATION:The Porthole\, 20 Custom House Wharf\, Portland\, ME\, 04101
CATEGORIES:Live Music,Music
ORGANIZER;CN="Porthole Restaurant & Pub":MAILTO:gm@portholemaine.commaine.com
END:VEVENT
END:VCALENDAR