BEGIN:VCALENDAR
VERSION:2.0
PRODID:-//Porthole - ECPv6.10.2//NONSGML v1.0//EN
CALSCALE:GREGORIAN
METHOD:PUBLISH
X-WR-CALNAME:Porthole
X-ORIGINAL-URL:https://portholemaine.com
X-WR-CALDESC:Events for Porthole
REFRESH-INTERVAL;VALUE=DURATION:PT1H
X-Robots-Tag:noindex
X-PUBLISHED-TTL:PT1H
BEGIN:VTIMEZONE
TZID:Europe/Moscow
BEGIN:STANDARD
TZOFFSETFROM:+0300
TZOFFSETTO:+0300
TZNAME:MSK
DTSTART:20240101T000000
END:STANDARD
END:VTIMEZONE
BEGIN:VEVENT
DTSTART;TZID=Europe/Moscow:20250118T160000
DTEND;TZID=Europe/Moscow:20250118T160000
DTSTAMP:20260423T144233
CREATED:20241216T230752Z
LAST-MODIFIED:20250205T174700Z
UID:10000570-1737216000-1737216000@portholemaine.com
SUMMARY:Andi Fawcett & Friends
DESCRIPTION:Live music with Andi Fawcett & Friends
URL:https://portholemaine.com/event/andi-fawcett-friends-2/2025-01-18/
LOCATION:The Porthole\, 20 Custom House Wharf\, Portland\, ME\, 04101
CATEGORIES:Live Music,Music
ORGANIZER;CN="Porthole Restaurant & Pub":MAILTO:gm@portholemaine.commaine.com
END:VEVENT
BEGIN:VEVENT
DTSTART;TZID=Europe/Moscow:20250111T160000
DTEND;TZID=Europe/Moscow:20250111T160000
DTSTAMP:20260423T144233
CREATED:20241216T230752Z
LAST-MODIFIED:20250205T174700Z
UID:10000569-1736611200-1736611200@portholemaine.com
SUMMARY:Andi Fawcett & Friends
DESCRIPTION:Live music with Andi Fawcett & Friends
URL:https://portholemaine.com/event/andi-fawcett-friends-2/2025-01-11/
LOCATION:The Porthole\, 20 Custom House Wharf\, Portland\, ME\, 04101
CATEGORIES:Live Music,Music
ORGANIZER;CN="Porthole Restaurant & Pub":MAILTO:gm@portholemaine.commaine.com
END:VEVENT
BEGIN:VEVENT
DTSTART;TZID=Europe/Moscow:20250104T160000
DTEND;TZID=Europe/Moscow:20250104T160000
DTSTAMP:20260423T144233
CREATED:20241216T230752Z
LAST-MODIFIED:20250205T174700Z
UID:10000568-1736006400-1736006400@portholemaine.com
SUMMARY:Andi Fawcett & Friends
DESCRIPTION:Live music with Andi Fawcett & Friends
URL:https://portholemaine.com/event/andi-fawcett-friends-2/2025-01-04/
LOCATION:The Porthole\, 20 Custom House Wharf\, Portland\, ME\, 04101
CATEGORIES:Live Music,Music
ORGANIZER;CN="Porthole Restaurant & Pub":MAILTO:gm@portholemaine.commaine.com
END:VEVENT
BEGIN:VEVENT
DTSTART;TZID=Europe/Moscow:20241231T200000
DTEND;TZID=Europe/Moscow:20241231T200000
DTSTAMP:20260423T144233
CREATED:20241212T153021Z
LAST-MODIFIED:20241212T153021Z
UID:10000565-1735675200-1735675200@portholemaine.com
SUMMARY:NYE with After Dark AF
DESCRIPTION:Celebrate New Year’s Eve with After Dark AF!
URL:https://portholemaine.com/event/nye-with-after-dark-af/
LOCATION:The Porthole\, 20 Custom House Wharf\, Portland\, ME\, 04101
ORGANIZER;CN="Porthole Restaurant & Pub":MAILTO:gm@portholemaine.commaine.com
END:VEVENT
BEGIN:VEVENT
DTSTART;TZID=Europe/Moscow:20241228T160000
DTEND;TZID=Europe/Moscow:20241228T160000
DTSTAMP:20260423T144233
CREATED:20241216T230752Z
LAST-MODIFIED:20250205T174700Z
UID:10000567-1735401600-1735401600@portholemaine.com
SUMMARY:Andi Fawcett & Friends
DESCRIPTION:Live music with Andi Fawcett & Friends
URL:https://portholemaine.com/event/andi-fawcett-friends-2/2024-12-28/
LOCATION:The Porthole\, 20 Custom House Wharf\, Portland\, ME\, 04101
CATEGORIES:Live Music,Music
ORGANIZER;CN="Porthole Restaurant & Pub":MAILTO:gm@portholemaine.commaine.com
END:VEVENT
BEGIN:VEVENT
DTSTART;TZID=Europe/Moscow:20241221T160000
DTEND;TZID=Europe/Moscow:20241221T160000
DTSTAMP:20260423T144233
CREATED:20241218T155557Z
LAST-MODIFIED:20241218T155557Z
UID:10000581-1734796800-1734796800@portholemaine.com
SUMMARY:Quiet Riot Act
DESCRIPTION:Live music with Quiet Riot Act
URL:https://portholemaine.com/event/quiet-riot-act-13/
LOCATION:The Porthole\, 20 Custom House Wharf\, Portland\, ME\, 04101
CATEGORIES:Live Music,Music
ORGANIZER;CN="Porthole Restaurant & Pub":MAILTO:gm@portholemaine.commaine.com
END:VEVENT
BEGIN:VEVENT
DTSTART;TZID=Europe/Moscow:20241214T200000
DTEND;TZID=Europe/Moscow:20241214T200000
DTSTAMP:20260423T144233
CREATED:20241111T211349Z
LAST-MODIFIED:20241111T211349Z
UID:10000490-1734206400-1734206400@portholemaine.com
SUMMARY:Ugly Sweater Bar Crawl: After Dark
DESCRIPTION:Live music with our favorite party band\, After Dark! Dress in your ugliest best!
URL:https://portholemaine.com/event/ugly-sweater-bar-crawl-after-dark/
LOCATION:The Porthole\, 20 Custom House Wharf\, Portland\, ME\, 04101
CATEGORIES:Live Music,Music
ORGANIZER;CN="Porthole Restaurant & Pub":MAILTO:gm@portholemaine.commaine.com
END:VEVENT
BEGIN:VEVENT
DTSTART;TZID=Europe/Moscow:20241207T190000
DTEND;TZID=Europe/Moscow:20241207T190000
DTSTAMP:20260423T144233
CREATED:20241120T214401Z
LAST-MODIFIED:20241120T214401Z
UID:10000564-1733598000-1733598000@portholemaine.com
SUMMARY:Let It Glow: A Tree Lighting Celebration
DESCRIPTION:Join us for a night filled with holiday spirit as we light our lobster trap Christmas tree!\nFeaturing live music with Andi Fawcett\, a boozy hot chocolate bar\, & more!
URL:https://portholemaine.com/event/let-it-glow-a-tree-lighting-celebration/
LOCATION:The Porthole\, 20 Custom House Wharf\, Portland\, ME\, 04101
CATEGORIES:Live Music,Music
ORGANIZER;CN="Porthole Restaurant & Pub":MAILTO:gm@portholemaine.commaine.com
END:VEVENT
BEGIN:VEVENT
DTSTART;TZID=Europe/Moscow:20241207T190000
DTEND;TZID=Europe/Moscow:20241207T190000
DTSTAMP:20260423T144233
CREATED:20241120T181834Z
LAST-MODIFIED:20241120T183345Z
UID:10000563-1733598000-1733598000@portholemaine.com
SUMMARY:SantaCon: Andi Fawcett
DESCRIPTION:Dress in your Santa best for SantaCon! Enjoy our holiday lights and live music with Andi Fawcett
URL:https://portholemaine.com/event/santacon-andi-fawcett/
LOCATION:The Porthole\, 20 Custom House Wharf\, Portland\, ME\, 04101
CATEGORIES:Live Music,Music
ORGANIZER;CN="Porthole Restaurant & Pub":MAILTO:gm@portholemaine.commaine.com
END:VEVENT
BEGIN:VEVENT
DTSTART;TZID=Europe/Moscow:20241207T113000
DTEND;TZID=Europe/Moscow:20241207T153000
DTSTAMP:20260423T144233
CREATED:20241111T211606Z
LAST-MODIFIED:20241120T183534Z
UID:10000491-1733571000-1733585400@portholemaine.com
SUMMARY:Holiday Market: Andi Fawcett
DESCRIPTION:Join us for our Holiday Market and enjoy tunes by Andi Fawcett while browsing creations from some of southern Maine’s finest artisans!
URL:https://portholemaine.com/event/holiday-market-andi-fawcett/
LOCATION:The Porthole\, 20 Custom House Wharf\, Portland\, ME\, 04101
CATEGORIES:Live Music,Music
ORGANIZER;CN="Porthole Restaurant & Pub":MAILTO:gm@portholemaine.commaine.com
END:VEVENT
BEGIN:VEVENT
DTSTART;TZID=Europe/Moscow:20241130T150000
DTEND;TZID=Europe/Moscow:20241130T180000
DTSTAMP:20260423T144233
CREATED:20241106T164736Z
LAST-MODIFIED:20241106T164736Z
UID:10000488-1732978800-1732989600@portholemaine.com
SUMMARY:Don Campbell
DESCRIPTION:Live music with Don Campbell
URL:https://portholemaine.com/event/don-campbell-5/
LOCATION:The Porthole\, 20 Custom House Wharf\, Portland\, ME\, 04101
CATEGORIES:Live Music,Music
ORGANIZER;CN="Porthole Restaurant & Pub":MAILTO:gm@portholemaine.commaine.com
END:VEVENT
BEGIN:VEVENT
DTSTART;TZID=Europe/Moscow:20241127T180000
DTEND;TZID=Europe/Moscow:20241127T180000
DTSTAMP:20260423T144233
CREATED:20241106T164838Z
LAST-MODIFIED:20241120T184150Z
UID:10000489-1732730400-1732730400@portholemaine.com
SUMMARY:Thanksgiving Eve: After Dark
DESCRIPTION:Live music with After Dark
URL:https://portholemaine.com/event/thanksgiving-eve-after-dark/
LOCATION:The Porthole\, 20 Custom House Wharf\, Portland\, ME\, 04101
CATEGORIES:Live Music,Music
ORGANIZER;CN="Porthole Restaurant & Pub":MAILTO:gm@portholemaine.commaine.com
END:VEVENT
BEGIN:VEVENT
DTSTART;TZID=Europe/Moscow:20241123T150000
DTEND;TZID=Europe/Moscow:20241123T180000
DTSTAMP:20260423T144233
CREATED:20241106T164638Z
LAST-MODIFIED:20241111T211612Z
UID:10000486-1732374000-1732384800@portholemaine.com
SUMMARY:Andi Fawcett & Friends
DESCRIPTION:Live music with Andi Fawcett & Friends
URL:https://portholemaine.com/event/andi-fawcett-friends/
LOCATION:The Porthole\, 20 Custom House Wharf\, Portland\, ME\, 04101
CATEGORIES:Live Music,Music
ORGANIZER;CN="Porthole Restaurant & Pub":MAILTO:gm@portholemaine.commaine.com
END:VEVENT
BEGIN:VEVENT
DTSTART;TZID=Europe/Moscow:20241028T120000
DTEND;TZID=Europe/Moscow:20241028T120000
DTSTAMP:20260423T144233
CREATED:20241001T184630Z
LAST-MODIFIED:20241001T184630Z
UID:10000478-1730116800-1730116800@portholemaine.com
SUMMARY:Henry Lowery
DESCRIPTION:Live music with Henry Lowery
URL:https://portholemaine.com/event/henry-lowery-16/
LOCATION:The Porthole\, 20 Custom House Wharf\, Portland\, ME\, 04101
CATEGORIES:Live Music,Music
ORGANIZER;CN="Porthole Restaurant & Pub":MAILTO:gm@portholemaine.commaine.com
END:VEVENT
BEGIN:VEVENT
DTSTART;TZID=Europe/Moscow:20241025T080000
DTEND;TZID=Europe/Moscow:20241025T200000
DTSTAMP:20260423T144233
CREATED:20241017T171811Z
LAST-MODIFIED:20241017T171811Z
UID:10000485-1729843200-1729886400@portholemaine.com
SUMMARY:Costume Party: DJ Jams Frrever
DESCRIPTION:Join us for our “Enchanted Hollows” Halloween party! Dress to impress the costume judges!
URL:https://portholemaine.com/event/costume-party-dj-jams-frrever/
LOCATION:The Porthole\, 20 Custom House Wharf\, Portland\, ME\, 04101
ORGANIZER;CN="Porthole Restaurant & Pub":MAILTO:gm@portholemaine.commaine.com
END:VEVENT
BEGIN:VEVENT
DTSTART;TZID=Europe/Moscow:20241023T120000
DTEND;TZID=Europe/Moscow:20241023T120000
DTSTAMP:20260423T144233
CREATED:20241001T184547Z
LAST-MODIFIED:20241001T184547Z
UID:10000477-1729684800-1729684800@portholemaine.com
SUMMARY:Andi Fawcett
DESCRIPTION:Live music with Andi Fawcett
URL:https://portholemaine.com/event/andi-fawcett-19/
LOCATION:The Porthole\, 20 Custom House Wharf\, Portland\, ME\, 04101
CATEGORIES:Live Music,Music
ORGANIZER;CN="Porthole Restaurant & Pub":MAILTO:gm@portholemaine.commaine.com
END:VEVENT
BEGIN:VEVENT
DTSTART;TZID=Europe/Moscow:20241022T120000
DTEND;TZID=Europe/Moscow:20241022T120000
DTSTAMP:20260423T144233
CREATED:20241001T184501Z
LAST-MODIFIED:20241001T184501Z
UID:10000476-1729598400-1729598400@portholemaine.com
SUMMARY:Andi Fawcett
DESCRIPTION:Live music with Andi Fawcett
URL:https://portholemaine.com/event/andi-fawcett-18/
LOCATION:The Porthole\, 20 Custom House Wharf\, Portland\, ME\, 04101
CATEGORIES:Live Music,Music
ORGANIZER;CN="Porthole Restaurant & Pub":MAILTO:gm@portholemaine.commaine.com
END:VEVENT
BEGIN:VEVENT
DTSTART;TZID=Europe/Moscow:20241020T120000
DTEND;TZID=Europe/Moscow:20241020T120000
DTSTAMP:20260423T144233
CREATED:20241009T154524Z
LAST-MODIFIED:20241009T154524Z
UID:10000483-1729425600-1729425600@portholemaine.com
SUMMARY:Justin Carver
DESCRIPTION:Live music with Justin Carver
URL:https://portholemaine.com/event/justin-carver-28/
LOCATION:The Porthole\, 20 Custom House Wharf\, Portland\, ME\, 04101
CATEGORIES:Live Music,Music
ORGANIZER;CN="Porthole Restaurant & Pub":MAILTO:gm@portholemaine.commaine.com
END:VEVENT
BEGIN:VEVENT
DTSTART;TZID=Europe/Moscow:20241019T160000
DTEND;TZID=Europe/Moscow:20241019T160000
DTSTAMP:20260423T144233
CREATED:20241001T184408Z
LAST-MODIFIED:20241017T171329Z
UID:10000475-1729353600-1729353600@portholemaine.com
SUMMARY:Boba Funk
DESCRIPTION:Live music with Boba Funk
URL:https://portholemaine.com/event/boba-funk-6/
LOCATION:The Porthole\, 20 Custom House Wharf\, Portland\, ME\, 04101
CATEGORIES:Live Music,Music
ORGANIZER;CN="Porthole Restaurant & Pub":MAILTO:gm@portholemaine.commaine.com
END:VEVENT
BEGIN:VEVENT
DTSTART;TZID=Europe/Moscow:20241019T120000
DTEND;TZID=Europe/Moscow:20241019T120000
DTSTAMP:20260423T144233
CREATED:20241001T183011Z
LAST-MODIFIED:20241017T170758Z
UID:10000473-1729339200-1729339200@portholemaine.com
SUMMARY:Quiet Riot Act
DESCRIPTION:Live music with Quiet Riot Act
URL:https://portholemaine.com/event/quiet-riot-act-12/
LOCATION:The Porthole\, 20 Custom House Wharf\, Portland\, ME\, 04101
CATEGORIES:Live Music,Music
ORGANIZER;CN="Porthole Restaurant & Pub":MAILTO:gm@portholemaine.commaine.com
END:VEVENT
BEGIN:VEVENT
DTSTART;TZID=Europe/Moscow:20241018T180000
DTEND;TZID=Europe/Moscow:20241018T180000
DTSTAMP:20260423T144233
CREATED:20241017T170429Z
LAST-MODIFIED:20241017T170429Z
UID:10000484-1729274400-1729274400@portholemaine.com
SUMMARY:After Dark: Uriah & Decky Drums
DESCRIPTION:Live music with After Dark: Uriah & Decky Drums
URL:https://portholemaine.com/event/after-dark-uriah-decky-drums-2/
LOCATION:The Porthole\, 20 Custom House Wharf\, Portland\, ME\, 04101
CATEGORIES:Live Music,Music
ORGANIZER;CN="Porthole Restaurant & Pub":MAILTO:gm@portholemaine.commaine.com
END:VEVENT
BEGIN:VEVENT
DTSTART;TZID=Europe/Moscow:20241015T120000
DTEND;TZID=Europe/Moscow:20241015T120000
DTSTAMP:20260423T144233
CREATED:20241001T182904Z
LAST-MODIFIED:20241001T182904Z
UID:10000472-1728993600-1728993600@portholemaine.com
SUMMARY:Andi Fawcett
DESCRIPTION:Live music with Andi Fawcett
URL:https://portholemaine.com/event/andi-fawcett-17/
LOCATION:The Porthole\, 20 Custom House Wharf\, Portland\, ME\, 04101
CATEGORIES:Live Music,Music
ORGANIZER;CN="Porthole Restaurant & Pub":MAILTO:gm@portholemaine.commaine.com
END:VEVENT
BEGIN:VEVENT
DTSTART;TZID=Europe/Moscow:20241013T130000
DTEND;TZID=Europe/Moscow:20241013T130000
DTSTAMP:20260423T144233
CREATED:20241001T182702Z
LAST-MODIFIED:20241001T182758Z
UID:10000471-1728824400-1728824400@portholemaine.com
SUMMARY:Bonnie & the Cats
DESCRIPTION:Live music with Bonnie & the Cats
URL:https://portholemaine.com/event/bonnie-the-cats-8/
LOCATION:The Porthole\, 20 Custom House Wharf\, Portland\, ME\, 04101
CATEGORIES:Live Music,Music
ORGANIZER;CN="Porthole Restaurant & Pub":MAILTO:gm@portholemaine.commaine.com
END:VEVENT
BEGIN:VEVENT
DTSTART;TZID=Europe/Moscow:20241012T160000
DTEND;TZID=Europe/Moscow:20241012T160000
DTSTAMP:20260423T144233
CREATED:20241009T153940Z
LAST-MODIFIED:20241009T154149Z
UID:10000481-1728748800-1728748800@portholemaine.com
SUMMARY:Phil in the Blanks
DESCRIPTION:Live music with Phil in the Blanks
URL:https://portholemaine.com/event/phil-in-the-blanks-2/
LOCATION:The Porthole\, 20 Custom House Wharf\, Portland\, ME\, 04101
CATEGORIES:Live Music,Music
ORGANIZER;CN="Porthole Restaurant & Pub":MAILTO:gm@portholemaine.commaine.com
END:VEVENT
BEGIN:VEVENT
DTSTART;TZID=Europe/Moscow:20241012T120000
DTEND;TZID=Europe/Moscow:20241012T120000
DTSTAMP:20260423T144233
CREATED:20241009T153803Z
LAST-MODIFIED:20241009T153803Z
UID:10000480-1728734400-1728734400@portholemaine.com
SUMMARY:Henry Honkonen
DESCRIPTION:Live music with Henry Honkonen
URL:https://portholemaine.com/event/henry-honkonen-2/
LOCATION:The Porthole\, 20 Custom House Wharf\, Portland\, ME\, 04101
CATEGORIES:Live Music,Music
ORGANIZER;CN="Porthole Restaurant & Pub":MAILTO:gm@portholemaine.commaine.com
END:VEVENT
BEGIN:VEVENT
DTSTART;TZID=Europe/Moscow:20241011T180000
DTEND;TZID=Europe/Moscow:20241011T180000
DTSTAMP:20260423T144233
CREATED:20241009T154104Z
LAST-MODIFIED:20241009T154120Z
UID:10000482-1728669600-1728669600@portholemaine.com
SUMMARY:Hello Newman
DESCRIPTION:Live music with Hello Newman
URL:https://portholemaine.com/event/hello-newman-11/
LOCATION:The Porthole\, 20 Custom House Wharf\, Portland\, ME\, 04101
CATEGORIES:Live Music,Music
ORGANIZER;CN="Porthole Restaurant & Pub":MAILTO:gm@portholemaine.commaine.com
END:VEVENT
BEGIN:VEVENT
DTSTART;TZID=Europe/Moscow:20241011T120000
DTEND;TZID=Europe/Moscow:20241011T120000
DTSTAMP:20260423T144233
CREATED:20241001T182519Z
LAST-MODIFIED:20241009T153718Z
UID:10000469-1728648000-1728648000@portholemaine.com
SUMMARY:Andi Fawcett
DESCRIPTION:Live music with Andi Fawcett
URL:https://portholemaine.com/event/andi-fawcett-16/
LOCATION:The Porthole\, 20 Custom House Wharf\, Portland\, ME\, 04101
CATEGORIES:Live Music,Music
ORGANIZER;CN="Porthole Restaurant & Pub":MAILTO:gm@portholemaine.commaine.com
END:VEVENT
BEGIN:VEVENT
DTSTART;TZID=Europe/Moscow:20241010T120000
DTEND;TZID=Europe/Moscow:20241010T120000
DTSTAMP:20260423T144233
CREATED:20241009T153629Z
LAST-MODIFIED:20241009T153629Z
UID:10000479-1728561600-1728561600@portholemaine.com
SUMMARY:Henry Honkonen
DESCRIPTION:Live music with Henry Honkonen
URL:https://portholemaine.com/event/henry-honkonen/
LOCATION:The Porthole\, 20 Custom House Wharf\, Portland\, ME\, 04101
CATEGORIES:Live Music,Music
ORGANIZER;CN="Porthole Restaurant & Pub":MAILTO:gm@portholemaine.commaine.com
END:VEVENT
BEGIN:VEVENT
DTSTART;TZID=Europe/Moscow:20241009T120000
DTEND;TZID=Europe/Moscow:20241009T120000
DTSTAMP:20260423T144233
CREATED:20241001T182345Z
LAST-MODIFIED:20241001T182345Z
UID:10000468-1728475200-1728475200@portholemaine.com
SUMMARY:Quiet Riot Act
DESCRIPTION:Live music Quiet Riot Act
URL:https://portholemaine.com/event/quiet-riot-act-11/
LOCATION:The Porthole\, 20 Custom House Wharf\, Portland\, ME\, 04101
CATEGORIES:Live Music,Music
ORGANIZER;CN="Porthole Restaurant & Pub":MAILTO:gm@portholemaine.commaine.com
END:VEVENT
BEGIN:VEVENT
DTSTART;TZID=Europe/Moscow:20241008T120000
DTEND;TZID=Europe/Moscow:20241008T120000
DTSTAMP:20260423T144233
CREATED:20241001T182254Z
LAST-MODIFIED:20241001T182254Z
UID:10000467-1728388800-1728388800@portholemaine.com
SUMMARY:Andi Fawcett
DESCRIPTION:Live music with Andi Fawcett
URL:https://portholemaine.com/event/andi-fawcett-15/
LOCATION:The Porthole\, 20 Custom House Wharf\, Portland\, ME\, 04101
CATEGORIES:Live Music,Music
ORGANIZER;CN="Porthole Restaurant & Pub":MAILTO:gm@portholemaine.commaine.com
END:VEVENT
END:VCALENDAR