BEGIN:VCALENDAR
VERSION:2.0
PRODID:-//Porthole - ECPv6.10.2//NONSGML v1.0//EN
CALSCALE:GREGORIAN
METHOD:PUBLISH
X-WR-CALNAME:Porthole
X-ORIGINAL-URL:https://portholemaine.com
X-WR-CALDESC:Events for Porthole
REFRESH-INTERVAL;VALUE=DURATION:PT1H
X-Robots-Tag:noindex
X-PUBLISHED-TTL:PT1H
BEGIN:VTIMEZONE
TZID:Europe/Moscow
BEGIN:STANDARD
TZOFFSETFROM:+0300
TZOFFSETTO:+0300
TZNAME:MSK
DTSTART:20240101T000000
END:STANDARD
END:VTIMEZONE
BEGIN:VEVENT
DTSTART;TZID=Europe/Moscow:20240913T140000
DTEND;TZID=Europe/Moscow:20240913T140000
DTSTAMP:20260423T144233
CREATED:20240905T211409Z
LAST-MODIFIED:20240905T211409Z
UID:10000442-1726236000-1726236000@portholemaine.com
SUMMARY:Justin Carver
DESCRIPTION:Live music with Justin Carver
URL:https://portholemaine.com/event/justin-carver-24/
LOCATION:The Porthole\, 20 Custom House Wharf\, Portland\, ME\, 04101
CATEGORIES:Live Music,Music
END:VEVENT
BEGIN:VEVENT
DTSTART;TZID=Europe/Moscow:20240912T180000
DTEND;TZID=Europe/Moscow:20240912T180000
DTSTAMP:20260423T144233
CREATED:20240905T210337Z
LAST-MODIFIED:20240905T210430Z
UID:10000439-1726164000-1726164000@portholemaine.com
SUMMARY:Justin Carver
DESCRIPTION:Live music with Justin Carver
URL:https://portholemaine.com/event/justin-carver-22/
LOCATION:The Porthole\, 20 Custom House Wharf\, Portland\, ME\, 04101
CATEGORIES:Live Music,Music
ORGANIZER;CN="Porthole Restaurant & Pub":MAILTO:gm@portholemaine.commaine.com
END:VEVENT
BEGIN:VEVENT
DTSTART;TZID=Europe/Moscow:20240912T140000
DTEND;TZID=Europe/Moscow:20240912T140000
DTSTAMP:20260423T144233
CREATED:20240905T211314Z
LAST-MODIFIED:20240905T211314Z
UID:10000441-1726149600-1726149600@portholemaine.com
SUMMARY:Tyler Dhone
DESCRIPTION:Live music with Tyler Dhone
URL:https://portholemaine.com/event/tyler-dhone-16/
LOCATION:Example Region
CATEGORIES:Live Music,Music
END:VEVENT
BEGIN:VEVENT
DTSTART;TZID=Europe/Moscow:20240911T180000
DTEND;TZID=Europe/Moscow:20240911T180000
DTSTAMP:20260423T144233
CREATED:20240905T210540Z
LAST-MODIFIED:20240905T210540Z
UID:10000440-1726077600-1726077600@portholemaine.com
SUMMARY:Justin Carver
DESCRIPTION:Live music with Justin Carver
URL:https://portholemaine.com/event/justin-carver-23/
LOCATION:The Porthole\, 20 Custom House Wharf\, Portland\, ME\, 04101
CATEGORIES:Live Music,Music
ORGANIZER;CN="Porthole Restaurant & Pub":MAILTO:gm@portholemaine.commaine.com
END:VEVENT
BEGIN:VEVENT
DTSTART;TZID=Europe/Moscow:20240911T140000
DTEND;TZID=Europe/Moscow:20240911T140000
DTSTAMP:20260423T144233
CREATED:20240905T210233Z
LAST-MODIFIED:20240905T210233Z
UID:10000438-1726063200-1726063200@portholemaine.com
SUMMARY:Tyler Dhone
DESCRIPTION:Live music with Tyler Dhone
URL:https://portholemaine.com/event/tyler-dhone-15/
LOCATION:The Porthole\, 20 Custom House Wharf\, Portland\, ME\, 04101
CATEGORIES:Live Music,Music
ORGANIZER;CN="Porthole Restaurant & Pub":MAILTO:gm@portholemaine.commaine.com
END:VEVENT
BEGIN:VEVENT
DTSTART;TZID=Europe/Moscow:20240910T170000
DTEND;TZID=Europe/Moscow:20240910T170000
DTSTAMP:20260423T144233
CREATED:20240905T210000Z
LAST-MODIFIED:20240905T210011Z
UID:10000437-1725987600-1725987600@portholemaine.com
SUMMARY:Justin Carver
DESCRIPTION:Live music with Justin Carver
URL:https://portholemaine.com/event/justin-carver-21/
LOCATION:The Porthole\, 20 Custom House Wharf\, Portland\, ME\, 04101
CATEGORIES:Live Music,Music
ORGANIZER;CN="Porthole Restaurant & Pub":MAILTO:gm@portholemaine.commaine.com
END:VEVENT
BEGIN:VEVENT
DTSTART;TZID=Europe/Moscow:20240910T120000
DTEND;TZID=Europe/Moscow:20240910T120000
DTSTAMP:20260423T144233
CREATED:20240905T205920Z
LAST-MODIFIED:20240905T205920Z
UID:10000436-1725969600-1725969600@portholemaine.com
SUMMARY:Andi Fawcett
DESCRIPTION:Live music with Andi Fawcett
URL:https://portholemaine.com/event/andi-fawcett-12/
LOCATION:The Porthole\, 20 Custom House Wharf\, Portland\, ME\, 04101
CATEGORIES:Live Music,Music
ORGANIZER;CN="Porthole Restaurant & Pub":MAILTO:gm@portholemaine.commaine.com
END:VEVENT
BEGIN:VEVENT
DTSTART;TZID=Europe/Moscow:20240909T170000
DTEND;TZID=Europe/Moscow:20240909T170000
DTSTAMP:20260423T144233
CREATED:20240818T234254Z
LAST-MODIFIED:20240905T205346Z
UID:10000411-1725901200-1725901200@portholemaine.com
SUMMARY:Henry Lowery
DESCRIPTION:Live music with Henry Lowery
URL:https://portholemaine.com/event/henry-lowery-15/
LOCATION:The Porthole\, 20 Custom House Wharf\, Portland\, ME\, 04101
CATEGORIES:Live Music,Music
END:VEVENT
BEGIN:VEVENT
DTSTART;TZID=Europe/Moscow:20240908T180000
DTEND;TZID=Europe/Moscow:20240908T180000
DTSTAMP:20260423T144233
CREATED:20240818T234153Z
LAST-MODIFIED:20240905T205308Z
UID:10000410-1725818400-1725818400@portholemaine.com
SUMMARY:The Running Kind: After Dark
DESCRIPTION:Live music with The Running Kind: After Dark
URL:https://portholemaine.com/event/chase-jobe-the-running-kind/
LOCATION:The Porthole\, 20 Custom House Wharf\, Portland\, ME\, 04101
CATEGORIES:Live Music,Music
END:VEVENT
BEGIN:VEVENT
DTSTART;TZID=Europe/Moscow:20240908T140000
DTEND;TZID=Europe/Moscow:20240908T140000
DTSTAMP:20260423T144233
CREATED:20240818T233716Z
LAST-MODIFIED:20240818T233716Z
UID:10000409-1725804000-1725804000@portholemaine.com
SUMMARY:Doubting Gravity
DESCRIPTION:Live music with Doubting Gravity
URL:https://portholemaine.com/event/doubting-gravity-11/
LOCATION:The Porthole\, 20 Custom House Wharf\, Portland\, ME\, 04101
CATEGORIES:Live Music,Music
END:VEVENT
BEGIN:VEVENT
DTSTART;TZID=Europe/Moscow:20240907T190000
DTEND;TZID=Europe/Moscow:20240907T190000
DTSTAMP:20260423T144233
CREATED:20240818T233632Z
LAST-MODIFIED:20240818T233632Z
UID:10000408-1725735600-1725735600@portholemaine.com
SUMMARY:Deck Dance Party with DJ Father Tish
DESCRIPTION:Deck Dance Party with DJ Father Tish
URL:https://portholemaine.com/event/deck-dance-party-with-dj-father-tish-11/
LOCATION:The Porthole\, 20 Custom House Wharf\, Portland\, ME\, 04101
END:VEVENT
BEGIN:VEVENT
DTSTART;TZID=Europe/Moscow:20240907T140000
DTEND;TZID=Europe/Moscow:20240907T140000
DTSTAMP:20260423T144233
CREATED:20240818T233319Z
LAST-MODIFIED:20240818T233319Z
UID:10000407-1725717600-1725717600@portholemaine.com
SUMMARY:Spyglass
DESCRIPTION:Live music with Spyglass
URL:https://portholemaine.com/event/spyglass-11/
LOCATION:The Porthole\, 20 Custom House Wharf\, Portland\, ME\, 04101
END:VEVENT
BEGIN:VEVENT
DTSTART;TZID=Europe/Moscow:20240906T190000
DTEND;TZID=Europe/Moscow:20240906T190000
DTSTAMP:20260423T144233
CREATED:20240818T233113Z
LAST-MODIFIED:20240818T233113Z
UID:10000406-1725649200-1725649200@portholemaine.com
SUMMARY:Hello Newman
DESCRIPTION:Live music with Hello Newman
URL:https://portholemaine.com/event/hello-newman-9/
LOCATION:The Porthole\, 20 Custom House Wharf\, Portland\, ME\, 04101
END:VEVENT
BEGIN:VEVENT
DTSTART;TZID=Europe/Moscow:20240906T150000
DTEND;TZID=Europe/Moscow:20240906T150000
DTSTAMP:20260423T144233
CREATED:20240905T205113Z
LAST-MODIFIED:20240905T205204Z
UID:10000433-1725634800-1725634800@portholemaine.com
SUMMARY:DJ Jacky Treehorn
DESCRIPTION:DJ Jacky Treehorn
URL:https://portholemaine.com/event/dj-jacky-treehorn-20/
LOCATION:The Porthole\, 20 Custom House Wharf\, Portland\, ME\, 04101
CATEGORIES:Live Music,Music
ORGANIZER;CN="Porthole Restaurant & Pub":MAILTO:gm@portholemaine.commaine.com
END:VEVENT
BEGIN:VEVENT
DTSTART;TZID=Europe/Moscow:20240906T120000
DTEND;TZID=Europe/Moscow:20240906T120000
DTSTAMP:20260423T144233
CREATED:20240905T204912Z
LAST-MODIFIED:20240905T204924Z
UID:10000432-1725624000-1725624000@portholemaine.com
SUMMARY:Justin Carver
DESCRIPTION:Live music with Justin Carver
URL:https://portholemaine.com/event/justin-carver-20/
LOCATION:The Porthole\, 20 Custom House Wharf\, Portland\, ME\, 04101
CATEGORIES:Live Music,Music
ORGANIZER;CN="Porthole Restaurant & Pub":MAILTO:gm@portholemaine.commaine.com
END:VEVENT
BEGIN:VEVENT
DTSTART;TZID=Europe/Moscow:20240905T170000
DTEND;TZID=Europe/Moscow:20240905T170000
DTSTAMP:20260423T144233
CREATED:20240905T204817Z
LAST-MODIFIED:20240905T204817Z
UID:10000431-1725555600-1725555600@portholemaine.com
SUMMARY:Justin Carver
DESCRIPTION:Live music with Justin Carver
URL:https://portholemaine.com/event/justin-carver-19/
LOCATION:The Porthole\, 20 Custom House Wharf\, Portland\, ME\, 04101
CATEGORIES:Live Music,Music
ORGANIZER;CN="Porthole Restaurant & Pub":MAILTO:gm@portholemaine.commaine.com
END:VEVENT
BEGIN:VEVENT
DTSTART;TZID=Europe/Moscow:20240905T140000
DTEND;TZID=Europe/Moscow:20240905T140000
DTSTAMP:20260423T144233
CREATED:20240905T204737Z
LAST-MODIFIED:20240905T204737Z
UID:10000430-1725544800-1725544800@portholemaine.com
SUMMARY:Tyler Dhone
DESCRIPTION:Live music with Tyler Dhone
URL:https://portholemaine.com/event/tyler-dhone-14/
LOCATION:The Porthole\, 20 Custom House Wharf\, Portland\, ME\, 04101
CATEGORIES:Live Music,Music
ORGANIZER;CN="Porthole Restaurant & Pub":MAILTO:gm@portholemaine.commaine.com
END:VEVENT
BEGIN:VEVENT
DTSTART;TZID=Europe/Moscow:20240902T140000
DTEND;TZID=Europe/Moscow:20240902T140000
DTSTAMP:20260423T144233
CREATED:20240818T232515Z
LAST-MODIFIED:20240818T232515Z
UID:10000405-1725285600-1725285600@portholemaine.com
SUMMARY:The Running Kind: After Dark
DESCRIPTION:The Running Kind: After Dark
URL:https://portholemaine.com/event/the-running-kind-after-dark/
LOCATION:The Porthole\, 20 Custom House Wharf\, Portland\, ME\, 04101
END:VEVENT
BEGIN:VEVENT
DTSTART;TZID=Europe/Moscow:20240901T190000
DTEND;TZID=Europe/Moscow:20240901T190000
DTSTAMP:20260423T144233
CREATED:20240818T232204Z
LAST-MODIFIED:20240818T232204Z
UID:10000404-1725217200-1725217200@portholemaine.com
SUMMARY:Deck Dance Party with DJ Father Tish
DESCRIPTION:Deck Dance Party with DJ Father Tish
URL:https://portholemaine.com/event/deck-dance-party-with-dj-father-tish-10/
LOCATION:The Porthole\, 20 Custom House Wharf\, Portland\, ME\, 04101
END:VEVENT
BEGIN:VEVENT
DTSTART;TZID=Europe/Moscow:20240901T140000
DTEND;TZID=Europe/Moscow:20240901T140000
DTSTAMP:20260423T144233
CREATED:20240818T232108Z
LAST-MODIFIED:20240818T232108Z
UID:10000403-1725199200-1725199200@portholemaine.com
SUMMARY:Bonnie & The Cats
DESCRIPTION:Live music with Bonnie & The Cats
URL:https://portholemaine.com/event/bonnie-the-cats-7/
LOCATION:The Porthole\, 20 Custom House Wharf\, Portland\, ME\, 04101
END:VEVENT
BEGIN:VEVENT
DTSTART;TZID=Europe/Moscow:20240831T210000
DTEND;TZID=Europe/Moscow:20240831T210000
DTSTAMP:20260423T144233
CREATED:20240719T230023Z
LAST-MODIFIED:20240819T003044Z
UID:10000397-1725138000-1725138000@portholemaine.com
SUMMARY:Don Campbell Duo
DESCRIPTION:Live music with Don Campbell Duo
URL:https://portholemaine.com/event/don-campbell-3/
LOCATION:The Porthole\, 20 Custom House Wharf\, Portland\, ME\, 04101
CATEGORIES:Entertainment,Live Music,Music
ORGANIZER;CN="Porthole Restaurant & Pub":MAILTO:gm@portholemaine.commaine.com
END:VEVENT
BEGIN:VEVENT
DTSTART;TZID=Europe/Moscow:20240831T190000
DTEND;TZID=Europe/Moscow:20240831T190000
DTSTAMP:20260423T144233
CREATED:20240719T230057Z
LAST-MODIFIED:20240719T230057Z
UID:10000398-1725130800-1725130800@portholemaine.com
SUMMARY:Deck Dance Party with DJ Father Tish
DESCRIPTION:Deck Dance Party with DJ Father Tish
URL:https://portholemaine.com/event/deck-dance-party-with-dj-father-tish-9/
LOCATION:The Porthole\, 20 Custom House Wharf\, Portland\, ME\, 04101
CATEGORIES:Entertainment,Live Music,Music
END:VEVENT
BEGIN:VEVENT
DTSTART;TZID=Europe/Moscow:20240830T220000
DTEND;TZID=Europe/Moscow:20240830T220000
DTSTAMP:20260423T144233
CREATED:20240719T225810Z
LAST-MODIFIED:20240719T225810Z
UID:10000395-1725055200-1725055200@portholemaine.com
SUMMARY:The Runnin' Kind Duo
DESCRIPTION:Live music with The Runnin’ Kind Duo
URL:https://portholemaine.com/event/the-runnin-kind-duo-2/
LOCATION:The Porthole\, 20 Custom House Wharf\, Portland\, ME\, 04101
CATEGORIES:Entertainment,Live Music,Music
ORGANIZER;CN="Porthole Restaurant & Pub":MAILTO:gm@portholemaine.commaine.com
END:VEVENT
BEGIN:VEVENT
DTSTART;TZID=Europe/Moscow:20240830T190000
DTEND;TZID=Europe/Moscow:20240830T190000
DTSTAMP:20260423T144233
CREATED:20240719T225908Z
LAST-MODIFIED:20240719T225908Z
UID:10000396-1725044400-1725044400@portholemaine.com
SUMMARY:Northern Groove
DESCRIPTION:Live music with Northern Groove
URL:https://portholemaine.com/event/northern-groove-7/
LOCATION:Example Region
CATEGORIES:Entertainment,Live Music,Music
END:VEVENT
BEGIN:VEVENT
DTSTART;TZID=Europe/Moscow:20240830T010000
DTEND;TZID=Europe/Moscow:20240830T010000
DTSTAMP:20260423T144233
CREATED:20240719T225705Z
LAST-MODIFIED:20240719T225705Z
UID:10000394-1724979600-1724979600@portholemaine.com
SUMMARY:Spyglass
DESCRIPTION:Live music with Spyglass
URL:https://portholemaine.com/event/spyglass-10/
LOCATION:The Porthole\, 20 Custom House Wharf\, Portland\, ME\, 04101
CATEGORIES:Entertainment,Live Music,Music
ORGANIZER;CN="Porthole Restaurant & Pub":MAILTO:gm@portholemaine.commaine.com
END:VEVENT
BEGIN:VEVENT
DTSTART;TZID=Europe/Moscow:20240829T210000
DTEND;TZID=Europe/Moscow:20240829T210000
DTSTAMP:20260423T144233
CREATED:20240719T225540Z
LAST-MODIFIED:20240719T225540Z
UID:10000393-1724965200-1724965200@portholemaine.com
SUMMARY:Tyler Dhone
DESCRIPTION:Live music with Tyler Dhone
URL:https://portholemaine.com/event/tyler-dhone-12/
LOCATION:The Porthole\, 20 Custom House Wharf\, Portland\, ME\, 04101
CATEGORIES:Entertainment,Live Music,Music
ORGANIZER;CN="Porthole Restaurant & Pub":MAILTO:gm@portholemaine.commaine.com
END:VEVENT
BEGIN:VEVENT
DTSTART;TZID=Europe/Moscow:20240829T010000
DTEND;TZID=Europe/Moscow:20240829T010000
DTSTAMP:20260423T144233
CREATED:20240719T225444Z
LAST-MODIFIED:20240819T002915Z
UID:10000392-1724893200-1724893200@portholemaine.com
SUMMARY:Tyler Dhone
DESCRIPTION:Live music with Tyler Dhone
URL:https://portholemaine.com/event/tyler-dhone-11/
LOCATION:The Porthole\, 20 Custom House Wharf\, Portland\, ME\, 04101
CATEGORIES:Entertainment,Live Music,Music
END:VEVENT
BEGIN:VEVENT
DTSTART;TZID=Europe/Moscow:20240828T140000
DTEND;TZID=Europe/Moscow:20240828T140000
DTSTAMP:20260423T144233
CREATED:20240805T192725Z
LAST-MODIFIED:20240819T002937Z
UID:10000402-1724853600-1724853600@portholemaine.com
SUMMARY:Justin Carver
DESCRIPTION:Live music with Justin Carver
URL:https://portholemaine.com/event/justin-carver-17/
LOCATION:The Porthole\, 20 Custom House Wharf\, Portland\, ME\, 04101
CATEGORIES:Live Music,Music
ORGANIZER;CN="Porthole Restaurant & Pub":MAILTO:gm@portholemaine.commaine.com
END:VEVENT
BEGIN:VEVENT
DTSTART;TZID=Europe/Moscow:20240827T210000
DTEND;TZID=Europe/Moscow:20240827T210000
DTSTAMP:20260423T144233
CREATED:20240719T225313Z
LAST-MODIFIED:20240719T225313Z
UID:10000390-1724792400-1724792400@portholemaine.com
SUMMARY:Andi Fawcett
DESCRIPTION:Live music with Andi Fawcett
URL:https://portholemaine.com/event/andi-fawcett-10/
LOCATION:The Porthole\, 20 Custom House Wharf\, Portland\, ME\, 04101
CATEGORIES:Entertainment,Live Music,Music
ORGANIZER;CN="Porthole Restaurant & Pub":MAILTO:gm@portholemaine.commaine.com
END:VEVENT
BEGIN:VEVENT
DTSTART;TZID=Europe/Moscow:20240827T180000
DTEND;TZID=Europe/Moscow:20240827T180000
DTSTAMP:20260423T144233
CREATED:20240719T225401Z
LAST-MODIFIED:20240719T225401Z
UID:10000391-1724781600-1724781600@portholemaine.com
SUMMARY:Chase Jobe & The Runnin' Kind
DESCRIPTION:Live music with Chase Jobe & The Runnin’ Kind every Sunday and Tuesday
URL:https://portholemaine.com/event/chase-jobe-the-runnin-kind-24/
LOCATION:The Porthole\, 20 Custom House Wharf\, Portland\, ME\, 04101
CATEGORIES:Entertainment,Live Music,Music
ORGANIZER;CN="Porthole Restaurant & Pub":MAILTO:gm@portholemaine.commaine.com
END:VEVENT
END:VCALENDAR