BEGIN:VCALENDAR
VERSION:2.0
PRODID:-//Porthole - ECPv6.10.2//NONSGML v1.0//EN
CALSCALE:GREGORIAN
METHOD:PUBLISH
X-WR-CALNAME:Porthole
X-ORIGINAL-URL:https://portholemaine.com
X-WR-CALDESC:Events for Porthole
REFRESH-INTERVAL;VALUE=DURATION:PT1H
X-Robots-Tag:noindex
X-PUBLISHED-TTL:PT1H
BEGIN:VTIMEZONE
TZID:Europe/Moscow
BEGIN:STANDARD
TZOFFSETFROM:+0300
TZOFFSETTO:+0300
TZNAME:MSK
DTSTART:20240101T000000
END:STANDARD
END:VTIMEZONE
BEGIN:VEVENT
DTSTART;TZID=Europe/Moscow:20240526T210000
DTEND;TZID=Europe/Moscow:20240526T210000
DTSTAMP:20260424T184333
CREATED:20240412T180106Z
LAST-MODIFIED:20240412T180106Z
UID:10000222-1716757200-1716757200@portholemaine.com
SUMMARY:Stolen Mojo
DESCRIPTION:Live music with Stolen Mojo
URL:https://portholemaine.com/event/stolen-mojo/
LOCATION:Example Region
CATEGORIES:Entertainment,Live Music,Music
END:VEVENT
BEGIN:VEVENT
DTSTART;TZID=Europe/Moscow:20240526T010000
DTEND;TZID=Europe/Moscow:20240526T010000
DTSTAMP:20260424T184333
CREATED:20240412T180010Z
LAST-MODIFIED:20240412T180010Z
UID:10000221-1716685200-1716685200@portholemaine.com
SUMMARY:DJ Father Tish
DESCRIPTION:Dance on the deck with DJ Father Tish
URL:https://portholemaine.com/event/dj-father-tish/
LOCATION:Example Region
CATEGORIES:Entertainment,Live Music,Music
END:VEVENT
BEGIN:VEVENT
DTSTART;TZID=Europe/Moscow:20240525T210000
DTEND;TZID=Europe/Moscow:20240525T210000
DTSTAMP:20260424T184333
CREATED:20240412T174826Z
LAST-MODIFIED:20240412T174826Z
UID:10000220-1716670800-1716670800@portholemaine.com
SUMMARY:Peaked in High School
DESCRIPTION:Live music with Peaked in High School
URL:https://portholemaine.com/event/peaked-in-high-school/
LOCATION:Example Region
CATEGORIES:Entertainment,Live Music,Music
END:VEVENT
BEGIN:VEVENT
DTSTART;TZID=Europe/Moscow:20240525T010000
DTEND;TZID=Europe/Moscow:20240525T010000
DTSTAMP:20260424T184333
CREATED:20240412T174731Z
LAST-MODIFIED:20240412T174731Z
UID:10000219-1716598800-1716598800@portholemaine.com
SUMMARY:Darren Bessette
DESCRIPTION:Live music with Darren Bessette
URL:https://portholemaine.com/event/darren-bessette-3/
LOCATION:Example Region
CATEGORIES:Entertainment,Live Music,Music
END:VEVENT
BEGIN:VEVENT
DTSTART;TZID=Europe/Moscow:20240524T220000
DTEND;TZID=Europe/Moscow:20240524T220000
DTSTAMP:20260424T184333
CREATED:20240521T110551Z
LAST-MODIFIED:20240521T110551Z
UID:10000262-1716588000-1716588000@portholemaine.com
SUMMARY:Big Deck Fridays with DJ Jacky Treehorn
DESCRIPTION:Summer sounds with DJ Jacky Treehorn
URL:https://portholemaine.com/event/big-deck-fridays-with-dj-jacky-treehorn/
LOCATION:Example Region
CATEGORIES:Entertainment,Music
END:VEVENT
BEGIN:VEVENT
DTSTART;TZID=Europe/Moscow:20240523T230000
DTEND;TZID=Europe/Moscow:20240523T230000
DTSTAMP:20260424T184333
CREATED:20240522T094211Z
LAST-MODIFIED:20240522T094211Z
UID:10000263-1716505200-1716505200@portholemaine.com
SUMMARY:Shelley Coombs
DESCRIPTION:Live music with Shelley Coombs
URL:https://portholemaine.com/event/shelley-coombs/
LOCATION:Example Region
CATEGORIES:Entertainment,Live Music,Music
END:VEVENT
BEGIN:VEVENT
DTSTART;TZID=Europe/Moscow:20240522T230000
DTEND;TZID=Europe/Moscow:20240522T230000
DTSTAMP:20260424T184333
CREATED:20240520T142710Z
LAST-MODIFIED:20240520T142710Z
UID:10000261-1716418800-1716418800@portholemaine.com
SUMMARY:MEGS
DESCRIPTION:Live music with MEGS
URL:https://portholemaine.com/event/megs-5/
LOCATION:Example Region
CATEGORIES:Entertainment,Live Music,Music
END:VEVENT
BEGIN:VEVENT
DTSTART;TZID=Europe/Moscow:20240521T230000
DTEND;TZID=Europe/Moscow:20240521T230000
DTSTAMP:20260424T184333
CREATED:20240520T073442Z
LAST-MODIFIED:20240520T073442Z
UID:10000260-1716332400-1716332400@portholemaine.com
SUMMARY:Justin Carver
DESCRIPTION:Live music with Justin Carver
URL:https://portholemaine.com/event/justin-carver-12/
LOCATION:Example Region
CATEGORIES:Entertainment,Live Music,Music
END:VEVENT
BEGIN:VEVENT
DTSTART;TZID=Europe/Moscow:20240520T230000
DTEND;TZID=Europe/Moscow:20240520T230000
DTSTAMP:20260424T184333
CREATED:20240520T073401Z
LAST-MODIFIED:20240520T073401Z
UID:10000259-1716246000-1716246000@portholemaine.com
SUMMARY:The Runnin' Kind Duo
DESCRIPTION:Live music with The Runnin’ Kind Duo
URL:https://portholemaine.com/event/the-runnin-kind-duo/
LOCATION:Example Region
CATEGORIES:Entertainment,Live Music,Music
END:VEVENT
BEGIN:VEVENT
DTSTART;TZID=Europe/Moscow:20240519T210000
DTEND;TZID=Europe/Moscow:20240519T210000
DTSTAMP:20260424T184333
CREATED:20240412T134435Z
LAST-MODIFIED:20240412T134435Z
UID:10000218-1716152400-1716152400@portholemaine.com
SUMMARY:DJ Jams Frrever
DESCRIPTION:Music and tunes with DJ Jams Frrever
URL:https://portholemaine.com/event/dj-jams-frrever-2/
LOCATION:Example Region
CATEGORIES:Entertainment,Live Music,Music
END:VEVENT
BEGIN:VEVENT
DTSTART;TZID=Europe/Moscow:20240519T010000
DTEND;TZID=Europe/Moscow:20240519T010000
DTSTAMP:20260424T184333
CREATED:20240412T134244Z
LAST-MODIFIED:20240412T134244Z
UID:10000217-1716080400-1716080400@portholemaine.com
SUMMARY:13Black
DESCRIPTION:Live music with 13Black
URL:https://portholemaine.com/event/13black/
LOCATION:Example Region
CATEGORIES:Entertainment,Live Music,Music
END:VEVENT
BEGIN:VEVENT
DTSTART;TZID=Europe/Moscow:20240518T210000
DTEND;TZID=Europe/Moscow:20240518T210000
DTSTAMP:20260424T184333
CREATED:20240412T133927Z
LAST-MODIFIED:20240412T133927Z
UID:10000216-1716066000-1716066000@portholemaine.com
SUMMARY:Sugarbox
DESCRIPTION:Live music with Sugarbox
URL:https://portholemaine.com/event/sugarbox-7/
LOCATION:Example Region
CATEGORIES:Entertainment,Live Music,Music
END:VEVENT
BEGIN:VEVENT
DTSTART;TZID=Europe/Moscow:20240518T010000
DTEND;TZID=Europe/Moscow:20240518T010000
DTSTAMP:20260424T184333
CREATED:20240412T133819Z
LAST-MODIFIED:20240412T133819Z
UID:10000215-1715994000-1715994000@portholemaine.com
SUMMARY:Hello Newman
DESCRIPTION:Live music with Hello Newman
URL:https://portholemaine.com/event/hello-newman-5/
LOCATION:Example Region
CATEGORIES:Entertainment,Live Music,Music
END:VEVENT
BEGIN:VEVENT
DTSTART;TZID=Europe/Moscow:20240512T210000
DTEND;TZID=Europe/Moscow:20240512T210000
DTSTAMP:20260424T184333
CREATED:20240412T133403Z
LAST-MODIFIED:20240412T133403Z
UID:10000214-1715547600-1715547600@portholemaine.com
SUMMARY:Chase Jobe & the Runnin' Kind
DESCRIPTION:Live music with Chase Jobe & the Runnin’ Kind
URL:https://portholemaine.com/event/chase-jobe-the-runnin-kind-2-2/
LOCATION:Example Region
CATEGORIES:Entertainment,Live Music,Music
END:VEVENT
BEGIN:VEVENT
DTSTART;TZID=Europe/Moscow:20240512T010000
DTEND;TZID=Europe/Moscow:20240512T010000
DTSTAMP:20260424T184333
CREATED:20240412T133205Z
LAST-MODIFIED:20240412T133205Z
UID:10000213-1715475600-1715475600@portholemaine.com
SUMMARY:Bonnie & The Cats
DESCRIPTION:Live music with Bonnie & The Cats
URL:https://portholemaine.com/event/bonnie-the-cats-3/
LOCATION:Example Region
CATEGORIES:Entertainment,Live Music,Music
END:VEVENT
BEGIN:VEVENT
DTSTART;TZID=Europe/Moscow:20240511T210000
DTEND;TZID=Europe/Moscow:20240511T210000
DTSTAMP:20260424T184333
CREATED:20240412T132742Z
LAST-MODIFIED:20240412T132742Z
UID:10000212-1715461200-1715461200@portholemaine.com
SUMMARY:Bazinga!
DESCRIPTION:Live music with Bazinga!
URL:https://portholemaine.com/event/bazinga/
LOCATION:Example Region
CATEGORIES:Entertainment,Live Music,Music
END:VEVENT
BEGIN:VEVENT
DTSTART;TZID=Europe/Moscow:20240511T010000
DTEND;TZID=Europe/Moscow:20240511T010000
DTSTAMP:20260424T184333
CREATED:20240412T132613Z
LAST-MODIFIED:20240412T132613Z
UID:10000211-1715389200-1715389200@portholemaine.com
SUMMARY:Hot Messs
DESCRIPTION:Live music with Hot Messs
URL:https://portholemaine.com/event/hot-messs-2/
LOCATION:Example Region
CATEGORIES:Entertainment,Live Music,Music
END:VEVENT
BEGIN:VEVENT
DTSTART;TZID=Europe/Moscow:20240505T210000
DTEND;TZID=Europe/Moscow:20240505T210000
DTSTAMP:20260424T184333
CREATED:20240412T132507Z
LAST-MODIFIED:20240412T132507Z
UID:10000210-1714942800-1714942800@portholemaine.com
SUMMARY:Doubting Gravity
DESCRIPTION:Live music with Doubting Gravity
URL:https://portholemaine.com/event/doubting-gravity-10/
LOCATION:Example Region
CATEGORIES:Entertainment,Live Music,Music
END:VEVENT
BEGIN:VEVENT
DTSTART;TZID=Europe/Moscow:20240505T010000
DTEND;TZID=Europe/Moscow:20240505T010000
DTSTAMP:20260424T184333
CREATED:20240412T132230Z
LAST-MODIFIED:20240412T132230Z
UID:10000209-1714870800-1714870800@portholemaine.com
SUMMARY:Sugarbox
DESCRIPTION:Live music with Sugarbox
URL:https://portholemaine.com/event/sugarbox-6/
LOCATION:Example Region
CATEGORIES:Entertainment,Live Music,Music
END:VEVENT
BEGIN:VEVENT
DTSTART;TZID=Europe/Moscow:20240504T210000
DTEND;TZID=Europe/Moscow:20240504T210000
DTSTAMP:20260424T184333
CREATED:20240412T132114Z
LAST-MODIFIED:20240412T132114Z
UID:10000208-1714856400-1714856400@portholemaine.com
SUMMARY:Cover Tones
DESCRIPTION:Live music with Cover Tones
URL:https://portholemaine.com/event/cover-tones/
LOCATION:Example Region
CATEGORIES:Entertainment,Live Music,Music
END:VEVENT
BEGIN:VEVENT
DTSTART;TZID=Europe/Moscow:20240504T010000
DTEND;TZID=Europe/Moscow:20240504T010000
DTSTAMP:20260424T184333
CREATED:20240412T132001Z
LAST-MODIFIED:20240412T132001Z
UID:10000207-1714784400-1714784400@portholemaine.com
SUMMARY:Chase Jobe & the Runnin' Kind
DESCRIPTION:Live music with Chase Jobe & the Runnin’ Kind
URL:https://portholemaine.com/event/chase-jobe-the-runnin-kind-2/
LOCATION:Example Region
CATEGORIES:Entertainment,Live Music,Music
END:VEVENT
BEGIN:VEVENT
DTSTART;TZID=Europe/Moscow:20240428T210000
DTEND;TZID=Europe/Moscow:20240428T210000
DTSTAMP:20260424T184333
CREATED:20240412T131802Z
LAST-MODIFIED:20240412T131802Z
UID:10000206-1714338000-1714338000@portholemaine.com
SUMMARY:Guess Method
DESCRIPTION:Live music with Guess Method
URL:https://portholemaine.com/event/guess-method-2/
LOCATION:Example Region
CATEGORIES:Entertainment,Live Music,Music
END:VEVENT
BEGIN:VEVENT
DTSTART;TZID=Europe/Moscow:20240428T020000
DTEND;TZID=Europe/Moscow:20240428T020000
DTSTAMP:20260424T184333
CREATED:20240418T131737Z
LAST-MODIFIED:20240418T131737Z
UID:10000258-1714269600-1714269600@portholemaine.com
SUMMARY:12/OC
DESCRIPTION:Live music with 12/OC
URL:https://portholemaine.com/event/12-oc-9/
LOCATION:Example Region
CATEGORIES:Entertainment,Live Music,Music
END:VEVENT
BEGIN:VEVENT
DTSTART;TZID=Europe/Moscow:20240427T220000
DTEND;TZID=Europe/Moscow:20240427T220000
DTSTAMP:20260424T184333
CREATED:20240418T125409Z
LAST-MODIFIED:20240418T125409Z
UID:10000256-1714255200-1714255200@portholemaine.com
SUMMARY:Hott Messs
DESCRIPTION:Live music with Hott Messs
URL:https://portholemaine.com/event/hott-messs/
LOCATION:Example Region
CATEGORIES:Entertainment,Live Music,Music
END:VEVENT
BEGIN:VEVENT
DTSTART;TZID=Europe/Moscow:20240427T190000
DTEND;TZID=Europe/Moscow:20240427T190000
DTSTAMP:20260424T184333
CREATED:20240418T125628Z
LAST-MODIFIED:20240418T125628Z
UID:10000257-1714244400-1714244400@portholemaine.com
SUMMARY:Under the Covers
DESCRIPTION:Live music with Under the Covers
URL:https://portholemaine.com/event/under-the-covers-4/
LOCATION:Example Region
CATEGORIES:Entertainment,Live Music,Music
END:VEVENT
BEGIN:VEVENT
DTSTART;TZID=Europe/Moscow:20240420T210000
DTEND;TZID=Europe/Moscow:20240420T210000
DTSTAMP:20260424T184333
CREATED:20240418T125241Z
LAST-MODIFIED:20240418T125241Z
UID:10000255-1713646800-1713646800@portholemaine.com
SUMMARY:Introducing: Chase Jobe & the Runnin' Kind
DESCRIPTION:Live music with Chase Jobe & the Runnin’ Kind
URL:https://portholemaine.com/event/introducing-chase-jobe-the-runnin-kind/
LOCATION:Example Region
CATEGORIES:Entertainment,Live Music,Music
END:VEVENT
BEGIN:VEVENT
DTSTART;TZID=Europe/Moscow:20240414T200000
DTEND;TZID=Europe/Moscow:20240414T220000
DTSTAMP:20260424T184333
CREATED:20240414T052239Z
LAST-MODIFIED:20240414T052239Z
UID:10000254-1713124800-1713132000@portholemaine.com
SUMMARY:Don Campbell
DESCRIPTION:Live music with Don Campbell
URL:https://portholemaine.com/event/don-campbell/
LOCATION:Example Region
CATEGORIES:Entertainment,Live Music,Music
END:VEVENT
BEGIN:VEVENT
DTSTART;TZID=Europe/Moscow:20240317T200000
DTEND;TZID=Europe/Moscow:20240317T230000
DTSTAMP:20260424T184333
CREATED:20240314T174149Z
LAST-MODIFIED:20240314T174149Z
UID:10000205-1710705600-1710716400@portholemaine.com
SUMMARY:DJ Jams Frrever
DESCRIPTION:Vibes and sounds provided by Jams Frrever
URL:https://portholemaine.com/event/dj-jams-frrever/
LOCATION:Example Region
CATEGORIES:Live Music
END:VEVENT
BEGIN:VEVENT
DTSTART;TZID=Europe/Moscow:20240317T170000
DTEND;TZID=Europe/Moscow:20240317T200000
DTSTAMP:20260424T184333
CREATED:20240313T175331Z
LAST-MODIFIED:20240313T175331Z
UID:10000204-1710694800-1710705600@portholemaine.com
SUMMARY:The Justin Carver Duo
DESCRIPTION:Live music with The Justin Carver Duo
URL:https://portholemaine.com/event/the-justin-carver-duo/
LOCATION:Example Region
CATEGORIES:Live Music
END:VEVENT
BEGIN:VEVENT
DTSTART;TZID=Europe/Moscow:20240225T030000
DTEND;TZID=Europe/Moscow:20240225T030000
DTSTAMP:20260424T184333
CREATED:20240204T133531Z
LAST-MODIFIED:20240204T133531Z
UID:10000203-1708830000-1708830000@portholemaine.com
SUMMARY:The Chase Jobe Band
DESCRIPTION:Live music with The Chase Jobe Band
URL:https://portholemaine.com/event/the-chase-jobe-band/
LOCATION:Example Region
CATEGORIES:Live Music
END:VEVENT
END:VCALENDAR