BEGIN:VCALENDAR
VERSION:2.0
PRODID:-//Porthole - ECPv6.10.2//NONSGML v1.0//EN
CALSCALE:GREGORIAN
METHOD:PUBLISH
X-WR-CALNAME:Porthole
X-ORIGINAL-URL:https://portholemaine.com
X-WR-CALDESC:Events for Porthole
REFRESH-INTERVAL;VALUE=DURATION:PT1H
X-Robots-Tag:noindex
X-PUBLISHED-TTL:PT1H
BEGIN:VTIMEZONE
TZID:Europe/Moscow
BEGIN:STANDARD
TZOFFSETFROM:+0300
TZOFFSETTO:+0300
TZNAME:MSK
DTSTART:20230101T000000
END:STANDARD
END:VTIMEZONE
BEGIN:VEVENT
DTSTART;TZID=Europe/Moscow:20231015T200000
DTEND;TZID=Europe/Moscow:20231015T200000
DTSTAMP:20260424T233102
CREATED:20231009T142257Z
LAST-MODIFIED:20231009T142257Z
UID:10000182-1697400000-1697400000@portholemaine.com
SUMMARY:Bonnie & The Cats
DESCRIPTION:Live music with Bonnie & The Cats
URL:https://portholemaine.com/event/bonnie-the-cats-2/
CATEGORIES:Live Music
END:VEVENT
BEGIN:VEVENT
DTSTART;TZID=Europe/Moscow:20231015T020000
DTEND;TZID=Europe/Moscow:20231015T020000
DTSTAMP:20260424T233102
CREATED:20230914T133225Z
LAST-MODIFIED:20230914T133225Z
UID:10000171-1697335200-1697335200@portholemaine.com
SUMMARY:Cryin' Out Loud
DESCRIPTION:Live music with Cryin’ Out Loud
URL:https://portholemaine.com/event/cryin-out-loud-5/
CATEGORIES:Live Music
END:VEVENT
BEGIN:VEVENT
DTSTART;TZID=Europe/Moscow:20231014T220000
DTEND;TZID=Europe/Moscow:20231014T220000
DTSTAMP:20260424T233102
CREATED:20230924T100022Z
LAST-MODIFIED:20230924T100022Z
UID:10000170-1697320800-1697320800@portholemaine.com
SUMMARY:Adriya Joy Band
DESCRIPTION:Live music with Adriya Joy
URL:https://portholemaine.com/event/adriya-joy/
CATEGORIES:Live Music
END:VEVENT
BEGIN:VEVENT
DTSTART;TZID=Europe/Moscow:20231014T010000
DTEND;TZID=Europe/Moscow:20231014T010000
DTSTAMP:20260424T233102
CREATED:20231002T075328Z
LAST-MODIFIED:20231002T075328Z
UID:10000176-1697245200-1697245200@portholemaine.com
SUMMARY:Darren Bessette
DESCRIPTION:Live music with Darren Bessette
URL:https://portholemaine.com/event/darren-bessette/
CATEGORIES:Live Music
END:VEVENT
BEGIN:VEVENT
DTSTART;TZID=Europe/Moscow:20231013T000000
DTEND;TZID=Europe/Moscow:20231013T000000
DTSTAMP:20260424T233102
CREATED:20230914T132347Z
LAST-MODIFIED:20230914T132347Z
UID:10000167-1697155200-1697155200@portholemaine.com
SUMMARY:Shawn Theriault
DESCRIPTION:Live music with Shawn Theriault
URL:https://portholemaine.com/event/shawn-theriault-6/
CATEGORIES:Live Music
END:VEVENT
BEGIN:VEVENT
DTSTART;TZID=Europe/Moscow:20231011T230000
DTEND;TZID=Europe/Moscow:20231011T230000
DTSTAMP:20260424T233102
CREATED:20231009T142135Z
LAST-MODIFIED:20231009T142135Z
UID:10000181-1697065200-1697065200@portholemaine.com
SUMMARY:Justin Carver
DESCRIPTION:Live music with Justin Carver
URL:https://portholemaine.com/event/justin-carver-8/
CATEGORIES:Live Music
END:VEVENT
BEGIN:VEVENT
DTSTART;TZID=Europe/Moscow:20231010T230000
DTEND;TZID=Europe/Moscow:20231010T230000
DTSTAMP:20260424T233102
CREATED:20231009T142026Z
LAST-MODIFIED:20231009T142026Z
UID:10000180-1696978800-1696978800@portholemaine.com
SUMMARY:Henry Lowery
DESCRIPTION:Live music with Henry Lowery
URL:https://portholemaine.com/event/henry-lowery-6/
CATEGORIES:Live Music
END:VEVENT
BEGIN:VEVENT
DTSTART;TZID=Europe/Moscow:20231009T220000
DTEND;TZID=Europe/Moscow:20231009T220000
DTSTAMP:20260424T233102
CREATED:20231009T141922Z
LAST-MODIFIED:20231009T141922Z
UID:10000179-1696888800-1696888800@portholemaine.com
SUMMARY:Andi Fawcett
DESCRIPTION:Live music with Andi Fawcett
URL:https://portholemaine.com/event/andi-fawcett-4/
CATEGORIES:Live Music
END:VEVENT
BEGIN:VEVENT
DTSTART;TZID=Europe/Moscow:20231008T230000
DTEND;TZID=Europe/Moscow:20231008T230000
DTSTAMP:20260424T233102
CREATED:20231002T080110Z
LAST-MODIFIED:20231002T080110Z
UID:10000178-1696806000-1696806000@portholemaine.com
SUMMARY:Chase Jobe
DESCRIPTION:Live music with Chase Jobe
URL:https://portholemaine.com/event/chase-jobe-9/
END:VEVENT
BEGIN:VEVENT
DTSTART;TZID=Europe/Moscow:20231007T220000
DTEND;TZID=Europe/Moscow:20231007T220000
DTSTAMP:20260424T233102
CREATED:20231002T075216Z
LAST-MODIFIED:20231002T075216Z
UID:10000175-1696716000-1696716000@portholemaine.com
SUMMARY:Spyglass
DESCRIPTION:Live music with Spyglass
URL:https://portholemaine.com/event/spyglass-5/
CATEGORIES:Live Music
END:VEVENT
BEGIN:VEVENT
DTSTART;TZID=Europe/Moscow:20231007T020000
DTEND;TZID=Europe/Moscow:20231007T020000
DTSTAMP:20260424T233102
CREATED:20230914T132215Z
LAST-MODIFIED:20230914T132215Z
UID:10000166-1696644000-1696644000@portholemaine.com
SUMMARY:Cryin' Out Loud
DESCRIPTION:Live music with Cryin’ Out Loud
URL:https://portholemaine.com/event/cryin-out-loud-4/
CATEGORIES:Live Music
END:VEVENT
BEGIN:VEVENT
DTSTART;TZID=Europe/Moscow:20231006T000000
DTEND;TZID=Europe/Moscow:20231006T000000
DTSTAMP:20260424T233102
CREATED:20230914T132106Z
LAST-MODIFIED:20230914T132106Z
UID:10000165-1696550400-1696550400@portholemaine.com
SUMMARY:Chase Jobe
DESCRIPTION:Live music with Chase Jobe
URL:https://portholemaine.com/event/shawn-theriault-5/
CATEGORIES:Live Music
END:VEVENT
BEGIN:VEVENT
DTSTART;TZID=Europe/Moscow:20231004T230000
DTEND;TZID=Europe/Moscow:20231004T230000
DTSTAMP:20260424T233102
CREATED:20231002T074121Z
LAST-MODIFIED:20231002T074121Z
UID:10000174-1696460400-1696460400@portholemaine.com
SUMMARY:Justin Carver
DESCRIPTION:Live music with Justin Carver
URL:https://portholemaine.com/event/justin-carver-7/
CATEGORIES:Live Music
END:VEVENT
BEGIN:VEVENT
DTSTART;TZID=Europe/Moscow:20231003T230000
DTEND;TZID=Europe/Moscow:20231003T230000
DTSTAMP:20260424T233102
CREATED:20231002T073739Z
LAST-MODIFIED:20231002T073739Z
UID:10000173-1696374000-1696374000@portholemaine.com
SUMMARY:Jonah Bruce
DESCRIPTION:Live music with Jonah Bruce
URL:https://portholemaine.com/event/jonah-bruce-5/
CATEGORIES:Live Music
END:VEVENT
BEGIN:VEVENT
DTSTART;TZID=Europe/Moscow:20231002T230000
DTEND;TZID=Europe/Moscow:20231002T230000
DTSTAMP:20260424T233102
CREATED:20231002T075507Z
LAST-MODIFIED:20231002T075507Z
UID:10000177-1696287600-1696287600@portholemaine.com
SUMMARY:Kris Hype
DESCRIPTION:Live music with Kris Hype
URL:https://portholemaine.com/event/kris-hype-6/
END:VEVENT
BEGIN:VEVENT
DTSTART;TZID=Europe/Moscow:20231001T200000
DTEND;TZID=Europe/Moscow:20231001T200000
DTSTAMP:20260424T233102
CREATED:20230914T131940Z
LAST-MODIFIED:20230914T131940Z
UID:10000164-1696190400-1696190400@portholemaine.com
SUMMARY:Doubting Gravity
DESCRIPTION:Live music with Doubting Gravity
URL:https://portholemaine.com/event/doubting-gravity-9/
CATEGORIES:Live Music
END:VEVENT
BEGIN:VEVENT
DTSTART;TZID=Europe/Moscow:20231001T020000
DTEND;TZID=Europe/Moscow:20231001T020000
DTSTAMP:20260424T233102
CREATED:20230821T123725Z
LAST-MODIFIED:20230821T123725Z
UID:10000145-1696125600-1696125600@portholemaine.com
SUMMARY:Ragged Jack
DESCRIPTION:Live music with Ragged Jack
URL:https://portholemaine.com/event/ragged-jack-5/
CATEGORIES:Live Music
END:VEVENT
BEGIN:VEVENT
DTSTART;TZID=Europe/Moscow:20230930T220000
DTEND;TZID=Europe/Moscow:20230930T220000
DTSTAMP:20260424T233102
CREATED:20230821T123637Z
LAST-MODIFIED:20230821T123637Z
UID:10000144-1696111200-1696111200@portholemaine.com
SUMMARY:Sugarbox
DESCRIPTION:Live music with Sugarbox
URL:https://portholemaine.com/event/sugarbox-5/
CATEGORIES:Live Music
END:VEVENT
BEGIN:VEVENT
DTSTART;TZID=Europe/Moscow:20230930T020000
DTEND;TZID=Europe/Moscow:20230930T020000
DTSTAMP:20260424T233102
CREATED:20230821T123114Z
LAST-MODIFIED:20230821T123114Z
UID:10000143-1696039200-1696039200@portholemaine.com
SUMMARY:Northern Groove
DESCRIPTION:Live music with Northern Groove
URL:https://portholemaine.com/event/northern-groove-4/
CATEGORIES:Live Music
END:VEVENT
BEGIN:VEVENT
DTSTART;TZID=Europe/Moscow:20230929T000000
DTEND;TZID=Europe/Moscow:20230929T000000
DTSTAMP:20260424T233102
CREATED:20230821T122847Z
LAST-MODIFIED:20230821T122847Z
UID:10000142-1695945600-1695945600@portholemaine.com
SUMMARY:Shawn Theriault
DESCRIPTION:Live music with Shawn Theriault
URL:https://portholemaine.com/event/shawn-theriault-4/
CATEGORIES:Live Music
END:VEVENT
BEGIN:VEVENT
DTSTART;TZID=Europe/Moscow:20230927T230000
DTEND;TZID=Europe/Moscow:20230927T230000
DTSTAMP:20260424T233102
CREATED:20230924T100543Z
LAST-MODIFIED:20230924T100543Z
UID:10000156-1695855600-1695855600@portholemaine.com
SUMMARY:Josh Taerk
DESCRIPTION:Live music with Jonah Bruce
URL:https://portholemaine.com/event/jonah-bruce-3/
CATEGORIES:Live Music
END:VEVENT
BEGIN:VEVENT
DTSTART;TZID=Europe/Moscow:20230925T230000
DTEND;TZID=Europe/Moscow:20230925T230000
DTSTAMP:20260424T233102
CREATED:20230828T150701Z
LAST-MODIFIED:20230828T150701Z
UID:10000161-1695682800-1695682800@portholemaine.com
SUMMARY:Henry Lowery
DESCRIPTION:Live music with Henry Lowery
URL:https://portholemaine.com/event/henry-lowery-5/
CATEGORIES:Live Music
END:VEVENT
BEGIN:VEVENT
DTSTART;TZID=Europe/Moscow:20230925T010000
DTEND;TZID=Europe/Moscow:20230925T010000
DTSTAMP:20260424T233102
CREATED:20230914T131827Z
LAST-MODIFIED:20230914T131827Z
UID:10000163-1695603600-1695603600@portholemaine.com
SUMMARY:Chase Jobe
DESCRIPTION:Live music with Chase Jobe
URL:https://portholemaine.com/event/chase-jobe-8/
CATEGORIES:Live Music
END:VEVENT
BEGIN:VEVENT
DTSTART;TZID=Europe/Moscow:20230924T220000
DTEND;TZID=Europe/Moscow:20230924T220000
DTSTAMP:20260424T233102
CREATED:20230821T122511Z
LAST-MODIFIED:20230821T122511Z
UID:10000141-1695592800-1695592800@portholemaine.com
SUMMARY:Bonnie & The Cats
DESCRIPTION:Live music with Bonnie & The Cats
URL:https://portholemaine.com/event/bonnie-the-cats/
CATEGORIES:Live Music
END:VEVENT
BEGIN:VEVENT
DTSTART;TZID=Europe/Moscow:20230924T020000
DTEND;TZID=Europe/Moscow:20230924T020000
DTSTAMP:20260424T233102
CREATED:20230821T122234Z
LAST-MODIFIED:20230821T122234Z
UID:10000140-1695520800-1695520800@portholemaine.com
SUMMARY:Ragged Jack
DESCRIPTION:Live music with Ragged Jack
URL:https://portholemaine.com/event/ragged-jack-4/
CATEGORIES:Live Music
END:VEVENT
BEGIN:VEVENT
DTSTART;TZID=Europe/Moscow:20230923T220000
DTEND;TZID=Europe/Moscow:20230923T220000
DTSTAMP:20260424T233102
CREATED:20230821T122121Z
LAST-MODIFIED:20230821T122121Z
UID:10000139-1695506400-1695506400@portholemaine.com
SUMMARY:Spyglass
DESCRIPTION:Live music with Spyglass
URL:https://portholemaine.com/event/spyglass-6/
CATEGORIES:Live Music
END:VEVENT
BEGIN:VEVENT
DTSTART;TZID=Europe/Moscow:20230923T030000
DTEND;TZID=Europe/Moscow:20230923T030000
DTSTAMP:20260424T233102
CREATED:20230821T121739Z
LAST-MODIFIED:20230821T121739Z
UID:10000138-1695438000-1695438000@portholemaine.com
SUMMARY:Doubting Gravity
DESCRIPTION:Live music with Doubting Gravity
URL:https://portholemaine.com/event/doubting-gravity-7/
CATEGORIES:Live Music
END:VEVENT
BEGIN:VEVENT
DTSTART;TZID=Europe/Moscow:20230922T000000
DTEND;TZID=Europe/Moscow:20230922T000000
DTSTAMP:20260424T233102
CREATED:20230821T121605Z
LAST-MODIFIED:20230821T121605Z
UID:10000137-1695340800-1695340800@portholemaine.com
SUMMARY:Shawn Theriault
DESCRIPTION:Live music with Shawn Theriault
URL:https://portholemaine.com/event/shawn-theriault-3/
CATEGORIES:Live Music
END:VEVENT
BEGIN:VEVENT
DTSTART;TZID=Europe/Moscow:20230920T230000
DTEND;TZID=Europe/Moscow:20230920T230000
DTSTAMP:20260424T233102
CREATED:20230828T113642Z
LAST-MODIFIED:20230828T113642Z
UID:10000155-1695250800-1695250800@portholemaine.com
SUMMARY:Jonah Bruce
DESCRIPTION:Live music with Jonah Bruce
URL:https://portholemaine.com/event/jonah-bruce-2/
CATEGORIES:Live Music
END:VEVENT
BEGIN:VEVENT
DTSTART;TZID=Europe/Moscow:20230919T230000
DTEND;TZID=Europe/Moscow:20230919T230000
DTSTAMP:20260424T233102
CREATED:20230828T144259Z
LAST-MODIFIED:20230828T144259Z
UID:10000160-1695164400-1695164400@portholemaine.com
SUMMARY:Henry Lowery
DESCRIPTION:Live music with Henry Lowery
URL:https://portholemaine.com/event/henry-lowery-4/
CATEGORIES:Live Music
END:VEVENT
END:VCALENDAR