BEGIN:VCALENDAR
VERSION:2.0
PRODID:-//Porthole - ECPv6.10.2//NONSGML v1.0//EN
CALSCALE:GREGORIAN
METHOD:PUBLISH
X-WR-CALNAME:Porthole
X-ORIGINAL-URL:https://portholemaine.com
X-WR-CALDESC:Events for Porthole
REFRESH-INTERVAL;VALUE=DURATION:PT1H
X-Robots-Tag:noindex
X-PUBLISHED-TTL:PT1H
BEGIN:VTIMEZONE
TZID:Europe/Moscow
BEGIN:STANDARD
TZOFFSETFROM:+0300
TZOFFSETTO:+0300
TZNAME:MSK
DTSTART:20230101T000000
END:STANDARD
END:VTIMEZONE
BEGIN:VEVENT
DTSTART;TZID=Europe/Moscow:20230917T020000
DTEND;TZID=Europe/Moscow:20230917T020000
DTSTAMP:20260425T163151
CREATED:20230821T121231Z
LAST-MODIFIED:20230821T121231Z
UID:10000134-1694916000-1694916000@portholemaine.com
SUMMARY:Under the Covers
DESCRIPTION:Live music with Under the Covers
URL:https://portholemaine.com/event/under-the-covers-2/
CATEGORIES:Live Music
END:VEVENT
BEGIN:VEVENT
DTSTART;TZID=Europe/Moscow:20230916T220000
DTEND;TZID=Europe/Moscow:20230916T220000
DTSTAMP:20260425T163151
CREATED:20230821T121050Z
LAST-MODIFIED:20230821T121050Z
UID:10000133-1694901600-1694901600@portholemaine.com
SUMMARY:Misspent Youth
DESCRIPTION:Live music with Misspent Youth
URL:https://portholemaine.com/event/misspent-youth-3/
CATEGORIES:Live Music
END:VEVENT
BEGIN:VEVENT
DTSTART;TZID=Europe/Moscow:20230916T020000
DTEND;TZID=Europe/Moscow:20230916T020000
DTSTAMP:20260425T163151
CREATED:20230821T120946Z
LAST-MODIFIED:20230821T120946Z
UID:10000132-1694829600-1694829600@portholemaine.com
SUMMARY:Hello Newman
DESCRIPTION:Live music with Hello Newman
URL:https://portholemaine.com/event/hello-newman-4/
CATEGORIES:Live Music
END:VEVENT
BEGIN:VEVENT
DTSTART;TZID=Europe/Moscow:20230915T220000
DTEND;TZID=Europe/Moscow:20230915T220000
DTSTAMP:20260425T163151
CREATED:20230914T130038Z
LAST-MODIFIED:20230914T130038Z
UID:10000162-1694815200-1694815200@portholemaine.com
SUMMARY:Jonah Bruce
DESCRIPTION:Live music with Jonah Bruce
URL:https://portholemaine.com/event/jonah-bruce-4/
CATEGORIES:Live Music
END:VEVENT
BEGIN:VEVENT
DTSTART;TZID=Europe/Moscow:20230915T000000
DTEND;TZID=Europe/Moscow:20230915T000000
DTSTAMP:20260425T163151
CREATED:20230821T120835Z
LAST-MODIFIED:20230821T120835Z
UID:10000131-1694736000-1694736000@portholemaine.com
SUMMARY:Quiet Riot Act
DESCRIPTION:Live music with Quiet Riot Act
URL:https://portholemaine.com/event/quiet-riot-act-6/
CATEGORIES:Live Music
END:VEVENT
BEGIN:VEVENT
DTSTART;TZID=Europe/Moscow:20230914T020000
DTEND;TZID=Europe/Moscow:20230914T020000
DTSTAMP:20260425T163151
CREATED:20230828T113101Z
LAST-MODIFIED:20230828T113101Z
UID:10000154-1694656800-1694656800@portholemaine.com
SUMMARY:Jonah Bruce
DESCRIPTION:Live music with Jonah Bruce
URL:https://portholemaine.com/event/jonah-bruce/
CATEGORIES:Live Music
END:VEVENT
BEGIN:VEVENT
DTSTART;TZID=Europe/Moscow:20230913T020000
DTEND;TZID=Europe/Moscow:20230913T020000
DTSTAMP:20260425T163151
CREATED:20230828T113023Z
LAST-MODIFIED:20230828T113023Z
UID:10000153-1694570400-1694570400@portholemaine.com
SUMMARY:Chase Jobe
DESCRIPTION:Live music with Chase Jobe
URL:https://portholemaine.com/event/chase-jobe-7/
CATEGORIES:Live Music
END:VEVENT
BEGIN:VEVENT
DTSTART;TZID=Europe/Moscow:20230912T020000
DTEND;TZID=Europe/Moscow:20230912T020000
DTSTAMP:20260425T163151
CREATED:20230828T143856Z
LAST-MODIFIED:20230828T143856Z
UID:10000158-1694484000-1694484000@portholemaine.com
SUMMARY:Henry Lowery
DESCRIPTION:Live music with Henry Lowery
URL:https://portholemaine.com/event/henry-lowery-3/
CATEGORIES:Live Music
END:VEVENT
BEGIN:VEVENT
DTSTART;TZID=Europe/Moscow:20230911T220000
DTEND;TZID=Europe/Moscow:20230911T220000
DTSTAMP:20260425T163151
CREATED:20230821T120423Z
LAST-MODIFIED:20230821T120423Z
UID:10000130-1694469600-1694469600@portholemaine.com
SUMMARY:Andi Fawcett
DESCRIPTION:Live acoustic with Andi Fawcett
URL:https://portholemaine.com/event/andi-fawcett-3/
CATEGORIES:Live Music
END:VEVENT
BEGIN:VEVENT
DTSTART;TZID=Europe/Moscow:20230911T020000
DTEND;TZID=Europe/Moscow:20230911T020000
DTSTAMP:20260425T163151
CREATED:20230828T112923Z
LAST-MODIFIED:20230828T112923Z
UID:10000152-1694397600-1694397600@portholemaine.com
SUMMARY:Justin Carver
DESCRIPTION:Live music with Justin Carver
URL:https://portholemaine.com/event/justin-carver-5/
CATEGORIES:Live Music
END:VEVENT
BEGIN:VEVENT
DTSTART;TZID=Europe/Moscow:20230910T220000
DTEND;TZID=Europe/Moscow:20230910T220000
DTSTAMP:20260425T163151
CREATED:20230821T120337Z
LAST-MODIFIED:20230821T120337Z
UID:10000129-1694383200-1694383200@portholemaine.com
SUMMARY:Magic Bus
DESCRIPTION:Live music with Magic Bus
URL:https://portholemaine.com/event/magic-bus/
CATEGORIES:Live Music
END:VEVENT
BEGIN:VEVENT
DTSTART;TZID=Europe/Moscow:20230910T020000
DTEND;TZID=Europe/Moscow:20230910T020000
DTSTAMP:20260425T163151
CREATED:20230821T120247Z
LAST-MODIFIED:20230821T120247Z
UID:10000128-1694311200-1694311200@portholemaine.com
SUMMARY:DJ Father Tish & DJ Jay-C
DESCRIPTION:Dance party on the deck with DJ Father Tish & DJ Jay-C
URL:https://portholemaine.com/event/dj-father-tish-dj-jay-c/
CATEGORIES:Live Music
END:VEVENT
BEGIN:VEVENT
DTSTART;TZID=Europe/Moscow:20230909T220000
DTEND;TZID=Europe/Moscow:20230909T220000
DTSTAMP:20260425T163151
CREATED:20230821T120154Z
LAST-MODIFIED:20230821T120154Z
UID:10000127-1694296800-1694296800@portholemaine.com
SUMMARY:Quiet Riot Act
DESCRIPTION:Live music with Quiet Riot Act
URL:https://portholemaine.com/event/quiet-riot-act-5/
CATEGORIES:Live Music
END:VEVENT
BEGIN:VEVENT
DTSTART;TZID=Europe/Moscow:20230909T020000
DTEND;TZID=Europe/Moscow:20230909T020000
DTSTAMP:20260425T163151
CREATED:20230821T124032Z
LAST-MODIFIED:20230821T124032Z
UID:10000146-1694224800-1694224800@portholemaine.com
SUMMARY:Doubting Gravity
DESCRIPTION:Live music with Doubting Gravity
URL:https://portholemaine.com/event/doubting-gravity-8/
CATEGORIES:Live Music
END:VEVENT
BEGIN:VEVENT
DTSTART;TZID=Europe/Moscow:20230908T020000
DTEND;TZID=Europe/Moscow:20230908T020000
DTSTAMP:20260425T163151
CREATED:20230821T115942Z
LAST-MODIFIED:20230821T115942Z
UID:10000126-1694138400-1694138400@portholemaine.com
SUMMARY:Misspent Youth
DESCRIPTION:Live music with Misspent Youth
URL:https://portholemaine.com/event/misspent-youth-2/
CATEGORIES:Live Music
END:VEVENT
BEGIN:VEVENT
DTSTART;TZID=Europe/Moscow:20230907T020000
DTEND;TZID=Europe/Moscow:20230907T020000
DTSTAMP:20260425T163151
CREATED:20230821T115648Z
LAST-MODIFIED:20230821T115648Z
UID:10000125-1694052000-1694052000@portholemaine.com
SUMMARY:Justin Carver
DESCRIPTION:Live music with Justin Carver
URL:https://portholemaine.com/event/justin-carver-4/
CATEGORIES:Live Music
END:VEVENT
BEGIN:VEVENT
DTSTART;TZID=Europe/Moscow:20230906T020000
DTEND;TZID=Europe/Moscow:20230906T020000
DTSTAMP:20260425T163151
CREATED:20230828T112807Z
LAST-MODIFIED:20230828T112807Z
UID:10000151-1693965600-1693965600@portholemaine.com
SUMMARY:Chase Jobe
DESCRIPTION:Live music with Chase Jobe
URL:https://portholemaine.com/event/chase-jobe-6/
CATEGORIES:Live Music
END:VEVENT
BEGIN:VEVENT
DTSTART;TZID=Europe/Moscow:20230905T020000
DTEND;TZID=Europe/Moscow:20230905T020000
DTSTAMP:20260425T163151
CREATED:20230815T115647Z
LAST-MODIFIED:20230815T115647Z
UID:10000121-1693879200-1693879200@portholemaine.com
SUMMARY:Henry Lowery
DESCRIPTION:Live music with Henry Lowery
URL:https://portholemaine.com/event/henry-lowery/
CATEGORIES:Live Music
END:VEVENT
BEGIN:VEVENT
DTSTART;TZID=Europe/Moscow:20230904T220000
DTEND;TZID=Europe/Moscow:20230904T220000
DTSTAMP:20260425T163151
CREATED:20230815T113750Z
LAST-MODIFIED:20230815T113750Z
UID:10000120-1693864800-1693864800@portholemaine.com
SUMMARY:Kris Hype
DESCRIPTION:Acoustic with Kris Hype
URL:https://portholemaine.com/event/kris-hype-4/
CATEGORIES:Live Music
END:VEVENT
BEGIN:VEVENT
DTSTART;TZID=Europe/Moscow:20230904T020000
DTEND;TZID=Europe/Moscow:20230904T020000
DTSTAMP:20260425T163151
CREATED:20230828T143628Z
LAST-MODIFIED:20230828T143628Z
UID:10000157-1693792800-1693792800@portholemaine.com
SUMMARY:Megs
DESCRIPTION:Live music with Megs
URL:https://portholemaine.com/event/megs-2/
CATEGORIES:Live Music
END:VEVENT
BEGIN:VEVENT
DTSTART;TZID=Europe/Moscow:20230903T210000
DTEND;TZID=Europe/Moscow:20230904T020000
DTSTAMP:20260425T163151
CREATED:20230815T113545Z
LAST-MODIFIED:20230815T113545Z
UID:10000119-1693774800-1693792800@portholemaine.com
SUMMARY:Reggae on the Bay
DESCRIPTION:Nothing Ventured presents Reggae on the Bay! Enjoy live reggae music on the deck every Sunday.
URL:https://portholemaine.com/event/reggae-on-the-bay-4/
CATEGORIES:Live Music
END:VEVENT
BEGIN:VEVENT
DTSTART;TZID=Europe/Moscow:20230903T030000
DTEND;TZID=Europe/Moscow:20230903T030000
DTSTAMP:20260425T163151
CREATED:20230815T111540Z
LAST-MODIFIED:20230815T111540Z
UID:10000118-1693710000-1693710000@portholemaine.com
SUMMARY:DJ Jacky Treehorn
DESCRIPTION:Live music with DJ Jacky Treehorn
URL:https://portholemaine.com/event/dj-jacky-treehorn-11/
CATEGORIES:Live Music
END:VEVENT
BEGIN:VEVENT
DTSTART;TZID=Europe/Moscow:20230902T220000
DTEND;TZID=Europe/Moscow:20230902T220000
DTSTAMP:20260425T163151
CREATED:20230815T111220Z
LAST-MODIFIED:20230815T111220Z
UID:10000117-1693692000-1693692000@portholemaine.com
SUMMARY:Doubting Gravity
DESCRIPTION:Live music with Doubting Gravity
URL:https://portholemaine.com/event/boba-funk-3/
CATEGORIES:Live Music
END:VEVENT
BEGIN:VEVENT
DTSTART;TZID=Europe/Moscow:20230902T030000
DTEND;TZID=Europe/Moscow:20230902T030000
DTSTAMP:20260425T163151
CREATED:20230815T111030Z
LAST-MODIFIED:20230815T111030Z
UID:10000116-1693623600-1693623600@portholemaine.com
SUMMARY:Ragged Jack
DESCRIPTION:Live music with Ragged Jack
URL:https://portholemaine.com/event/ragged-jack-3/
CATEGORIES:Live Music
END:VEVENT
BEGIN:VEVENT
DTSTART;TZID=Europe/Moscow:20230831T200000
DTEND;TZID=Europe/Moscow:20230831T200000
DTSTAMP:20260425T163151
CREATED:20230828T112253Z
LAST-MODIFIED:20230828T112253Z
UID:10000150-1693512000-1693512000@portholemaine.com
SUMMARY:Toby McAllister
DESCRIPTION:Live music with Toby McAllister
URL:https://portholemaine.com/event/toby-mcallister/
CATEGORIES:Live Music
END:VEVENT
BEGIN:VEVENT
DTSTART;TZID=Europe/Moscow:20230831T020000
DTEND;TZID=Europe/Moscow:20230831T020000
DTSTAMP:20260425T163151
CREATED:20230721T102952Z
LAST-MODIFIED:20230721T102952Z
UID:10000114-1693447200-1693447200@portholemaine.com
SUMMARY:KJ & Kyle
DESCRIPTION:Live music with KJ & Kyle
URL:https://portholemaine.com/event/kj-kyle-2/
CATEGORIES:Live Music
END:VEVENT
BEGIN:VEVENT
DTSTART;TZID=Europe/Moscow:20230830T190000
DTEND;TZID=Europe/Moscow:20230830T190000
DTSTAMP:20260425T163151
CREATED:20230828T112140Z
LAST-MODIFIED:20230828T112140Z
UID:10000149-1693422000-1693422000@portholemaine.com
SUMMARY:Megs
DESCRIPTION:Live music with Megs
URL:https://portholemaine.com/event/megs/
CATEGORIES:Live Music
END:VEVENT
BEGIN:VEVENT
DTSTART;TZID=Europe/Moscow:20230830T030000
DTEND;TZID=Europe/Moscow:20230830T030000
DTSTAMP:20260425T163151
CREATED:20230828T111755Z
LAST-MODIFIED:20230828T111755Z
UID:10000148-1693364400-1693364400@portholemaine.com
SUMMARY:Chase Jobe
DESCRIPTION:Live music with Chase Jobe
URL:https://portholemaine.com/event/chase-jobe-5/
CATEGORIES:Live Music
END:VEVENT
BEGIN:VEVENT
DTSTART;TZID=Europe/Moscow:20230830T010000
DTEND;TZID=Europe/Moscow:20230830T010000
DTSTAMP:20260425T163151
CREATED:20230815T120459Z
LAST-MODIFIED:20230815T120459Z
UID:10000124-1693357200-1693357200@portholemaine.com
SUMMARY:Justin Carver
DESCRIPTION:Live music with Justin Carver
URL:https://portholemaine.com/event/justin-carver-3/
CATEGORIES:Live Music
END:VEVENT
BEGIN:VEVENT
DTSTART;TZID=Europe/Moscow:20230829T020000
DTEND;TZID=Europe/Moscow:20230829T020000
DTSTAMP:20260425T163151
CREATED:20230828T111529Z
LAST-MODIFIED:20230828T111529Z
UID:10000147-1693274400-1693274400@portholemaine.com
SUMMARY:Henry Lowery
DESCRIPTION:Live music with Henry Lowery
URL:https://portholemaine.com/event/henry-lowery-2/
CATEGORIES:Live Music
END:VEVENT
END:VCALENDAR