BEGIN:VCALENDAR
VERSION:2.0
PRODID:-//Porthole - ECPv6.10.2//NONSGML v1.0//EN
CALSCALE:GREGORIAN
METHOD:PUBLISH
X-WR-CALNAME:Porthole
X-ORIGINAL-URL:https://portholemaine.com
X-WR-CALDESC:Events for Porthole
REFRESH-INTERVAL;VALUE=DURATION:PT1H
X-Robots-Tag:noindex
X-PUBLISHED-TTL:PT1H
BEGIN:VTIMEZONE
TZID:Europe/Moscow
BEGIN:STANDARD
TZOFFSETFROM:+0300
TZOFFSETTO:+0300
TZNAME:MSK
DTSTART:20230101T000000
END:STANDARD
END:VTIMEZONE
BEGIN:VEVENT
DTSTART;TZID=Europe/Moscow:20230721T220000
DTEND;TZID=Europe/Moscow:20230722T010000
DTSTAMP:20260425T162434
CREATED:20230711T150751Z
LAST-MODIFIED:20230711T150751Z
UID:10000068-1689976800-1689987600@portholemaine.com
SUMMARY:DJ Jacky Treehorn
DESCRIPTION:Live music with DJ Jacky Treehorn
URL:https://portholemaine.com/event/dj-jacky-treehorn-5/
CATEGORIES:Live Music
END:VEVENT
BEGIN:VEVENT
DTSTART;TZID=Europe/Moscow:20230721T000000
DTEND;TZID=Europe/Moscow:20230721T030000
DTSTAMP:20260425T162434
CREATED:20230630T094932Z
LAST-MODIFIED:20230630T094932Z
UID:10000061-1689897600-1689908400@portholemaine.com
SUMMARY:Chase Jobe
DESCRIPTION:Live music with Chase Jobe
URL:https://portholemaine.com/event/chase-jobe-3/
CATEGORIES:Live Music
END:VEVENT
BEGIN:VEVENT
DTSTART;TZID=Europe/Moscow:20230719T000000
DTEND;TZID=Europe/Moscow:20230719T030000
DTSTAMP:20260425T162434
CREATED:20230630T094516Z
LAST-MODIFIED:20230630T094516Z
UID:10000060-1689724800-1689735600@portholemaine.com
SUMMARY:12/OC Tuesdays with 12/OC & Friends
DESCRIPTION:Enjoy 12/OC Tuesdays with live performances with 12/OC & Friends every Tuesday\, only at The Porthole.
URL:https://portholemaine.com/event/12-oc-tuesdays-with-12-oc-friends-2/
CATEGORIES:Live Music
END:VEVENT
BEGIN:VEVENT
DTSTART;TZID=Europe/Moscow:20230718T000000
DTEND;TZID=Europe/Moscow:20230718T030000
DTSTAMP:20260425T162434
CREATED:20230630T094304Z
LAST-MODIFIED:20230630T094304Z
UID:10000059-1689638400-1689649200@portholemaine.com
SUMMARY:Acoustic Monday: Andi Fawcett
DESCRIPTION:Live music with Andi Fawcett
URL:https://portholemaine.com/event/acoustic-monday-andi-fawcett-2/
CATEGORIES:Live Music
END:VEVENT
BEGIN:VEVENT
DTSTART;TZID=Europe/Moscow:20230716T210000
DTEND;TZID=Europe/Moscow:20230717T020000
DTSTAMP:20260425T162434
CREATED:20230630T094119Z
LAST-MODIFIED:20230630T094119Z
UID:10000058-1689541200-1689559200@portholemaine.com
SUMMARY:Reggae on the Bay
DESCRIPTION:Nothing Ventured Entertainment presents Reggae on the Bay! Enjoy live reggae music on the deck every Sunday.
URL:https://portholemaine.com/event/reggae-on-the-bay-3/
CATEGORIES:Live Music
END:VEVENT
BEGIN:VEVENT
DTSTART;TZID=Europe/Moscow:20230716T030000
DTEND;TZID=Europe/Moscow:20230716T060000
DTSTAMP:20260425T162434
CREATED:20230630T093747Z
LAST-MODIFIED:20230630T093747Z
UID:10000057-1689476400-1689487200@portholemaine.com
SUMMARY:13 Black
DESCRIPTION:Live music with 13 Black
URL:https://portholemaine.com/event/13-black-2/
CATEGORIES:Live Music
END:VEVENT
BEGIN:VEVENT
DTSTART;TZID=Europe/Moscow:20230716T000000
DTEND;TZID=Europe/Moscow:20230716T030000
DTSTAMP:20260425T162434
CREATED:20230630T093506Z
LAST-MODIFIED:20230630T093506Z
UID:10000056-1689465600-1689476400@portholemaine.com
SUMMARY:Don Campbell Band
DESCRIPTION:Live music with Don Campbell Band
URL:https://portholemaine.com/event/don-campbell-band/
CATEGORIES:Live Music
END:VEVENT
BEGIN:VEVENT
DTSTART;TZID=Europe/Moscow:20230715T200000
DTEND;TZID=Europe/Moscow:20230715T230000
DTSTAMP:20260425T162434
CREATED:20230630T093357Z
LAST-MODIFIED:20230630T093357Z
UID:10000055-1689451200-1689462000@portholemaine.com
SUMMARY:The Few
DESCRIPTION:Live music with The Few
URL:https://portholemaine.com/event/the-few-8/
CATEGORIES:Live Music
END:VEVENT
BEGIN:VEVENT
DTSTART;TZID=Europe/Moscow:20230715T020000
DTEND;TZID=Europe/Moscow:20230715T060000
DTSTAMP:20260425T162434
CREATED:20230630T093045Z
LAST-MODIFIED:20230630T093045Z
UID:10000053-1689386400-1689400800@portholemaine.com
SUMMARY:Sugarbox
DESCRIPTION:Live music with Sugarbox
URL:https://portholemaine.com/event/sugarbox-3/
CATEGORIES:Live Music
END:VEVENT
BEGIN:VEVENT
DTSTART;TZID=Europe/Moscow:20230714T230000
DTEND;TZID=Europe/Moscow:20230715T020000
DTSTAMP:20260425T162434
CREATED:20230630T093256Z
LAST-MODIFIED:20230630T093256Z
UID:10000054-1689375600-1689386400@portholemaine.com
SUMMARY:DJ Jacky Treehorn
DESCRIPTION:Live music with DJ Jacky Treehorn
URL:https://portholemaine.com/event/dj-jacky-treehorn-3/
CATEGORIES:Live Music
END:VEVENT
BEGIN:VEVENT
DTSTART;TZID=Europe/Moscow:20230714T000000
DTEND;TZID=Europe/Moscow:20230714T030000
DTSTAMP:20260425T162434
CREATED:20230630T092937Z
LAST-MODIFIED:20230630T092937Z
UID:10000052-1689292800-1689303600@portholemaine.com
SUMMARY:Quiet Riot Act
DESCRIPTION:Live music with Quiet Riot Act
URL:https://portholemaine.com/event/quiet-riot-act-2/
CATEGORIES:Live Music
END:VEVENT
BEGIN:VEVENT
DTSTART;TZID=Europe/Moscow:20230712T000000
DTEND;TZID=Europe/Moscow:20230712T030000
DTSTAMP:20260425T162434
CREATED:20230630T092755Z
LAST-MODIFIED:20230630T092755Z
UID:10000051-1689120000-1689130800@portholemaine.com
SUMMARY:12/OC Tuesdays with 12/OC & Friends
DESCRIPTION:Enjoy 12/OC Tuesdays with live performances from 12/OC & Friends\, every Tuesday only at The Porthole!
URL:https://portholemaine.com/event/12-oc-tuesdays-with-12-oc-friends/
CATEGORIES:Live Music
END:VEVENT
BEGIN:VEVENT
DTSTART;TZID=Europe/Moscow:20230711T000000
DTEND;TZID=Europe/Moscow:20230711T030000
DTSTAMP:20260425T162434
CREATED:20230630T091739Z
LAST-MODIFIED:20230630T091739Z
UID:10000050-1689033600-1689044400@portholemaine.com
SUMMARY:Acoustic Monday: Kris Hype
DESCRIPTION:Live music with Kris Hype
URL:https://portholemaine.com/event/acoustic-monday-kris-hype/
CATEGORIES:Live Music
END:VEVENT
BEGIN:VEVENT
DTSTART;TZID=Europe/Moscow:20230709T210000
DTEND;TZID=Europe/Moscow:20230710T020000
DTSTAMP:20260425T162434
CREATED:20230630T091634Z
LAST-MODIFIED:20230630T091634Z
UID:10000049-1688936400-1688954400@portholemaine.com
SUMMARY:Reggae on the Bay
DESCRIPTION:Nothing Ventured presents Reggae on the Bay! Enjoy live reggae music on the deck every Sunday.
URL:https://portholemaine.com/event/reggae-on-the-bay-2/
CATEGORIES:Live Music
END:VEVENT
BEGIN:VEVENT
DTSTART;TZID=Europe/Moscow:20230709T020000
DTEND;TZID=Europe/Moscow:20230709T060000
DTSTAMP:20260425T162434
CREATED:20230630T091018Z
LAST-MODIFIED:20230630T091018Z
UID:10000048-1688868000-1688882400@portholemaine.com
SUMMARY:DJ Father Tish & Jay-C
DESCRIPTION:Live music with DJ Father Tish & Jay-C
URL:https://portholemaine.com/event/dj-father-tish-jay-c-2/
CATEGORIES:Live Music
END:VEVENT
BEGIN:VEVENT
DTSTART;TZID=Europe/Moscow:20230708T200000
DTEND;TZID=Europe/Moscow:20230708T230000
DTSTAMP:20260425T162434
CREATED:20230630T090915Z
LAST-MODIFIED:20230630T090915Z
UID:10000047-1688846400-1688857200@portholemaine.com
SUMMARY:Spyglass
DESCRIPTION:Live music with Spyglass
URL:https://portholemaine.com/event/spyglass-3/
CATEGORIES:Live Music
END:VEVENT
BEGIN:VEVENT
DTSTART;TZID=Europe/Moscow:20230708T020000
DTEND;TZID=Europe/Moscow:20230708T060000
DTSTAMP:20260425T162434
CREATED:20230630T090102Z
LAST-MODIFIED:20230630T090102Z
UID:10000045-1688781600-1688796000@portholemaine.com
SUMMARY:Hello Newman
DESCRIPTION:Live music with Hello Newman
URL:https://portholemaine.com/event/hello-newman-3/
CATEGORIES:Live Music
END:VEVENT
BEGIN:VEVENT
DTSTART;TZID=Europe/Moscow:20230707T230000
DTEND;TZID=Europe/Moscow:20230708T020000
DTSTAMP:20260425T162434
CREATED:20230630T090737Z
LAST-MODIFIED:20230630T090737Z
UID:10000046-1688770800-1688781600@portholemaine.com
SUMMARY:DJ Jacky Treehorn
DESCRIPTION:Live music with DJ Jacky Treehorn
URL:https://portholemaine.com/event/dj-jacky-treehorn-2/
CATEGORIES:Live Music
END:VEVENT
BEGIN:VEVENT
DTSTART;TZID=Europe/Moscow:20230707T000000
DTEND;TZID=Europe/Moscow:20230707T030000
DTSTAMP:20260425T162434
CREATED:20230630T085625Z
LAST-MODIFIED:20230630T085625Z
UID:10000044-1688688000-1688698800@portholemaine.com
SUMMARY:Chase Jobe
DESCRIPTION:Live music with Chase Jobe
URL:https://portholemaine.com/event/chase-jobe-2/
CATEGORIES:Live Music
END:VEVENT
BEGIN:VEVENT
DTSTART;TZID=Europe/Moscow:20230705T020000
DTEND;TZID=Europe/Moscow:20230705T060000
DTSTAMP:20260425T162434
CREATED:20230630T085323Z
LAST-MODIFIED:20230630T085323Z
UID:10000043-1688522400-1688536800@portholemaine.com
SUMMARY:DJ Wireless
DESCRIPTION:Live music with DJ Wireless
URL:https://portholemaine.com/event/dj-wireless/
CATEGORIES:Live Music
END:VEVENT
BEGIN:VEVENT
DTSTART;TZID=Europe/Moscow:20230704T200000
DTEND;TZID=Europe/Moscow:20230704T230000
DTSTAMP:20260425T162434
CREATED:20230630T085224Z
LAST-MODIFIED:20230630T085224Z
UID:10000042-1688500800-1688511600@portholemaine.com
SUMMARY:The Few
DESCRIPTION:Live music with The Few
URL:https://portholemaine.com/event/the-few-7/
CATEGORIES:Live Music
END:VEVENT
BEGIN:VEVENT
DTSTART;TZID=Europe/Moscow:20230703T220000
DTEND;TZID=Europe/Moscow:20230704T010000
DTSTAMP:20260425T162434
CREATED:20230630T084052Z
LAST-MODIFIED:20230630T084052Z
UID:10000041-1688421600-1688432400@portholemaine.com
SUMMARY:Acoustic Monday: Andi Fawcett
DESCRIPTION:Live music with Andi Fawcett
URL:https://portholemaine.com/event/acoustic-monday-andi-fawcett/
CATEGORIES:Live Music
END:VEVENT
BEGIN:VEVENT
DTSTART;TZID=Europe/Moscow:20230702T210000
DTEND;TZID=Europe/Moscow:20230703T020000
DTSTAMP:20260425T162434
CREATED:20230630T083815Z
LAST-MODIFIED:20230630T083815Z
UID:10000040-1688331600-1688349600@portholemaine.com
SUMMARY:Reggae on the Bay
DESCRIPTION:Nothing Ventured Entertainment presents Reggae on the Bay! Enjoy live reggae music on the deck every Sunday.
URL:https://portholemaine.com/event/reggae-on-the-bay/
CATEGORIES:Live Music
END:VEVENT
BEGIN:VEVENT
DTSTART;TZID=Europe/Moscow:20230702T020000
DTEND;TZID=Europe/Moscow:20230702T060000
DTSTAMP:20260425T162434
CREATED:20230630T083118Z
LAST-MODIFIED:20230630T083118Z
UID:10000039-1688263200-1688277600@portholemaine.com
SUMMARY:DJ Father Tish & Jay-C
DESCRIPTION:Live music with DJ Father Tish & Jay-C
URL:https://portholemaine.com/event/dj-father-tish-jay-c/
CATEGORIES:Live Music
END:VEVENT
BEGIN:VEVENT
DTSTART;TZID=Europe/Moscow:20230701T020000
DTEND;TZID=Europe/Moscow:20230701T060000
DTSTAMP:20260425T162434
CREATED:20230630T080207Z
LAST-MODIFIED:20230630T080207Z
UID:10000037-1688176800-1688191200@portholemaine.com
SUMMARY:Clayton Blanck + Stoney Coast
DESCRIPTION:Live music with Clayton Blanck + Stoney Coast
URL:https://portholemaine.com/event/clayton-blanck-stoney-coast/
CATEGORIES:Live Music
END:VEVENT
BEGIN:VEVENT
DTSTART;TZID=Europe/Moscow:20230630T230000
DTEND;TZID=Europe/Moscow:20230701T020000
DTSTAMP:20260425T162434
CREATED:20230630T082256Z
LAST-MODIFIED:20230630T082256Z
UID:10000038-1688166000-1688176800@portholemaine.com
SUMMARY:DJ Jacky Treehorn
DESCRIPTION:Live music with DJ Jacky Treehorn
URL:https://portholemaine.com/event/dj-jacky-treehorn/
CATEGORIES:Live Music
END:VEVENT
BEGIN:VEVENT
DTSTART;TZID=Europe/Moscow:20230617T200000
DTEND;TZID=Europe/Moscow:20230617T230000
DTSTAMP:20260425T162434
CREATED:20230215T121232Z
LAST-MODIFIED:20230215T121232Z
UID:10000036-1687032000-1687042800@portholemaine.com
SUMMARY:Stealing Sunday
DESCRIPTION:Live Music with Stealing Sunday
URL:https://portholemaine.com/event/stealing-sunday/
CATEGORIES:Live Music
ATTACH;FMTTYPE=image/png:https://portholemaine.com/wp-content/uploads/2023/02/34-min.png
END:VEVENT
BEGIN:VEVENT
DTSTART;TZID=Europe/Moscow:20230617T030000
DTEND;TZID=Europe/Moscow:20230617T060000
DTSTAMP:20260425T162434
CREATED:20230215T121231Z
LAST-MODIFIED:20230215T121231Z
UID:10000035-1686970800-1686981600@portholemaine.com
SUMMARY:13 Black
DESCRIPTION:Live Music with 13 Black
URL:https://portholemaine.com/event/13-black/
CATEGORIES:Live Music
ATTACH;FMTTYPE=image/png:https://portholemaine.com/wp-content/uploads/2023/02/2-min.png
END:VEVENT
BEGIN:VEVENT
DTSTART;TZID=Europe/Moscow:20230613T010000
DTEND;TZID=Europe/Moscow:20230613T040000
DTSTAMP:20260425T162434
CREATED:20230215T121230Z
LAST-MODIFIED:20230215T121230Z
UID:10000034-1686618000-1686628800@portholemaine.com
SUMMARY:Kris Hype
DESCRIPTION:Live Music with Kris Hype
URL:https://portholemaine.com/event/kris-hype-3/
CATEGORIES:Live Music
ATTACH;FMTTYPE=image/png:https://portholemaine.com/wp-content/uploads/2023/02/23-min.png
END:VEVENT
BEGIN:VEVENT
DTSTART;TZID=Europe/Moscow:20230611T030000
DTEND;TZID=Europe/Moscow:20230611T060000
DTSTAMP:20260425T162434
CREATED:20230215T121230Z
LAST-MODIFIED:20230215T121230Z
UID:10000033-1686452400-1686463200@portholemaine.com
SUMMARY:Ragged Jack
DESCRIPTION:Live Music with Ragged Jack
URL:https://portholemaine.com/event/ragged-jack-2/
CATEGORIES:Live Music
ATTACH;FMTTYPE=image/png:https://portholemaine.com/wp-content/uploads/2023/02/27-min.png
END:VEVENT
END:VCALENDAR