BEGIN:VCALENDAR
VERSION:2.0
PRODID:-//Porthole - ECPv6.10.2//NONSGML v1.0//EN
CALSCALE:GREGORIAN
METHOD:PUBLISH
X-WR-CALNAME:Porthole
X-ORIGINAL-URL:https://portholemaine.com
X-WR-CALDESC:Events for Porthole
REFRESH-INTERVAL;VALUE=DURATION:PT1H
X-Robots-Tag:noindex
X-PUBLISHED-TTL:PT1H
BEGIN:VTIMEZONE
TZID:Europe/Moscow
BEGIN:STANDARD
TZOFFSETFROM:+0300
TZOFFSETTO:+0300
TZNAME:MSK
DTSTART:20230101T000000
END:STANDARD
END:VTIMEZONE
BEGIN:VEVENT
DTSTART;TZID=Europe/Moscow:20230831T200000
DTEND;TZID=Europe/Moscow:20230831T200000
DTSTAMP:20260425T203544
CREATED:20230828T112253Z
LAST-MODIFIED:20230828T112253Z
UID:10000150-1693512000-1693512000@portholemaine.com
SUMMARY:Toby McAllister
DESCRIPTION:Live music with Toby McAllister
URL:https://portholemaine.com/event/toby-mcallister/
CATEGORIES:Live Music
END:VEVENT
BEGIN:VEVENT
DTSTART;TZID=Europe/Moscow:20230831T020000
DTEND;TZID=Europe/Moscow:20230831T020000
DTSTAMP:20260425T203544
CREATED:20230721T102952Z
LAST-MODIFIED:20230721T102952Z
UID:10000114-1693447200-1693447200@portholemaine.com
SUMMARY:KJ & Kyle
DESCRIPTION:Live music with KJ & Kyle
URL:https://portholemaine.com/event/kj-kyle-2/
CATEGORIES:Live Music
END:VEVENT
BEGIN:VEVENT
DTSTART;TZID=Europe/Moscow:20230830T190000
DTEND;TZID=Europe/Moscow:20230830T190000
DTSTAMP:20260425T203544
CREATED:20230828T112140Z
LAST-MODIFIED:20230828T112140Z
UID:10000149-1693422000-1693422000@portholemaine.com
SUMMARY:Megs
DESCRIPTION:Live music with Megs
URL:https://portholemaine.com/event/megs/
CATEGORIES:Live Music
END:VEVENT
BEGIN:VEVENT
DTSTART;TZID=Europe/Moscow:20230830T030000
DTEND;TZID=Europe/Moscow:20230830T030000
DTSTAMP:20260425T203544
CREATED:20230828T111755Z
LAST-MODIFIED:20230828T111755Z
UID:10000148-1693364400-1693364400@portholemaine.com
SUMMARY:Chase Jobe
DESCRIPTION:Live music with Chase Jobe
URL:https://portholemaine.com/event/chase-jobe-5/
CATEGORIES:Live Music
END:VEVENT
BEGIN:VEVENT
DTSTART;TZID=Europe/Moscow:20230830T010000
DTEND;TZID=Europe/Moscow:20230830T010000
DTSTAMP:20260425T203544
CREATED:20230815T120459Z
LAST-MODIFIED:20230815T120459Z
UID:10000124-1693357200-1693357200@portholemaine.com
SUMMARY:Justin Carver
DESCRIPTION:Live music with Justin Carver
URL:https://portholemaine.com/event/justin-carver-3/
CATEGORIES:Live Music
END:VEVENT
BEGIN:VEVENT
DTSTART;TZID=Europe/Moscow:20230829T020000
DTEND;TZID=Europe/Moscow:20230829T020000
DTSTAMP:20260425T203544
CREATED:20230828T111529Z
LAST-MODIFIED:20230828T111529Z
UID:10000147-1693274400-1693274400@portholemaine.com
SUMMARY:Henry Lowery
DESCRIPTION:Live music with Henry Lowery
URL:https://portholemaine.com/event/henry-lowery-2/
CATEGORIES:Live Music
END:VEVENT
BEGIN:VEVENT
DTSTART;TZID=Europe/Moscow:20230828T220000
DTEND;TZID=Europe/Moscow:20230829T010000
DTSTAMP:20260425T203544
CREATED:20230721T102853Z
LAST-MODIFIED:20230721T102853Z
UID:10000113-1693260000-1693270800@portholemaine.com
SUMMARY:Acoustic with Andi Fawcett
DESCRIPTION:Live music with Acoustic with Andi Fawcett
URL:https://portholemaine.com/event/acoustic-with-andi-fawcett-2/
CATEGORIES:Live Music
END:VEVENT
BEGIN:VEVENT
DTSTART;TZID=Europe/Moscow:20230827T210000
DTEND;TZID=Europe/Moscow:20230828T020000
DTSTAMP:20260425T203544
CREATED:20230720T111954Z
LAST-MODIFIED:20230720T111954Z
UID:10000096-1693170000-1693188000@portholemaine.com
SUMMARY:Reggae on the Bay
DESCRIPTION:Nothing Ventured presents Reggae on the Bay! Enjoy live reggae music on the deck every Sunday.
URL:https://portholemaine.com/event/reggae-on-the-bay-10/
CATEGORIES:Live Music
END:VEVENT
BEGIN:VEVENT
DTSTART;TZID=Europe/Moscow:20230827T020000
DTEND;TZID=Europe/Moscow:20230827T020000
DTSTAMP:20260425T203544
CREATED:20230721T102615Z
LAST-MODIFIED:20230721T102615Z
UID:10000112-1693101600-1693101600@portholemaine.com
SUMMARY:Sugarbox
DESCRIPTION:Live music with Sugarbox
URL:https://portholemaine.com/event/sugarbox-4/
CATEGORIES:Live Music
END:VEVENT
BEGIN:VEVENT
DTSTART;TZID=Europe/Moscow:20230826T220000
DTEND;TZID=Europe/Moscow:20230827T010000
DTSTAMP:20260425T203544
CREATED:20230721T102422Z
LAST-MODIFIED:20230721T102422Z
UID:10000111-1693087200-1693098000@portholemaine.com
SUMMARY:Spyglass
DESCRIPTION:Live music with Spyglass
URL:https://portholemaine.com/event/spyglass-4/
CATEGORIES:Live Music
END:VEVENT
BEGIN:VEVENT
DTSTART;TZID=Europe/Moscow:20230826T020000
DTEND;TZID=Europe/Moscow:20230826T020000
DTSTAMP:20260425T203544
CREATED:20230721T101838Z
LAST-MODIFIED:20230721T101838Z
UID:10000110-1693015200-1693015200@portholemaine.com
SUMMARY:13 Black
DESCRIPTION:Live music with 13 Black
URL:https://portholemaine.com/event/13-black-3/
CATEGORIES:Live Music
END:VEVENT
BEGIN:VEVENT
DTSTART;TZID=Europe/Moscow:20230825T220000
DTEND;TZID=Europe/Moscow:20230826T010000
DTSTAMP:20260425T203544
CREATED:20230721T093203Z
LAST-MODIFIED:20230721T093203Z
UID:10000106-1693000800-1693011600@portholemaine.com
SUMMARY:DJ Jacky Treehorn
DESCRIPTION:Live music with DJ Jacky Treehorn
URL:https://portholemaine.com/event/dj-jacky-treehorn-10/
CATEGORIES:Live Music
END:VEVENT
BEGIN:VEVENT
DTSTART;TZID=Europe/Moscow:20230825T020000
DTEND;TZID=Europe/Moscow:20230825T020000
DTSTAMP:20260425T203544
CREATED:20230721T093657Z
LAST-MODIFIED:20230721T093657Z
UID:10000109-1692928800-1692928800@portholemaine.com
SUMMARY:Justin Carver
DESCRIPTION:Live music with Justin Carver
URL:https://portholemaine.com/event/justin-carver-2/
CATEGORIES:Live Music
END:VEVENT
BEGIN:VEVENT
DTSTART;TZID=Europe/Moscow:20230824T020000
DTEND;TZID=Europe/Moscow:20230824T020000
DTSTAMP:20260425T203544
CREATED:20230815T120256Z
LAST-MODIFIED:20230815T120256Z
UID:10000123-1692842400-1692842400@portholemaine.com
SUMMARY:Stone Broke
DESCRIPTION:Live music with Stone Broke
URL:https://portholemaine.com/event/stone-broke/
CATEGORIES:Live Music
END:VEVENT
BEGIN:VEVENT
DTSTART;TZID=Europe/Moscow:20230823T010000
DTEND;TZID=Europe/Moscow:20230823T010000
DTSTAMP:20260425T203544
CREATED:20230720T113023Z
LAST-MODIFIED:20230720T113023Z
UID:10000100-1692752400-1692752400@portholemaine.com
SUMMARY:12/OC Tuesdays with 12/OC & Friends
DESCRIPTION:Enjoy 12/OC Tuesdays with live performances from 12/OC & Friends\, every Tuesday only at The Porthole!
URL:https://portholemaine.com/event/12-oc-tuesdays-with-12-oc-friends-7/
CATEGORIES:Live Music
END:VEVENT
BEGIN:VEVENT
DTSTART;TZID=Europe/Moscow:20230822T020000
DTEND;TZID=Europe/Moscow:20230822T020000
DTSTAMP:20260425T203544
CREATED:20230721T093545Z
LAST-MODIFIED:20230721T093545Z
UID:10000108-1692669600-1692669600@portholemaine.com
SUMMARY:Christie Ray Grant Duo
DESCRIPTION:Live music with Christie Ray Grant
URL:https://portholemaine.com/event/christie-ray-grant/
CATEGORIES:Live Music
END:VEVENT
BEGIN:VEVENT
DTSTART;TZID=Europe/Moscow:20230821T220000
DTEND;TZID=Europe/Moscow:20230822T010000
DTSTAMP:20260425T203544
CREATED:20230721T093419Z
LAST-MODIFIED:20230721T093419Z
UID:10000107-1692655200-1692666000@portholemaine.com
SUMMARY:Acoustic with Kris Hype
DESCRIPTION:Acoustic with Kris Hype
URL:https://portholemaine.com/event/acoustic-with-kris-hype-2/
CATEGORIES:Live Music
END:VEVENT
BEGIN:VEVENT
DTSTART;TZID=Europe/Moscow:20230821T020000
DTEND;TZID=Europe/Moscow:20230821T020000
DTSTAMP:20260425T203544
CREATED:20230815T120207Z
LAST-MODIFIED:20230815T120207Z
UID:10000122-1692583200-1692583200@portholemaine.com
SUMMARY:Sunday Sunsets with DJ Wireless and DJ Dara
DESCRIPTION:Deck dance parties with DJ Wireless and DJ Dara
URL:https://portholemaine.com/event/sunday-sunsets-with-dj-wireless-and-dj-dara-2/
CATEGORIES:Live Music
END:VEVENT
BEGIN:VEVENT
DTSTART;TZID=Europe/Moscow:20230820T210000
DTEND;TZID=Europe/Moscow:20230821T020000
DTSTAMP:20260425T203544
CREATED:20230720T111838Z
LAST-MODIFIED:20230720T111838Z
UID:10000095-1692565200-1692583200@portholemaine.com
SUMMARY:Reggae on the Bay
DESCRIPTION:Nothing Ventured presents Reggae on the Bay! Enjoy live reggae music on the deck every Sunday.
URL:https://portholemaine.com/event/reggae-on-the-bay-9/
CATEGORIES:Live Music
END:VEVENT
BEGIN:VEVENT
DTSTART;TZID=Europe/Moscow:20230820T020000
DTEND;TZID=Europe/Moscow:20230820T020000
DTSTAMP:20260425T203544
CREATED:20230720T110844Z
LAST-MODIFIED:20230720T110844Z
UID:10000093-1692496800-1692496800@portholemaine.com
SUMMARY:DJ Father Tish & Jay-C
DESCRIPTION:Live music with DJ Father Tish & Jay-C
URL:https://portholemaine.com/event/dj-father-tish-jay-c-4/
CATEGORIES:Live Music
END:VEVENT
BEGIN:VEVENT
DTSTART;TZID=Europe/Moscow:20230819T020000
DTEND;TZID=Europe/Moscow:20230819T020000
DTSTAMP:20260425T203544
CREATED:20230720T110058Z
LAST-MODIFIED:20230720T110058Z
UID:10000092-1692410400-1692410400@portholemaine.com
SUMMARY:Northern Groove
DESCRIPTION:Live music with Northern Groove
URL:https://portholemaine.com/event/northern-groove-3/
CATEGORIES:Live Music
END:VEVENT
BEGIN:VEVENT
DTSTART;TZID=Europe/Moscow:20230818T220000
DTEND;TZID=Europe/Moscow:20230819T010000
DTSTAMP:20260425T203544
CREATED:20230721T093024Z
LAST-MODIFIED:20230721T093024Z
UID:10000105-1692396000-1692406800@portholemaine.com
SUMMARY:DJ Jacky Treehorn
DESCRIPTION:Live music with DJ Jacky Treehorn
URL:https://portholemaine.com/event/dj-jacky-treehorn-9/
CATEGORIES:Live Music
END:VEVENT
BEGIN:VEVENT
DTSTART;TZID=Europe/Moscow:20230818T020000
DTEND;TZID=Europe/Moscow:20230818T020000
DTSTAMP:20260425T203544
CREATED:20230720T105953Z
LAST-MODIFIED:20230720T105953Z
UID:10000091-1692324000-1692324000@portholemaine.com
SUMMARY:Quiet Riot Act
DESCRIPTION:Live music with Quiet Riot Act
URL:https://portholemaine.com/event/quiet-riot-act-4/
CATEGORIES:Live Music
END:VEVENT
BEGIN:VEVENT
DTSTART;TZID=Europe/Moscow:20230817T020000
DTEND;TZID=Europe/Moscow:20230817T020000
DTSTAMP:20260425T203544
CREATED:20230720T105816Z
LAST-MODIFIED:20230720T105816Z
UID:10000090-1692237600-1692237600@portholemaine.com
SUMMARY:Slygo Road
DESCRIPTION:Live music with Slygo Road
URL:https://portholemaine.com/event/slygo-road-2/
CATEGORIES:Live Music
END:VEVENT
BEGIN:VEVENT
DTSTART;TZID=Europe/Moscow:20230816T010000
DTEND;TZID=Europe/Moscow:20230816T010000
DTSTAMP:20260425T203544
CREATED:20230720T112859Z
LAST-MODIFIED:20230720T112859Z
UID:10000099-1692147600-1692147600@portholemaine.com
SUMMARY:12/OC Tuesdays with 12/OC & Friends
DESCRIPTION:Enjoy 12/OC Tuesdays with live performances from 12/OC & Friends\, every Tuesday only at The Porthole!
URL:https://portholemaine.com/event/12-oc-tuesdays-with-12-oc-friends-6/
CATEGORIES:Live Music
END:VEVENT
BEGIN:VEVENT
DTSTART;TZID=Europe/Moscow:20230814T220000
DTEND;TZID=Europe/Moscow:20230814T220000
DTSTAMP:20260425T203544
CREATED:20230720T105635Z
LAST-MODIFIED:20230720T105635Z
UID:10000089-1692050400-1692050400@portholemaine.com
SUMMARY:Acoustic with Andi Fawcett
DESCRIPTION:Live music with Andi Fawcett
URL:https://portholemaine.com/event/acoustic-with-andi-fawcett/
CATEGORIES:Live Music
END:VEVENT
BEGIN:VEVENT
DTSTART;TZID=Europe/Moscow:20230813T210000
DTEND;TZID=Europe/Moscow:20230814T020000
DTSTAMP:20260425T203544
CREATED:20230720T111735Z
LAST-MODIFIED:20230720T111735Z
UID:10000094-1691960400-1691978400@portholemaine.com
SUMMARY:Reggae on the Bay
DESCRIPTION:Nothing Ventured presents Reggae on the Bay! Enjoy live reggae music on the deck every Sunday.
URL:https://portholemaine.com/event/reggae-on-the-bay-8/
CATEGORIES:Live Music
END:VEVENT
BEGIN:VEVENT
DTSTART;TZID=Europe/Moscow:20230813T020000
DTEND;TZID=Europe/Moscow:20230813T020000
DTSTAMP:20260425T203544
CREATED:20230720T105508Z
LAST-MODIFIED:20230720T105508Z
UID:10000088-1691892000-1691892000@portholemaine.com
SUMMARY:DJ Jacky Treehorn
DESCRIPTION:Live music with DJ Jacky Treehorn
URL:https://portholemaine.com/event/dj-jacky-treehorn-6/
CATEGORIES:Live Music
END:VEVENT
BEGIN:VEVENT
DTSTART;TZID=Europe/Moscow:20230812T220000
DTEND;TZID=Europe/Moscow:20230812T220000
DTSTAMP:20260425T203544
CREATED:20230720T105128Z
LAST-MODIFIED:20230720T105128Z
UID:10000087-1691877600-1691877600@portholemaine.com
SUMMARY:The Few
DESCRIPTION:Live music with The Few
URL:https://portholemaine.com/event/the-few-13/
CATEGORIES:Live Music
END:VEVENT
BEGIN:VEVENT
DTSTART;TZID=Europe/Moscow:20230812T020000
DTEND;TZID=Europe/Moscow:20230812T020000
DTSTAMP:20260425T203544
CREATED:20230720T104905Z
LAST-MODIFIED:20230720T104905Z
UID:10000086-1691805600-1691805600@portholemaine.com
SUMMARY:12/OC
DESCRIPTION:Live music with 12/OC
URL:https://portholemaine.com/event/12-oc-6/
CATEGORIES:Live Music
END:VEVENT
END:VCALENDAR