BEGIN:VCALENDAR
VERSION:2.0
PRODID:-//Porthole - ECPv6.10.2//NONSGML v1.0//EN
CALSCALE:GREGORIAN
METHOD:PUBLISH
X-WR-CALNAME:Porthole
X-ORIGINAL-URL:https://portholemaine.com
X-WR-CALDESC:Events for Porthole
REFRESH-INTERVAL;VALUE=DURATION:PT1H
X-Robots-Tag:noindex
X-PUBLISHED-TTL:PT1H
BEGIN:VTIMEZONE
TZID:Europe/Moscow
BEGIN:STANDARD
TZOFFSETFROM:+0300
TZOFFSETTO:+0300
TZNAME:MSK
DTSTART:20230101T000000
END:STANDARD
END:VTIMEZONE
BEGIN:VEVENT
DTSTART;TZID=Europe/Moscow:20230817T020000
DTEND;TZID=Europe/Moscow:20230817T020000
DTSTAMP:20260425T162449
CREATED:20230720T105816Z
LAST-MODIFIED:20230720T105816Z
UID:10000090-1692237600-1692237600@portholemaine.com
SUMMARY:Slygo Road
DESCRIPTION:Live music with Slygo Road
URL:https://portholemaine.com/event/slygo-road-2/
CATEGORIES:Live Music
END:VEVENT
BEGIN:VEVENT
DTSTART;TZID=Europe/Moscow:20230816T010000
DTEND;TZID=Europe/Moscow:20230816T010000
DTSTAMP:20260425T162449
CREATED:20230720T112859Z
LAST-MODIFIED:20230720T112859Z
UID:10000099-1692147600-1692147600@portholemaine.com
SUMMARY:12/OC Tuesdays with 12/OC & Friends
DESCRIPTION:Enjoy 12/OC Tuesdays with live performances from 12/OC & Friends\, every Tuesday only at The Porthole!
URL:https://portholemaine.com/event/12-oc-tuesdays-with-12-oc-friends-6/
CATEGORIES:Live Music
END:VEVENT
BEGIN:VEVENT
DTSTART;TZID=Europe/Moscow:20230814T220000
DTEND;TZID=Europe/Moscow:20230814T220000
DTSTAMP:20260425T162449
CREATED:20230720T105635Z
LAST-MODIFIED:20230720T105635Z
UID:10000089-1692050400-1692050400@portholemaine.com
SUMMARY:Acoustic with Andi Fawcett
DESCRIPTION:Live music with Andi Fawcett
URL:https://portholemaine.com/event/acoustic-with-andi-fawcett/
CATEGORIES:Live Music
END:VEVENT
BEGIN:VEVENT
DTSTART;TZID=Europe/Moscow:20230813T210000
DTEND;TZID=Europe/Moscow:20230814T020000
DTSTAMP:20260425T162449
CREATED:20230720T111735Z
LAST-MODIFIED:20230720T111735Z
UID:10000094-1691960400-1691978400@portholemaine.com
SUMMARY:Reggae on the Bay
DESCRIPTION:Nothing Ventured presents Reggae on the Bay! Enjoy live reggae music on the deck every Sunday.
URL:https://portholemaine.com/event/reggae-on-the-bay-8/
CATEGORIES:Live Music
END:VEVENT
BEGIN:VEVENT
DTSTART;TZID=Europe/Moscow:20230813T020000
DTEND;TZID=Europe/Moscow:20230813T020000
DTSTAMP:20260425T162449
CREATED:20230720T105508Z
LAST-MODIFIED:20230720T105508Z
UID:10000088-1691892000-1691892000@portholemaine.com
SUMMARY:DJ Jacky Treehorn
DESCRIPTION:Live music with DJ Jacky Treehorn
URL:https://portholemaine.com/event/dj-jacky-treehorn-6/
CATEGORIES:Live Music
END:VEVENT
BEGIN:VEVENT
DTSTART;TZID=Europe/Moscow:20230812T220000
DTEND;TZID=Europe/Moscow:20230812T220000
DTSTAMP:20260425T162449
CREATED:20230720T105128Z
LAST-MODIFIED:20230720T105128Z
UID:10000087-1691877600-1691877600@portholemaine.com
SUMMARY:The Few
DESCRIPTION:Live music with The Few
URL:https://portholemaine.com/event/the-few-13/
CATEGORIES:Live Music
END:VEVENT
BEGIN:VEVENT
DTSTART;TZID=Europe/Moscow:20230812T020000
DTEND;TZID=Europe/Moscow:20230812T020000
DTSTAMP:20260425T162449
CREATED:20230720T104905Z
LAST-MODIFIED:20230720T104905Z
UID:10000086-1691805600-1691805600@portholemaine.com
SUMMARY:12/OC
DESCRIPTION:Live music with 12/OC
URL:https://portholemaine.com/event/12-oc-6/
CATEGORIES:Live Music
END:VEVENT
BEGIN:VEVENT
DTSTART;TZID=Europe/Moscow:20230811T220000
DTEND;TZID=Europe/Moscow:20230812T010000
DTSTAMP:20260425T162449
CREATED:20230721T092548Z
LAST-MODIFIED:20230721T092548Z
UID:10000104-1691791200-1691802000@portholemaine.com
SUMMARY:DJ Jacky Treehorn
DESCRIPTION:Live music with DJ Jacky Treehorn
URL:https://portholemaine.com/event/dj-jacky-treehorn-8/
CATEGORIES:Live Music
END:VEVENT
BEGIN:VEVENT
DTSTART;TZID=Europe/Moscow:20230811T020000
DTEND;TZID=Europe/Moscow:20230811T020000
DTSTAMP:20260425T162449
CREATED:20230720T104753Z
LAST-MODIFIED:20230720T104753Z
UID:10000085-1691719200-1691719200@portholemaine.com
SUMMARY:Chase Jobe
DESCRIPTION:Live music with Chase Jobe
URL:https://portholemaine.com/event/chase-jobe-4/
CATEGORIES:Live Music
END:VEVENT
BEGIN:VEVENT
DTSTART;TZID=Europe/Moscow:20230810T020000
DTEND;TZID=Europe/Moscow:20230810T020000
DTSTAMP:20260425T162449
CREATED:20230720T104637Z
LAST-MODIFIED:20230720T104637Z
UID:10000084-1691632800-1691632800@portholemaine.com
SUMMARY:KJ & Kyle
DESCRIPTION:Live music with KJ + Kyle
URL:https://portholemaine.com/event/kj-kyle/
CATEGORIES:Live Music
END:VEVENT
BEGIN:VEVENT
DTSTART;TZID=Europe/Moscow:20230809T010000
DTEND;TZID=Europe/Moscow:20230809T010000
DTSTAMP:20260425T162449
CREATED:20230720T112501Z
LAST-MODIFIED:20230720T112501Z
UID:10000098-1691542800-1691542800@portholemaine.com
SUMMARY:12/OC Tuesdays with 12/OC & Friends
DESCRIPTION:Enjoy 12/OC Tuesdays with live performances from 12/OC & Friends\, every Tuesday only at The Porthole!
URL:https://portholemaine.com/event/12-oc-tuesdays-with-12-oc-friends-5/
CATEGORIES:Live Music
END:VEVENT
BEGIN:VEVENT
DTSTART;TZID=Europe/Moscow:20230807T220000
DTEND;TZID=Europe/Moscow:20230807T220000
DTSTAMP:20260425T162449
CREATED:20230720T104437Z
LAST-MODIFIED:20230720T104437Z
UID:10000083-1691445600-1691445600@portholemaine.com
SUMMARY:Acoustic with Kris Hype
DESCRIPTION:Live music with Kris Hype
URL:https://portholemaine.com/event/acoustic-with-kris-hype/
CATEGORIES:Live Music
END:VEVENT
BEGIN:VEVENT
DTSTART;TZID=Europe/Moscow:20230806T210000
DTEND;TZID=Europe/Moscow:20230807T020000
DTSTAMP:20260425T162449
CREATED:20230720T113301Z
LAST-MODIFIED:20230720T113301Z
UID:10000101-1691355600-1691373600@portholemaine.com
SUMMARY:Reggae on the Bay
DESCRIPTION:Nothing Ventured presents Reggae on the Bay! Enjoy live reggae music on the deck every Sunday.
URL:https://portholemaine.com/event/reggae-on-the-bay-11/
CATEGORIES:Live Music
END:VEVENT
BEGIN:VEVENT
DTSTART;TZID=Europe/Moscow:20230806T020000
DTEND;TZID=Europe/Moscow:20230806T020000
DTSTAMP:20260425T162449
CREATED:20230720T104107Z
LAST-MODIFIED:20230720T104107Z
UID:10000082-1691287200-1691287200@portholemaine.com
SUMMARY:The Few
DESCRIPTION:Live music with The Few
URL:https://portholemaine.com/event/the-few-12/
CATEGORIES:Live Music
END:VEVENT
BEGIN:VEVENT
DTSTART;TZID=Europe/Moscow:20230805T220000
DTEND;TZID=Europe/Moscow:20230805T220000
DTSTAMP:20260425T162449
CREATED:20230720T103333Z
LAST-MODIFIED:20230720T103333Z
UID:10000081-1691272800-1691272800@portholemaine.com
SUMMARY:Quiet Riot Act
DESCRIPTION:Live music with Quiet Riot Act
URL:https://portholemaine.com/event/quiet-riot-act-3/
CATEGORIES:Live Music
END:VEVENT
BEGIN:VEVENT
DTSTART;TZID=Europe/Moscow:20230805T020000
DTEND;TZID=Europe/Moscow:20230805T020000
DTSTAMP:20260425T162449
CREATED:20230720T103203Z
LAST-MODIFIED:20230720T103203Z
UID:10000080-1691200800-1691200800@portholemaine.com
SUMMARY:Doubting Gravity
DESCRIPTION:Live music with Doubting Gravity
URL:https://portholemaine.com/event/doubting-gravity-6/
CATEGORIES:Live Music
END:VEVENT
BEGIN:VEVENT
DTSTART;TZID=Europe/Moscow:20230804T220000
DTEND;TZID=Europe/Moscow:20230805T010000
DTSTAMP:20260425T162449
CREATED:20230721T092449Z
LAST-MODIFIED:20230721T092449Z
UID:10000103-1691186400-1691197200@portholemaine.com
SUMMARY:DJ Jacky Treehorn
DESCRIPTION:Live music with DJ Jacky Treehorn
URL:https://portholemaine.com/event/dj-jacky-treehorn-7/
CATEGORIES:Live Music
END:VEVENT
BEGIN:VEVENT
DTSTART;TZID=Europe/Moscow:20230804T020000
DTEND;TZID=Europe/Moscow:20230804T020000
DTSTAMP:20260425T162449
CREATED:20230720T103011Z
LAST-MODIFIED:20230720T103011Z
UID:10000079-1691114400-1691114400@portholemaine.com
SUMMARY:Misspent Youth
DESCRIPTION:Live music with Misspent Youth
URL:https://portholemaine.com/event/misspent-youth/
CATEGORIES:Live Music
END:VEVENT
BEGIN:VEVENT
DTSTART;TZID=Europe/Moscow:20230803T020000
DTEND;TZID=Europe/Moscow:20230803T020000
DTSTAMP:20260425T162449
CREATED:20230720T102759Z
LAST-MODIFIED:20230720T102759Z
UID:10000078-1691028000-1691028000@portholemaine.com
SUMMARY:The Few
DESCRIPTION:Live music with The Few
URL:https://portholemaine.com/event/the-few-11/
CATEGORIES:Live Music
END:VEVENT
BEGIN:VEVENT
DTSTART;TZID=Europe/Moscow:20230802T010000
DTEND;TZID=Europe/Moscow:20230802T010000
DTSTAMP:20260425T162449
CREATED:20230720T112327Z
LAST-MODIFIED:20230720T112327Z
UID:10000097-1690938000-1690938000@portholemaine.com
SUMMARY:12/OC Tuesdays with 12/OC & Friends
DESCRIPTION:Enjoy 12/OC Tuesdays with live performances from 12/OC & Friends\, every Tuesday only at The Porthole!
URL:https://portholemaine.com/event/12-oc-tuesdays-with-12-oc-friends-4/
CATEGORIES:Live Music
END:VEVENT
BEGIN:VEVENT
DTSTART;TZID=Europe/Moscow:20230801T020000
DTEND;TZID=Europe/Moscow:20230801T020000
DTSTAMP:20260425T162449
CREATED:20230721T085631Z
LAST-MODIFIED:20230721T085631Z
UID:10000102-1690855200-1690855200@portholemaine.com
SUMMARY:Alex & Adrian
DESCRIPTION:Live music with Alex & Adrian
URL:https://portholemaine.com/event/alex-adrian/
CATEGORIES:Live Music
END:VEVENT
BEGIN:VEVENT
DTSTART;TZID=Europe/Moscow:20230731T220000
DTEND;TZID=Europe/Moscow:20230801T010000
DTSTAMP:20260425T162449
CREATED:20230630T100219Z
LAST-MODIFIED:20230630T100219Z
UID:10000066-1690840800-1690851600@portholemaine.com
SUMMARY:Acoustic Monday: Andi Fawcett
DESCRIPTION:Live music with Andi Fawcett
URL:https://portholemaine.com/event/acoustic-monday-andi-fawcett-3/
CATEGORIES:Live Music
END:VEVENT
BEGIN:VEVENT
DTSTART;TZID=Europe/Moscow:20230730T210000
DTEND;TZID=Europe/Moscow:20230731T020000
DTSTAMP:20260425T162449
CREATED:20230711T154004Z
LAST-MODIFIED:20230711T154004Z
UID:10000077-1690750800-1690768800@portholemaine.com
SUMMARY:Reggae on the Bay
DESCRIPTION:Nothing Ventured presents Reggae on the Bay! Enjoy live reggae music on the deck every Sunday.
URL:https://portholemaine.com/event/reggae-on-the-bay-6/
CATEGORIES:Live Music
END:VEVENT
BEGIN:VEVENT
DTSTART;TZID=Europe/Moscow:20230730T020000
DTEND;TZID=Europe/Moscow:20230730T060000
DTSTAMP:20260425T162449
CREATED:20230630T095944Z
LAST-MODIFIED:20230630T095944Z
UID:10000065-1690682400-1690696800@portholemaine.com
SUMMARY:DJ Father Tish & Jay-C
DESCRIPTION:Live music with DJ Father Tish & Jay-C
URL:https://portholemaine.com/event/dj-father-tish-jay-c-3/
CATEGORIES:Live Music
END:VEVENT
BEGIN:VEVENT
DTSTART;TZID=Europe/Moscow:20230729T200000
DTEND;TZID=Europe/Moscow:20230729T230000
DTSTAMP:20260425T162449
CREATED:20230630T095240Z
LAST-MODIFIED:20230630T095240Z
UID:10000064-1690660800-1690671600@portholemaine.com
SUMMARY:The Few
DESCRIPTION:Live music with The Few
URL:https://portholemaine.com/event/the-few-9/
CATEGORIES:Live Music
END:VEVENT
BEGIN:VEVENT
DTSTART;TZID=Europe/Moscow:20230729T020000
DTEND;TZID=Europe/Moscow:20230729T060000
DTSTAMP:20260425T162449
CREATED:20230630T095030Z
LAST-MODIFIED:20230630T095030Z
UID:10000062-1690596000-1690610400@portholemaine.com
SUMMARY:12/OC
DESCRIPTION:Live music with 12/OC
URL:https://portholemaine.com/event/12-oc-5/
CATEGORIES:Live Music
END:VEVENT
BEGIN:VEVENT
DTSTART;TZID=Europe/Moscow:20230728T220000
DTEND;TZID=Europe/Moscow:20230729T010000
DTSTAMP:20260425T162449
CREATED:20230630T095143Z
LAST-MODIFIED:20230630T095143Z
UID:10000063-1690581600-1690592400@portholemaine.com
SUMMARY:DJ Jacky Treehorn
DESCRIPTION:Live music with DJ Jacky Treehorn
URL:https://portholemaine.com/event/dj-jacky-treehorn-4/
CATEGORIES:Live Music
END:VEVENT
BEGIN:VEVENT
DTSTART;TZID=Europe/Moscow:20230728T020000
DTEND;TZID=Europe/Moscow:20230728T050000
DTSTAMP:20260425T162449
CREATED:20230711T153741Z
LAST-MODIFIED:20230711T153741Z
UID:10000076-1690509600-1690520400@portholemaine.com
SUMMARY:Justin Carver
DESCRIPTION:Live music with Justin Carver
URL:https://portholemaine.com/event/justin-carver/
CATEGORIES:Live Music
END:VEVENT
BEGIN:VEVENT
DTSTART;TZID=Europe/Moscow:20230727T020000
DTEND;TZID=Europe/Moscow:20230727T050000
DTSTAMP:20260425T162449
CREATED:20230711T153401Z
LAST-MODIFIED:20230711T153401Z
UID:10000075-1690423200-1690434000@portholemaine.com
SUMMARY:Cryin' Out Loud
DESCRIPTION:Live music with Cryin’ Out Loud
URL:https://portholemaine.com/event/cryin-out-loud-3/
CATEGORIES:Live Music
END:VEVENT
BEGIN:VEVENT
DTSTART;TZID=Europe/Moscow:20230726T010000
DTEND;TZID=Europe/Moscow:20230726T040000
DTSTAMP:20260425T162449
CREATED:20230711T153202Z
LAST-MODIFIED:20230711T153202Z
UID:10000074-1690333200-1690344000@portholemaine.com
SUMMARY:12/OC Tuesdays with 12/OC & Friends
DESCRIPTION:Live music with 12/OC & Friends
URL:https://portholemaine.com/event/12-oc-tuesdays-with-12-oc-friends-3/
CATEGORIES:Live Music
END:VEVENT
END:VCALENDAR