BEGIN:VCALENDAR
VERSION:2.0
PRODID:-//Porthole - ECPv6.10.2//NONSGML v1.0//EN
CALSCALE:GREGORIAN
METHOD:PUBLISH
X-WR-CALNAME:Porthole
X-ORIGINAL-URL:https://portholemaine.com
X-WR-CALDESC:Events for Porthole
REFRESH-INTERVAL;VALUE=DURATION:PT1H
X-Robots-Tag:noindex
X-PUBLISHED-TTL:PT1H
BEGIN:VTIMEZONE
TZID:Europe/Moscow
BEGIN:STANDARD
TZOFFSETFROM:+0300
TZOFFSETTO:+0300
TZNAME:MSK
DTSTART:20230101T000000
END:STANDARD
END:VTIMEZONE
BEGIN:VEVENT
DTSTART;TZID=Europe/Moscow:20230514T200000
DTEND;TZID=Europe/Moscow:20230514T230000
DTSTAMP:20260425T232606
CREATED:20230215T120425Z
LAST-MODIFIED:20230215T120425Z
UID:10000014-1684094400-1684105200@portholemaine.com
SUMMARY:Stone Broke Band
DESCRIPTION:Live Music with Stone Broke Band
URL:https://portholemaine.com/event/stone-broke-band/
CATEGORIES:Live Music
ATTACH;FMTTYPE=image/png:https://portholemaine.com/wp-content/uploads/2023/02/35-min.png
END:VEVENT
BEGIN:VEVENT
DTSTART;TZID=Europe/Moscow:20230514T030000
DTEND;TZID=Europe/Moscow:20230514T060000
DTSTAMP:20260425T232606
CREATED:20230215T120425Z
LAST-MODIFIED:20230215T120425Z
UID:10000013-1684033200-1684044000@portholemaine.com
SUMMARY:Northern Groove
DESCRIPTION:Live Music with Northern Groove
URL:https://portholemaine.com/event/northern-groove/
CATEGORIES:Live Music
ATTACH;FMTTYPE=image/png:https://portholemaine.com/wp-content/uploads/2023/02/25-min.png
END:VEVENT
BEGIN:VEVENT
DTSTART;TZID=Europe/Moscow:20230513T200000
DTEND;TZID=Europe/Moscow:20230513T230000
DTSTAMP:20260425T232606
CREATED:20230215T120424Z
LAST-MODIFIED:20230215T120424Z
UID:10000012-1684008000-1684018800@portholemaine.com
SUMMARY:Hello Newman
DESCRIPTION:Live Music with Hello Newman
URL:https://portholemaine.com/event/hello-newman/
CATEGORIES:Live Music
ATTACH;FMTTYPE=image/png:https://portholemaine.com/wp-content/uploads/2023/02/20-min.png
END:VEVENT
BEGIN:VEVENT
DTSTART;TZID=Europe/Moscow:20230513T030000
DTEND;TZID=Europe/Moscow:20230513T060000
DTSTAMP:20260425T232606
CREATED:20230215T120226Z
LAST-MODIFIED:20230215T120226Z
UID:10000011-1683946800-1683957600@portholemaine.com
SUMMARY:Doubting Gravity
DESCRIPTION:Live Music with Doubting Gravity
URL:https://portholemaine.com/event/doubting-gravity-3/
CATEGORIES:Live Music
ATTACH;FMTTYPE=image/png:https://portholemaine.com/wp-content/uploads/2023/02/17-min.png
END:VEVENT
BEGIN:VEVENT
DTSTART;TZID=Europe/Moscow:20230507T200000
DTEND;TZID=Europe/Moscow:20230507T230000
DTSTAMP:20260425T232606
CREATED:20230215T120225Z
LAST-MODIFIED:20230215T120225Z
UID:10000010-1683489600-1683500400@portholemaine.com
SUMMARY:Doubting Gravity
DESCRIPTION:Live Music with Doubting Gravity
URL:https://portholemaine.com/event/doubting-gravity-2/
CATEGORIES:Live Music
ATTACH;FMTTYPE=image/png:https://portholemaine.com/wp-content/uploads/2023/02/17-min.png
END:VEVENT
BEGIN:VEVENT
DTSTART;TZID=Europe/Moscow:20230507T030000
DTEND;TZID=Europe/Moscow:20230507T060000
DTSTAMP:20260425T232606
CREATED:20230215T120225Z
LAST-MODIFIED:20230215T120225Z
UID:10000009-1683428400-1683439200@portholemaine.com
SUMMARY:12/OC
DESCRIPTION:Live Music with 12/OC
URL:https://portholemaine.com/event/12-oc-4/
CATEGORIES:Live Music
ATTACH;FMTTYPE=image/png:https://portholemaine.com/wp-content/uploads/2023/02/1-min.png
END:VEVENT
BEGIN:VEVENT
DTSTART;TZID=Europe/Moscow:20230506T200000
DTEND;TZID=Europe/Moscow:20230506T230000
DTSTAMP:20260425T232606
CREATED:20230215T120224Z
LAST-MODIFIED:20230215T120224Z
UID:10000008-1683403200-1683414000@portholemaine.com
SUMMARY:Cryin Out Loud
DESCRIPTION:Live Music with Cryin Out Loud
URL:https://portholemaine.com/event/cryin-out-loud-2/
CATEGORIES:Live Music
ATTACH;FMTTYPE=image/png:https://portholemaine.com/wp-content/uploads/2023/02/11-min.png
END:VEVENT
BEGIN:VEVENT
DTSTART;TZID=Europe/Moscow:20230506T030000
DTEND;TZID=Europe/Moscow:20230506T060000
DTSTAMP:20260425T232606
CREATED:20230215T120223Z
LAST-MODIFIED:20230215T120223Z
UID:10000007-1683342000-1683352800@portholemaine.com
SUMMARY:The Few
DESCRIPTION:Live Music with The Few
URL:https://portholemaine.com/event/the-few-4/
CATEGORIES:Live Music
ATTACH;FMTTYPE=image/png:https://portholemaine.com/wp-content/uploads/2023/02/38-min.png
END:VEVENT
BEGIN:VEVENT
DTSTART;TZID=Europe/Moscow:20230430T200000
DTEND;TZID=Europe/Moscow:20230430T230000
DTSTAMP:20260425T232606
CREATED:20230215T120025Z
LAST-MODIFIED:20230215T120025Z
UID:10000006-1682884800-1682895600@portholemaine.com
SUMMARY:Slygo Road
DESCRIPTION:Live Music with Slygo Road
URL:https://portholemaine.com/event/slygo-road/
CATEGORIES:Live Music
ATTACH;FMTTYPE=image/png:https://portholemaine.com/wp-content/uploads/2023/02/32-min.png
END:VEVENT
BEGIN:VEVENT
DTSTART;TZID=Europe/Moscow:20230430T030000
DTEND;TZID=Europe/Moscow:20230430T060000
DTSTAMP:20260425T232606
CREATED:20230215T120024Z
LAST-MODIFIED:20230215T120024Z
UID:10000005-1682823600-1682834400@portholemaine.com
SUMMARY:Ragged Jack
DESCRIPTION:Live Music with Ragged Jack
URL:https://portholemaine.com/event/ragged-jack/
CATEGORIES:Live Music
ATTACH;FMTTYPE=image/png:https://portholemaine.com/wp-content/uploads/2023/02/27-min.png
END:VEVENT
BEGIN:VEVENT
DTSTART;TZID=Europe/Moscow:20230429T200000
DTEND;TZID=Europe/Moscow:20230429T230000
DTSTAMP:20260425T232606
CREATED:20230215T120023Z
LAST-MODIFIED:20230215T120023Z
UID:10000004-1682798400-1682809200@portholemaine.com
SUMMARY:Guess Method
DESCRIPTION:Live Music with Guess Method
URL:https://portholemaine.com/event/guess-method/
CATEGORIES:Live Music
ATTACH;FMTTYPE=image/png:https://portholemaine.com/wp-content/uploads/2023/02/19-min.png
END:VEVENT
BEGIN:VEVENT
DTSTART;TZID=Europe/Moscow:20230429T030000
DTEND;TZID=Europe/Moscow:20230429T060000
DTSTAMP:20260425T232606
CREATED:20230215T120023Z
LAST-MODIFIED:20230215T120023Z
UID:10000003-1682737200-1682748000@portholemaine.com
SUMMARY:The Few
DESCRIPTION:Live Music with The Few
URL:https://portholemaine.com/event/the-few-3/
CATEGORIES:Live Music
ATTACH;FMTTYPE=image/png:https://portholemaine.com/wp-content/uploads/2023/02/38-min.png
END:VEVENT
BEGIN:VEVENT
DTSTART;TZID=Europe/Moscow:20230423T020000
DTEND;TZID=Europe/Moscow:20230423T050000
DTSTAMP:20260425T232606
CREATED:20230215T120022Z
LAST-MODIFIED:20230215T120022Z
UID:10000002-1682215200-1682226000@portholemaine.com
SUMMARY:Doubting Gravity
DESCRIPTION:Live Music with Doubting Gravity
URL:https://portholemaine.com/event/doubting-gravity/
CATEGORIES:Live Music
ATTACH;FMTTYPE=image/png:https://portholemaine.com/wp-content/uploads/2023/02/17-min.png
END:VEVENT
END:VCALENDAR