BEGIN:VCALENDAR
VERSION:2.0
PRODID:-//Porthole - ECPv6.10.2//NONSGML v1.0//EN
CALSCALE:GREGORIAN
METHOD:PUBLISH
X-WR-CALNAME:Porthole
X-ORIGINAL-URL:https://portholemaine.com
X-WR-CALDESC:Events for Porthole
REFRESH-INTERVAL;VALUE=DURATION:PT1H
X-Robots-Tag:noindex
X-PUBLISHED-TTL:PT1H
BEGIN:VTIMEZONE
TZID:Europe/Moscow
BEGIN:STANDARD
TZOFFSETFROM:+0300
TZOFFSETTO:+0300
TZNAME:MSK
DTSTART:20230101T000000
END:STANDARD
END:VTIMEZONE
BEGIN:VEVENT
DTSTART;TZID=Europe/Moscow:20230701T020000
DTEND;TZID=Europe/Moscow:20230701T060000
DTSTAMP:20260426T010318
CREATED:20230630T080207Z
LAST-MODIFIED:20230630T080207Z
UID:10000037-1688176800-1688191200@portholemaine.com
SUMMARY:Clayton Blanck + Stoney Coast
DESCRIPTION:Live music with Clayton Blanck + Stoney Coast
URL:https://portholemaine.com/event/clayton-blanck-stoney-coast/
CATEGORIES:Live Music
END:VEVENT
BEGIN:VEVENT
DTSTART;TZID=Europe/Moscow:20230630T230000
DTEND;TZID=Europe/Moscow:20230701T020000
DTSTAMP:20260426T010318
CREATED:20230630T082256Z
LAST-MODIFIED:20230630T082256Z
UID:10000038-1688166000-1688176800@portholemaine.com
SUMMARY:DJ Jacky Treehorn
DESCRIPTION:Live music with DJ Jacky Treehorn
URL:https://portholemaine.com/event/dj-jacky-treehorn/
CATEGORIES:Live Music
END:VEVENT
BEGIN:VEVENT
DTSTART;TZID=Europe/Moscow:20230617T200000
DTEND;TZID=Europe/Moscow:20230617T230000
DTSTAMP:20260426T010318
CREATED:20230215T121232Z
LAST-MODIFIED:20230215T121232Z
UID:10000036-1687032000-1687042800@portholemaine.com
SUMMARY:Stealing Sunday
DESCRIPTION:Live Music with Stealing Sunday
URL:https://portholemaine.com/event/stealing-sunday/
CATEGORIES:Live Music
ATTACH;FMTTYPE=image/png:https://portholemaine.com/wp-content/uploads/2023/02/34-min.png
END:VEVENT
BEGIN:VEVENT
DTSTART;TZID=Europe/Moscow:20230617T030000
DTEND;TZID=Europe/Moscow:20230617T060000
DTSTAMP:20260426T010318
CREATED:20230215T121231Z
LAST-MODIFIED:20230215T121231Z
UID:10000035-1686970800-1686981600@portholemaine.com
SUMMARY:13 Black
DESCRIPTION:Live Music with 13 Black
URL:https://portholemaine.com/event/13-black/
CATEGORIES:Live Music
ATTACH;FMTTYPE=image/png:https://portholemaine.com/wp-content/uploads/2023/02/2-min.png
END:VEVENT
BEGIN:VEVENT
DTSTART;TZID=Europe/Moscow:20230613T010000
DTEND;TZID=Europe/Moscow:20230613T040000
DTSTAMP:20260426T010318
CREATED:20230215T121230Z
LAST-MODIFIED:20230215T121230Z
UID:10000034-1686618000-1686628800@portholemaine.com
SUMMARY:Kris Hype
DESCRIPTION:Live Music with Kris Hype
URL:https://portholemaine.com/event/kris-hype-3/
CATEGORIES:Live Music
ATTACH;FMTTYPE=image/png:https://portholemaine.com/wp-content/uploads/2023/02/23-min.png
END:VEVENT
BEGIN:VEVENT
DTSTART;TZID=Europe/Moscow:20230611T030000
DTEND;TZID=Europe/Moscow:20230611T060000
DTSTAMP:20260426T010318
CREATED:20230215T121230Z
LAST-MODIFIED:20230215T121230Z
UID:10000033-1686452400-1686463200@portholemaine.com
SUMMARY:Ragged Jack
DESCRIPTION:Live Music with Ragged Jack
URL:https://portholemaine.com/event/ragged-jack-2/
CATEGORIES:Live Music
ATTACH;FMTTYPE=image/png:https://portholemaine.com/wp-content/uploads/2023/02/27-min.png
END:VEVENT
BEGIN:VEVENT
DTSTART;TZID=Europe/Moscow:20230610T200000
DTEND;TZID=Europe/Moscow:20230610T230000
DTSTAMP:20260426T010318
CREATED:20230215T121229Z
LAST-MODIFIED:20230215T121229Z
UID:10000032-1686427200-1686438000@portholemaine.com
SUMMARY:Sugarbox
DESCRIPTION:Live Music with Sugarbox
URL:https://portholemaine.com/event/sugarbox-2/
CATEGORIES:Live Music
ATTACH;FMTTYPE=image/png:https://portholemaine.com/wp-content/uploads/2023/02/37-min.png
END:VEVENT
BEGIN:VEVENT
DTSTART;TZID=Europe/Moscow:20230610T030000
DTEND;TZID=Europe/Moscow:20230610T060000
DTSTAMP:20260426T010318
CREATED:20230215T121030Z
LAST-MODIFIED:20230215T121030Z
UID:10000031-1686366000-1686376800@portholemaine.com
SUMMARY:Doubting Gravity
DESCRIPTION:Live Music with Doubting Gravity
URL:https://portholemaine.com/event/doubting-gravity-4/
CATEGORIES:Live Music
ATTACH;FMTTYPE=image/png:https://portholemaine.com/wp-content/uploads/2023/02/17-min.png
END:VEVENT
BEGIN:VEVENT
DTSTART;TZID=Europe/Moscow:20230609T010000
DTEND;TZID=Europe/Moscow:20230609T040000
DTSTAMP:20260426T010318
CREATED:20230215T121029Z
LAST-MODIFIED:20230215T121029Z
UID:10000030-1686272400-1686283200@portholemaine.com
SUMMARY:Chase Jobe
DESCRIPTION:Live Music with Chase Jobe
URL:https://portholemaine.com/event/chase-jobe/
CATEGORIES:Live Music
ATTACH;FMTTYPE=image/png:https://portholemaine.com/wp-content/uploads/2023/02/9-min.png
END:VEVENT
BEGIN:VEVENT
DTSTART;TZID=Europe/Moscow:20230606T010000
DTEND;TZID=Europe/Moscow:20230606T040000
DTSTAMP:20260426T010318
CREATED:20230215T121028Z
LAST-MODIFIED:20230215T121028Z
UID:10000029-1686013200-1686024000@portholemaine.com
SUMMARY:Andi Fawcett
DESCRIPTION:Live Music with Andi Fawcett
URL:https://portholemaine.com/event/andi-fawcett-2/
CATEGORIES:Live Music
ATTACH;FMTTYPE=image/png:https://portholemaine.com/wp-content/uploads/2023/02/3-min.png
END:VEVENT
BEGIN:VEVENT
DTSTART;TZID=Europe/Moscow:20230604T030000
DTEND;TZID=Europe/Moscow:20230604T060000
DTSTAMP:20260426T010318
CREATED:20230215T121028Z
LAST-MODIFIED:20230215T121028Z
UID:10000028-1685847600-1685858400@portholemaine.com
SUMMARY:Burning Time
DESCRIPTION:Live Music with Burning Time
URL:https://portholemaine.com/event/burning-time/
CATEGORIES:Live Music
ATTACH;FMTTYPE=image/png:https://portholemaine.com/wp-content/uploads/2023/02/8-min.png
END:VEVENT
BEGIN:VEVENT
DTSTART;TZID=Europe/Moscow:20230603T200000
DTEND;TZID=Europe/Moscow:20230603T230000
DTSTAMP:20260426T010318
CREATED:20230215T121027Z
LAST-MODIFIED:20230215T121027Z
UID:10000027-1685822400-1685833200@portholemaine.com
SUMMARY:Quiet Riot Act
DESCRIPTION:Live Music with Quiet Riot Act
URL:https://portholemaine.com/event/quiet-riot-act/
CATEGORIES:Live Music
ATTACH;FMTTYPE=image/png:https://portholemaine.com/wp-content/uploads/2023/02/26-min.png
END:VEVENT
BEGIN:VEVENT
DTSTART;TZID=Europe/Moscow:20230603T030000
DTEND;TZID=Europe/Moscow:20230603T060000
DTSTAMP:20260426T010318
CREATED:20230215T120830Z
LAST-MODIFIED:20230215T120830Z
UID:10000026-1685761200-1685772000@portholemaine.com
SUMMARY:Boba Funk
DESCRIPTION:Live Music with Boba Funk
URL:https://portholemaine.com/event/boba-funk-2/
CATEGORIES:Live Music
ATTACH;FMTTYPE=image/png:https://portholemaine.com/wp-content/uploads/2023/02/6-min.png
END:VEVENT
BEGIN:VEVENT
DTSTART;TZID=Europe/Moscow:20230529T200000
DTEND;TZID=Europe/Moscow:20230529T230000
DTSTAMP:20260426T010318
CREATED:20230215T120829Z
LAST-MODIFIED:20230215T120829Z
UID:10000025-1685390400-1685401200@portholemaine.com
SUMMARY:Kris Hype
DESCRIPTION:Live Music with Kris Hype
URL:https://portholemaine.com/event/kris-hype-2/
CATEGORIES:Live Music
ATTACH;FMTTYPE=image/png:https://portholemaine.com/wp-content/uploads/2023/02/23-min.png
END:VEVENT
BEGIN:VEVENT
DTSTART;TZID=Europe/Moscow:20230527T200000
DTEND;TZID=Europe/Moscow:20230527T230000
DTSTAMP:20260426T010318
CREATED:20230215T120828Z
LAST-MODIFIED:20230215T120828Z
UID:10000024-1685217600-1685228400@portholemaine.com
SUMMARY:Hello Newman
DESCRIPTION:Live Music with Hello Newman
URL:https://portholemaine.com/event/hello-newman-2/
CATEGORIES:Live Music
ATTACH;FMTTYPE=image/png:https://portholemaine.com/wp-content/uploads/2023/02/20-min.png
END:VEVENT
BEGIN:VEVENT
DTSTART;TZID=Europe/Moscow:20230527T030000
DTEND;TZID=Europe/Moscow:20230527T060000
DTSTAMP:20260426T010318
CREATED:20230215T120828Z
LAST-MODIFIED:20230215T120828Z
UID:10000023-1685156400-1685167200@portholemaine.com
SUMMARY:The Few
DESCRIPTION:Live Music with The Few
URL:https://portholemaine.com/event/the-few-5/
CATEGORIES:Live Music
ATTACH;FMTTYPE=image/png:https://portholemaine.com/wp-content/uploads/2023/02/38-min.png
END:VEVENT
BEGIN:VEVENT
DTSTART;TZID=Europe/Moscow:20230526T010000
DTEND;TZID=Europe/Moscow:20230526T040000
DTSTAMP:20260426T010318
CREATED:20230215T120827Z
LAST-MODIFIED:20230215T120827Z
UID:10000022-1685062800-1685073600@portholemaine.com
SUMMARY:Shawn Theriault
DESCRIPTION:Live Music with Shawn Theriault
URL:https://portholemaine.com/event/shawn-theriault-2/
CATEGORIES:Live Music
ATTACH;FMTTYPE=image/png:https://portholemaine.com/wp-content/uploads/2023/02/29-min.png
END:VEVENT
BEGIN:VEVENT
DTSTART;TZID=Europe/Moscow:20230523T010000
DTEND;TZID=Europe/Moscow:20230523T040000
DTSTAMP:20260426T010318
CREATED:20230215T120628Z
LAST-MODIFIED:20230215T120628Z
UID:10000021-1684803600-1684814400@portholemaine.com
SUMMARY:Andi Fawcett
DESCRIPTION:Live Music with Andi Fawcett
URL:https://portholemaine.com/event/andi-fawcett/
CATEGORIES:Live Music
ATTACH;FMTTYPE=image/png:https://portholemaine.com/wp-content/uploads/2023/02/3-min.png
END:VEVENT
BEGIN:VEVENT
DTSTART;TZID=Europe/Moscow:20230521T200000
DTEND;TZID=Europe/Moscow:20230521T230000
DTSTAMP:20260426T010318
CREATED:20230215T120627Z
LAST-MODIFIED:20230215T120627Z
UID:10000020-1684699200-1684710000@portholemaine.com
SUMMARY:Sibling Rivalry
DESCRIPTION:Live Music with Sibling Rivalry
URL:https://portholemaine.com/event/sibling-rivalry-2/
CATEGORIES:Live Music
ATTACH;FMTTYPE=image/png:https://portholemaine.com/wp-content/uploads/2023/02/30-min.png
END:VEVENT
BEGIN:VEVENT
DTSTART;TZID=Europe/Moscow:20230521T030000
DTEND;TZID=Europe/Moscow:20230521T060000
DTSTAMP:20260426T010319
CREATED:20230215T120626Z
LAST-MODIFIED:20230215T120626Z
UID:10000019-1684638000-1684648800@portholemaine.com
SUMMARY:The Inflatables
DESCRIPTION:Live Music with The Inflatables
URL:https://portholemaine.com/event/the-inflatables/
CATEGORIES:Live Music
ATTACH;FMTTYPE=image/png:https://portholemaine.com/wp-content/uploads/2023/02/39-min.png
END:VEVENT
BEGIN:VEVENT
DTSTART;TZID=Europe/Moscow:20230520T200000
DTEND;TZID=Europe/Moscow:20230520T230000
DTSTAMP:20260426T010319
CREATED:20230215T120626Z
LAST-MODIFIED:20230215T120626Z
UID:10000018-1684612800-1684623600@portholemaine.com
SUMMARY:Spyglass
DESCRIPTION:Live Music with Spyglass
URL:https://portholemaine.com/event/spyglass-2/
CATEGORIES:Live Music
ATTACH;FMTTYPE=image/png:https://portholemaine.com/wp-content/uploads/2023/02/33-min.png
END:VEVENT
BEGIN:VEVENT
DTSTART;TZID=Europe/Moscow:20230520T030000
DTEND;TZID=Europe/Moscow:20230520T060000
DTSTAMP:20260426T010319
CREATED:20230215T120625Z
LAST-MODIFIED:20230215T120625Z
UID:10000017-1684551600-1684562400@portholemaine.com
SUMMARY:Boba Funk
DESCRIPTION:Live Music with Boba Funk
URL:https://portholemaine.com/event/boba-funk/
CATEGORIES:Live Music
ATTACH;FMTTYPE=image/png:https://portholemaine.com/wp-content/uploads/2023/02/6-min.png
END:VEVENT
BEGIN:VEVENT
DTSTART;TZID=Europe/Moscow:20230519T010000
DTEND;TZID=Europe/Moscow:20230519T040000
DTSTAMP:20260426T010319
CREATED:20230215T120427Z
LAST-MODIFIED:20230215T120427Z
UID:10000016-1684458000-1684468800@portholemaine.com
SUMMARY:Shawn Theriault
DESCRIPTION:Live Music with Shawn Theriault
URL:https://portholemaine.com/event/shawn-theriault/
CATEGORIES:Live Music
ATTACH;FMTTYPE=image/png:https://portholemaine.com/wp-content/uploads/2023/02/29-min.png
END:VEVENT
BEGIN:VEVENT
DTSTART;TZID=Europe/Moscow:20230516T010000
DTEND;TZID=Europe/Moscow:20230516T040000
DTSTAMP:20260426T010319
CREATED:20230215T120426Z
LAST-MODIFIED:20230215T120426Z
UID:10000015-1684198800-1684209600@portholemaine.com
SUMMARY:Kris Hype
DESCRIPTION:Live Music with Kris Hype
URL:https://portholemaine.com/event/kris-hype/
CATEGORIES:Live Music
ATTACH;FMTTYPE=image/png:https://portholemaine.com/wp-content/uploads/2023/02/23-min.png
END:VEVENT
BEGIN:VEVENT
DTSTART;TZID=Europe/Moscow:20230514T200000
DTEND;TZID=Europe/Moscow:20230514T230000
DTSTAMP:20260426T010319
CREATED:20230215T120425Z
LAST-MODIFIED:20230215T120425Z
UID:10000014-1684094400-1684105200@portholemaine.com
SUMMARY:Stone Broke Band
DESCRIPTION:Live Music with Stone Broke Band
URL:https://portholemaine.com/event/stone-broke-band/
CATEGORIES:Live Music
ATTACH;FMTTYPE=image/png:https://portholemaine.com/wp-content/uploads/2023/02/35-min.png
END:VEVENT
BEGIN:VEVENT
DTSTART;TZID=Europe/Moscow:20230514T030000
DTEND;TZID=Europe/Moscow:20230514T060000
DTSTAMP:20260426T010319
CREATED:20230215T120425Z
LAST-MODIFIED:20230215T120425Z
UID:10000013-1684033200-1684044000@portholemaine.com
SUMMARY:Northern Groove
DESCRIPTION:Live Music with Northern Groove
URL:https://portholemaine.com/event/northern-groove/
CATEGORIES:Live Music
ATTACH;FMTTYPE=image/png:https://portholemaine.com/wp-content/uploads/2023/02/25-min.png
END:VEVENT
BEGIN:VEVENT
DTSTART;TZID=Europe/Moscow:20230513T200000
DTEND;TZID=Europe/Moscow:20230513T230000
DTSTAMP:20260426T010319
CREATED:20230215T120424Z
LAST-MODIFIED:20230215T120424Z
UID:10000012-1684008000-1684018800@portholemaine.com
SUMMARY:Hello Newman
DESCRIPTION:Live Music with Hello Newman
URL:https://portholemaine.com/event/hello-newman/
CATEGORIES:Live Music
ATTACH;FMTTYPE=image/png:https://portholemaine.com/wp-content/uploads/2023/02/20-min.png
END:VEVENT
BEGIN:VEVENT
DTSTART;TZID=Europe/Moscow:20230513T030000
DTEND;TZID=Europe/Moscow:20230513T060000
DTSTAMP:20260426T010319
CREATED:20230215T120226Z
LAST-MODIFIED:20230215T120226Z
UID:10000011-1683946800-1683957600@portholemaine.com
SUMMARY:Doubting Gravity
DESCRIPTION:Live Music with Doubting Gravity
URL:https://portholemaine.com/event/doubting-gravity-3/
CATEGORIES:Live Music
ATTACH;FMTTYPE=image/png:https://portholemaine.com/wp-content/uploads/2023/02/17-min.png
END:VEVENT
BEGIN:VEVENT
DTSTART;TZID=Europe/Moscow:20230507T200000
DTEND;TZID=Europe/Moscow:20230507T230000
DTSTAMP:20260426T010319
CREATED:20230215T120225Z
LAST-MODIFIED:20230215T120225Z
UID:10000010-1683489600-1683500400@portholemaine.com
SUMMARY:Doubting Gravity
DESCRIPTION:Live Music with Doubting Gravity
URL:https://portholemaine.com/event/doubting-gravity-2/
CATEGORIES:Live Music
ATTACH;FMTTYPE=image/png:https://portholemaine.com/wp-content/uploads/2023/02/17-min.png
END:VEVENT
BEGIN:VEVENT
DTSTART;TZID=Europe/Moscow:20230507T030000
DTEND;TZID=Europe/Moscow:20230507T060000
DTSTAMP:20260426T010319
CREATED:20230215T120225Z
LAST-MODIFIED:20230215T120225Z
UID:10000009-1683428400-1683439200@portholemaine.com
SUMMARY:12/OC
DESCRIPTION:Live Music with 12/OC
URL:https://portholemaine.com/event/12-oc-4/
CATEGORIES:Live Music
ATTACH;FMTTYPE=image/png:https://portholemaine.com/wp-content/uploads/2023/02/1-min.png
END:VEVENT
END:VCALENDAR