BEGIN:VCALENDAR
VERSION:2.0
PRODID:-//Porthole - ECPv6.10.2//NONSGML v1.0//EN
CALSCALE:GREGORIAN
METHOD:PUBLISH
X-WR-CALNAME:Porthole
X-ORIGINAL-URL:https://portholemaine.com
X-WR-CALDESC:Events for Porthole
REFRESH-INTERVAL;VALUE=DURATION:PT1H
X-Robots-Tag:noindex
X-PUBLISHED-TTL:PT1H
BEGIN:VTIMEZONE
TZID:Europe/Moscow
BEGIN:STANDARD
TZOFFSETFROM:+0300
TZOFFSETTO:+0300
TZNAME:MSK
DTSTART:20250101T000000
END:STANDARD
END:VTIMEZONE
BEGIN:VEVENT
DTSTART;TZID=Europe/Moscow:20250920T193000
DTEND;TZID=Europe/Moscow:20250920T233000
DTSTAMP:20260422T045531
CREATED:20250915T205623Z
LAST-MODIFIED:20250915T205804Z
UID:10000927-1758396600-1758411000@portholemaine.com
SUMMARY:Sugarbox
DESCRIPTION:
URL:https://portholemaine.com/event/sugarbox-15/
CATEGORIES:Live Music
END:VEVENT
BEGIN:VEVENT
DTSTART;TZID=Europe/Moscow:20250920T160000
DTEND;TZID=Europe/Moscow:20250920T190000
DTSTAMP:20260422T045531
CREATED:20250915T205552Z
LAST-MODIFIED:20250915T205552Z
UID:10000926-1758384000-1758394800@portholemaine.com
SUMMARY:Guy Meets Girl
DESCRIPTION:
URL:https://portholemaine.com/event/guy-meets-girl/
CATEGORIES:Live Music
END:VEVENT
BEGIN:VEVENT
DTSTART;TZID=Europe/Moscow:20250920T130000
DTEND;TZID=Europe/Moscow:20250920T160000
DTSTAMP:20260422T045531
CREATED:20250915T205524Z
LAST-MODIFIED:20250915T205524Z
UID:10000925-1758373200-1758384000@portholemaine.com
SUMMARY:Goff Hill Rundown
DESCRIPTION:
URL:https://portholemaine.com/event/goff-hill-rundown-2/
CATEGORIES:Live Music
END:VEVENT
BEGIN:VEVENT
DTSTART;TZID=Europe/Moscow:20250919T193000
DTEND;TZID=Europe/Moscow:20250919T233000
DTSTAMP:20260422T045531
CREATED:20250915T205454Z
LAST-MODIFIED:20250915T205454Z
UID:10000924-1758310200-1758324600@portholemaine.com
SUMMARY:Stolen Mojo
DESCRIPTION:
URL:https://portholemaine.com/event/stolen-mojo-7/
CATEGORIES:Live Music
END:VEVENT
BEGIN:VEVENT
DTSTART;TZID=Europe/Moscow:20250919T160000
DTEND;TZID=Europe/Moscow:20250919T190000
DTSTAMP:20260422T045531
CREATED:20250915T205429Z
LAST-MODIFIED:20250915T205429Z
UID:10000923-1758297600-1758308400@portholemaine.com
SUMMARY:A&M Live
DESCRIPTION:
URL:https://portholemaine.com/event/am-live/
CATEGORIES:Entertainment
END:VEVENT
BEGIN:VEVENT
DTSTART;TZID=Europe/Moscow:20250919T130000
DTEND;TZID=Europe/Moscow:20250919T160000
DTSTAMP:20260422T045531
CREATED:20250915T205246Z
LAST-MODIFIED:20250915T205246Z
UID:10000920-1758286800-1758297600@portholemaine.com
SUMMARY:Justin Carver
DESCRIPTION:
URL:https://portholemaine.com/event/justin-carver-32/2025-09-19/
CATEGORIES:Live Music
END:VEVENT
BEGIN:VEVENT
DTSTART;TZID=Europe/Moscow:20250918T180000
DTEND;TZID=Europe/Moscow:20250918T210000
DTSTAMP:20260422T045531
CREATED:20250915T205404Z
LAST-MODIFIED:20250915T205404Z
UID:10000922-1758218400-1758229200@portholemaine.com
SUMMARY:Tyler Dhone
DESCRIPTION:
URL:https://portholemaine.com/event/tyler-dhone-31/
CATEGORIES:Entertainment
END:VEVENT
BEGIN:VEVENT
DTSTART;TZID=Europe/Moscow:20250918T150000
DTEND;TZID=Europe/Moscow:20250918T180000
DTSTAMP:20260422T045531
CREATED:20250915T205330Z
LAST-MODIFIED:20250915T205330Z
UID:10000921-1758207600-1758218400@portholemaine.com
SUMMARY:DJ Jackie Treehorn
DESCRIPTION:
URL:https://portholemaine.com/event/dj-jackie-treehorn/
CATEGORIES:Live Music
END:VEVENT
BEGIN:VEVENT
DTSTART;TZID=Europe/Moscow:20250918T130000
DTEND;TZID=Europe/Moscow:20250918T150000
DTSTAMP:20260422T045531
CREATED:20250915T205246Z
LAST-MODIFIED:20250915T205246Z
UID:10000919-1758200400-1758207600@portholemaine.com
SUMMARY:Justin Carver
DESCRIPTION:
URL:https://portholemaine.com/event/justin-carver-32/2025-09-18/
CATEGORIES:Live Music
END:VEVENT
BEGIN:VEVENT
DTSTART;TZID=Europe/Moscow:20250917T170000
DTEND;TZID=Europe/Moscow:20250917T200000
DTSTAMP:20260422T045531
CREATED:20250915T205147Z
LAST-MODIFIED:20250915T205147Z
UID:10000918-1758128400-1758139200@portholemaine.com
SUMMARY:Two For Jackson
DESCRIPTION:
URL:https://portholemaine.com/event/two-for-jackson/
CATEGORIES:Live Music
END:VEVENT
BEGIN:VEVENT
DTSTART;TZID=Europe/Moscow:20250917T130000
DTEND;TZID=Europe/Moscow:20250917T160000
DTSTAMP:20260422T045531
CREATED:20250915T205115Z
LAST-MODIFIED:20250915T205115Z
UID:10000917-1758114000-1758124800@portholemaine.com
SUMMARY:Tyler Dhone
DESCRIPTION:
URL:https://portholemaine.com/event/tyler-dhone-30/
CATEGORIES:Live Music
END:VEVENT
BEGIN:VEVENT
DTSTART;TZID=Europe/Moscow:20250916T170000
DTEND;TZID=Europe/Moscow:20250916T200000
DTSTAMP:20260422T045531
CREATED:20250915T204953Z
LAST-MODIFIED:20250915T204953Z
UID:10000915-1758042000-1758052800@portholemaine.com
SUMMARY:Michael Corleto
DESCRIPTION:
URL:https://portholemaine.com/event/michael-corleto/
CATEGORIES:Live Music
END:VEVENT
BEGIN:VEVENT
DTSTART;TZID=Europe/Moscow:20250916T130000
DTEND;TZID=Europe/Moscow:20250916T160000
DTSTAMP:20260422T045531
CREATED:20250915T205018Z
LAST-MODIFIED:20250915T205018Z
UID:10000916-1758027600-1758038400@portholemaine.com
SUMMARY:Don Campbell
DESCRIPTION:
URL:https://portholemaine.com/event/don-campbell-8/
END:VEVENT
BEGIN:VEVENT
DTSTART;TZID=Europe/Moscow:20250831T130000
DTEND;TZID=Europe/Moscow:20250831T160000
DTSTAMP:20260422T045531
CREATED:20250610T153510Z
LAST-MODIFIED:20250610T155245Z
UID:10000902-1756645200-1756656000@portholemaine.com
SUMMARY:The Inflatables — Casablanca Cruise
DESCRIPTION:Casablanca Concert Cruise with The Inflatables
URL:https://portholemaine.com/event/the-inflatables-6/
CATEGORIES:Casablanca Cruise
END:VEVENT
BEGIN:VEVENT
DTSTART;TZID=Europe/Moscow:20250824T120000
DTEND;TZID=Europe/Moscow:20250824T150000
DTSTAMP:20260422T045531
CREATED:20250610T153324Z
LAST-MODIFIED:20250610T155254Z
UID:10000901-1756036800-1756047600@portholemaine.com
SUMMARY:Hello Newman — Casablanca Cruise
DESCRIPTION:Casablanca Concert Cruise with Hello Newman
URL:https://portholemaine.com/event/hello-newman-12/
CATEGORIES:Casablanca Cruise
END:VEVENT
BEGIN:VEVENT
DTSTART;TZID=Europe/Moscow:20250817T130000
DTEND;TZID=Europe/Moscow:20250817T160000
DTSTAMP:20260422T045531
CREATED:20250701T122934Z
LAST-MODIFIED:20250701T122934Z
UID:10000911-1755435600-1755446400@portholemaine.com
SUMMARY:Sugarbox — Casablanca Cruises
DESCRIPTION:Casablanca Concert Cruise with Sugarbox
URL:https://portholemaine.com/event/sugarbox-casablanca-cruises/
CATEGORIES:Casablanca Cruise
END:VEVENT
BEGIN:VEVENT
DTSTART;TZID=Europe/Moscow:20250816T130000
DTEND;TZID=Europe/Moscow:20250816T160000
DTSTAMP:20260422T045531
CREATED:20250802T184833Z
LAST-MODIFIED:20250802T184833Z
UID:10000912-1755349200-1755360000@portholemaine.com
SUMMARY:Flotilla – Don Campbell Cancer Fundraiser Casablanca Cruise
DESCRIPTION:
URL:https://portholemaine.com/event/flotilla-don-campbell/
CATEGORIES:Casablanca Cruise
END:VEVENT
BEGIN:VEVENT
DTSTART;TZID=Europe/Moscow:20250810T130000
DTEND;TZID=Europe/Moscow:20250810T160000
DTSTAMP:20260422T045531
CREATED:20250610T153150Z
LAST-MODIFIED:20250610T155259Z
UID:10000900-1754830800-1754841600@portholemaine.com
SUMMARY:Northern Groove (SOLD OUT) — Casablanca Cruise
DESCRIPTION:Casablanca Concert Cruise with Northern Groove
URL:https://portholemaine.com/event/northern-groove-sold-out/
CATEGORIES:Casablanca Cruise
END:VEVENT
BEGIN:VEVENT
DTSTART;TZID=Europe/Moscow:20250803T130000
DTEND;TZID=Europe/Moscow:20250803T160000
DTSTAMP:20260422T045531
CREATED:20250610T152953Z
LAST-MODIFIED:20250610T155310Z
UID:10000899-1754226000-1754236800@portholemaine.com
SUMMARY:The Middle Men — Casablanca Cruise
DESCRIPTION:Casablanca Concert Cruise with The Middle Men
URL:https://portholemaine.com/event/the-middle-men-4/
CATEGORIES:Casablanca Cruise
END:VEVENT
BEGIN:VEVENT
DTSTART;TZID=Europe/Moscow:20250731T150000
DTEND;TZID=Europe/Moscow:20250731T150000
DTSTAMP:20260422T045531
CREATED:20250415T183817Z
LAST-MODIFIED:20250415T194537Z
UID:10000745-1753974000-1753974000@portholemaine.com
SUMMARY:Happy Hour with Jacky Treehorn
DESCRIPTION:Happy Hour with Jacky Treehorn
URL:https://portholemaine.com/event/happy-hour-with-jacky-treehorn/2025-07-31/
CATEGORIES:Entertainment
END:VEVENT
BEGIN:VEVENT
DTSTART;TZID=Europe/Moscow:20250730T130000
DTEND;TZID=Europe/Moscow:20250730T130000
DTSTAMP:20260422T045531
CREATED:20250415T204930Z
LAST-MODIFIED:20250415T204930Z
UID:10000886-1753880400-1753880400@portholemaine.com
SUMMARY:Tyler Dhone
DESCRIPTION:Live music with Tyler Dhone
URL:https://portholemaine.com/event/tyler-dhone-29/
END:VEVENT
BEGIN:VEVENT
DTSTART;TZID=Europe/Moscow:20250727T180000
DTEND;TZID=Europe/Moscow:20250727T180000
DTSTAMP:20260422T045531
CREATED:20250415T204840Z
LAST-MODIFIED:20250415T204840Z
UID:10000885-1753639200-1753639200@portholemaine.com
SUMMARY:After Dark
DESCRIPTION:Live music with After Dark
URL:https://portholemaine.com/event/after-dark-8/
CATEGORIES:Live Music
END:VEVENT
BEGIN:VEVENT
DTSTART;TZID=Europe/Moscow:20250727T130000
DTEND;TZID=Europe/Moscow:20250727T160000
DTSTAMP:20260422T045531
CREATED:20250610T152905Z
LAST-MODIFIED:20250610T155315Z
UID:10000898-1753621200-1753632000@portholemaine.com
SUMMARY:The Inflatables — Casablanca Cruise
DESCRIPTION:Casablanca Concert Cruise with The Inflatables
URL:https://portholemaine.com/event/the-inflatables-5/
CATEGORIES:Casablanca Cruise
END:VEVENT
BEGIN:VEVENT
DTSTART;TZID=Europe/Moscow:20250727T130000
DTEND;TZID=Europe/Moscow:20250727T130000
DTSTAMP:20260422T045531
CREATED:20250415T204502Z
LAST-MODIFIED:20250415T204502Z
UID:10000884-1753621200-1753621200@portholemaine.com
SUMMARY:Nate Ramos Band
DESCRIPTION:Live music with Nate Ramos Band
URL:https://portholemaine.com/event/nate-ramos-band/
LOCATION:The Porthole\, 20 Custom House Wharf\, Portland\, ME\, 04101
CATEGORIES:Live Music
END:VEVENT
BEGIN:VEVENT
DTSTART;TZID=Europe/Moscow:20250726T190000
DTEND;TZID=Europe/Moscow:20250726T190000
DTSTAMP:20260422T045531
CREATED:20250415T194238Z
LAST-MODIFIED:20250415T194413Z
UID:10000809-1753556400-1753556400@portholemaine.com
SUMMARY:DJ Father Tish & DJ Jay-C
DESCRIPTION:Deck Dance Party with DJ Father Tish & DJ Jay-C
URL:https://portholemaine.com/event/dj-father-tish-dj-jay-c-3/2025-07-26/
LOCATION:The Porthole\, 20 Custom House Wharf\, Portland\, ME\, 04101
CATEGORIES:Entertainment
END:VEVENT
BEGIN:VEVENT
DTSTART;TZID=Europe/Moscow:20250726T130000
DTEND;TZID=Europe/Moscow:20250726T130000
DTSTAMP:20260422T045531
CREATED:20250415T204346Z
LAST-MODIFIED:20250415T204346Z
UID:10000883-1753534800-1753534800@portholemaine.com
SUMMARY:Under The Covers
DESCRIPTION:Live music with Under The Covers
URL:https://portholemaine.com/event/under-the-covers-6/
LOCATION:The Porthole\, 20 Custom House Wharf\, Portland\, ME\, 04101
CATEGORIES:Live Music
END:VEVENT
BEGIN:VEVENT
DTSTART;TZID=Europe/Moscow:20250725T180000
DTEND;TZID=Europe/Moscow:20250725T180000
DTSTAMP:20260422T045531
CREATED:20250415T204303Z
LAST-MODIFIED:20250415T204303Z
UID:10000882-1753466400-1753466400@portholemaine.com
SUMMARY:13Black
DESCRIPTION:Live music with 13Black
URL:https://portholemaine.com/event/13black-6/
LOCATION:The Porthole\, 20 Custom House Wharf\, Portland\, ME\, 04101
CATEGORIES:Live Music
END:VEVENT
BEGIN:VEVENT
DTSTART;TZID=Europe/Moscow:20250724T180000
DTEND;TZID=Europe/Moscow:20250724T180000
DTSTAMP:20260422T045531
CREATED:20250415T204230Z
LAST-MODIFIED:20250415T204230Z
UID:10000881-1753380000-1753380000@portholemaine.com
SUMMARY:Goff Hill Rundown
DESCRIPTION:Live music with Goff Hill Rundown
URL:https://portholemaine.com/event/goff-hill-rundown/
LOCATION:The Porthole\, 20 Custom House Wharf\, Portland\, ME\, 04101
CATEGORIES:Live Music
END:VEVENT
BEGIN:VEVENT
DTSTART;TZID=Europe/Moscow:20250724T150000
DTEND;TZID=Europe/Moscow:20250724T150000
DTSTAMP:20260422T045531
CREATED:20250415T183817Z
LAST-MODIFIED:20250415T194537Z
UID:10000744-1753369200-1753369200@portholemaine.com
SUMMARY:Happy Hour with Jacky Treehorn
DESCRIPTION:Happy Hour with Jacky Treehorn
URL:https://portholemaine.com/event/happy-hour-with-jacky-treehorn/2025-07-24/
CATEGORIES:Entertainment
END:VEVENT
BEGIN:VEVENT
DTSTART;TZID=Europe/Moscow:20250723T180000
DTEND;TZID=Europe/Moscow:20250723T180000
DTSTAMP:20260422T045531
CREATED:20250415T204105Z
LAST-MODIFIED:20250415T204105Z
UID:10000880-1753293600-1753293600@portholemaine.com
SUMMARY:Caleb Jolley
DESCRIPTION:Live music with Caleb Jolley
URL:https://portholemaine.com/event/caleb-jolley-3/
LOCATION:The Porthole\, 20 Custom House Wharf\, Portland\, ME\, 04101
CATEGORIES:Live Music
END:VEVENT
END:VCALENDAR