BEGIN:VCALENDAR
VERSION:2.0
PRODID:-//Porthole - ECPv6.10.2//NONSGML v1.0//EN
CALSCALE:GREGORIAN
METHOD:PUBLISH
X-WR-CALNAME:Porthole
X-ORIGINAL-URL:https://portholemaine.com
X-WR-CALDESC:Events for Porthole
REFRESH-INTERVAL;VALUE=DURATION:PT1H
X-Robots-Tag:noindex
X-PUBLISHED-TTL:PT1H
BEGIN:VTIMEZONE
TZID:Europe/Moscow
BEGIN:STANDARD
TZOFFSETFROM:+0300
TZOFFSETTO:+0300
TZNAME:MSK
DTSTART:20250101T000000
END:STANDARD
END:VTIMEZONE
BEGIN:VEVENT
DTSTART;TZID=Europe/Moscow:20250710T180000
DTEND;TZID=Europe/Moscow:20250710T180000
DTSTAMP:20260423T004701
CREATED:20250415T195624Z
LAST-MODIFIED:20250415T195624Z
UID:10000866-1752170400-1752170400@portholemaine.com
SUMMARY:Toby McAllister
DESCRIPTION:Live music with Toby McAllister
URL:https://portholemaine.com/event/toby-mcallister-5/
LOCATION:The Porthole\, 20 Custom House Wharf\, Portland\, ME\, 04101
CATEGORIES:Live Music
END:VEVENT
BEGIN:VEVENT
DTSTART;TZID=Europe/Moscow:20250710T150000
DTEND;TZID=Europe/Moscow:20250710T150000
DTSTAMP:20260423T004701
CREATED:20250415T183817Z
LAST-MODIFIED:20250415T194537Z
UID:10000742-1752159600-1752159600@portholemaine.com
SUMMARY:Happy Hour with Jacky Treehorn
DESCRIPTION:Happy Hour with Jacky Treehorn
URL:https://portholemaine.com/event/happy-hour-with-jacky-treehorn/2025-07-10/
CATEGORIES:Entertainment
END:VEVENT
BEGIN:VEVENT
DTSTART;TZID=Europe/Moscow:20250709T180000
DTEND;TZID=Europe/Moscow:20250709T180000
DTSTAMP:20260423T004701
CREATED:20250415T195505Z
LAST-MODIFIED:20250415T195505Z
UID:10000865-1752084000-1752084000@portholemaine.com
SUMMARY:Tyler Levs
DESCRIPTION:Live music with Tyler Levs
URL:https://portholemaine.com/event/tyler-levs/
LOCATION:The Porthole\, 20 Custom House Wharf\, Portland\, ME\, 04101
CATEGORIES:Live Music
END:VEVENT
BEGIN:VEVENT
DTSTART;TZID=Europe/Moscow:20250709T130000
DTEND;TZID=Europe/Moscow:20250709T130000
DTSTAMP:20260423T004701
CREATED:20250415T195428Z
LAST-MODIFIED:20250415T195428Z
UID:10000864-1752066000-1752066000@portholemaine.com
SUMMARY:Tyler Dhone
DESCRIPTION:Live music with Tyler Dhone
URL:https://portholemaine.com/event/tyler-dhone-26/
LOCATION:The Porthole\, 20 Custom House Wharf\, Portland\, ME\, 04101
CATEGORIES:Live Music
END:VEVENT
BEGIN:VEVENT
DTSTART;TZID=Europe/Moscow:20250706T180000
DTEND;TZID=Europe/Moscow:20250706T180000
DTSTAMP:20260423T004701
CREATED:20250414T160226Z
LAST-MODIFIED:20250630T200500Z
UID:10000720-1751824800-1751824800@portholemaine.com
SUMMARY:Kaiju
DESCRIPTION:Live music with Kaiju
URL:https://portholemaine.com/event/kaiju/
LOCATION:The Porthole\, 20 Custom House Wharf\, Portland\, ME\, 04101
CATEGORIES:Live Music
END:VEVENT
BEGIN:VEVENT
DTSTART;TZID=Europe/Moscow:20250706T130000
DTEND;TZID=Europe/Moscow:20250706T160000
DTSTAMP:20260423T004701
CREATED:20250610T152202Z
LAST-MODIFIED:20250630T200551Z
UID:10000895-1751806800-1751817600@portholemaine.com
SUMMARY:Sugarbox - Casablanca Cruises
DESCRIPTION:Concert Cruise with Sugarbox
URL:https://portholemaine.com/event/sugarbox-13/
CATEGORIES:Casablanca Cruise
END:VEVENT
BEGIN:VEVENT
DTSTART;TZID=Europe/Moscow:20250706T130000
DTEND;TZID=Europe/Moscow:20250706T130000
DTSTAMP:20260423T004701
CREATED:20250415T195233Z
LAST-MODIFIED:20250415T195233Z
UID:10000863-1751806800-1751806800@portholemaine.com
SUMMARY:Stolen Mojo
DESCRIPTION:Live music with Stolen Mojo
URL:https://portholemaine.com/event/stolen-mojo-6/
LOCATION:The Porthole\, 20 Custom House Wharf\, Portland\, ME\, 04101
CATEGORIES:Live Music
END:VEVENT
BEGIN:VEVENT
DTSTART;TZID=Europe/Moscow:20250705T190000
DTEND;TZID=Europe/Moscow:20250705T190000
DTSTAMP:20260423T004701
CREATED:20250415T194238Z
LAST-MODIFIED:20250415T194413Z
UID:10000806-1751742000-1751742000@portholemaine.com
SUMMARY:DJ Father Tish & DJ Jay-C
DESCRIPTION:Deck Dance Party with DJ Father Tish & DJ Jay-C
URL:https://portholemaine.com/event/dj-father-tish-dj-jay-c-3/2025-07-05/
LOCATION:The Porthole\, 20 Custom House Wharf\, Portland\, ME\, 04101
CATEGORIES:Entertainment
END:VEVENT
BEGIN:VEVENT
DTSTART;TZID=Europe/Moscow:20250705T160000
DTEND;TZID=Europe/Moscow:20250705T160000
DTSTAMP:20260423T004701
CREATED:20250415T195138Z
LAST-MODIFIED:20250630T200205Z
UID:10000862-1751731200-1751731200@portholemaine.com
SUMMARY:Quiet Riot Act
DESCRIPTION:Live music with Quiet Riot Act
URL:https://portholemaine.com/event/quiet-riot-act-15/
LOCATION:The Porthole\, 20 Custom House Wharf\, Portland\, ME\, 04101
CATEGORIES:Live Music
ORGANIZER;CN="Porthole Restaurant & Pub":MAILTO:gm@portholemaine.commaine.com
END:VEVENT
BEGIN:VEVENT
DTSTART;TZID=Europe/Moscow:20250705T130000
DTEND;TZID=Europe/Moscow:20250705T160000
DTSTAMP:20260423T004701
CREATED:20250610T151912Z
LAST-MODIFIED:20250630T200120Z
UID:10000894-1751720400-1751731200@portholemaine.com
SUMMARY:Don Campbell Band - Casablanca Cruises
DESCRIPTION:Concert Cruise with Don Campbell Band
URL:https://portholemaine.com/event/don-campbell-band-2/
CATEGORIES:Casablanca Cruise
END:VEVENT
BEGIN:VEVENT
DTSTART;TZID=Europe/Moscow:20250705T130000
DTEND;TZID=Europe/Moscow:20250705T130000
DTSTAMP:20260423T004701
CREATED:20240719T223544Z
LAST-MODIFIED:20250630T200423Z
UID:10000382-1751720400-1751720400@portholemaine.com
SUMMARY:Misspent Youth
DESCRIPTION:Live music with Misspent Youth
URL:https://portholemaine.com/event/misspent-youth-5/
LOCATION:The Porthole\, 20 Custom House Wharf\, Portland\, ME\, 04101
CATEGORIES:Entertainment,Live Music,Music
ORGANIZER;CN="Porthole Restaurant & Pub":MAILTO:gm@portholemaine.commaine.com
END:VEVENT
BEGIN:VEVENT
DTSTART;TZID=Europe/Moscow:20250704T190000
DTEND;TZID=Europe/Moscow:20250704T220000
DTSTAMP:20260423T004701
CREATED:20250610T151723Z
LAST-MODIFIED:20250610T155324Z
UID:10000893-1751655600-1751666400@portholemaine.com
SUMMARY:4th of July Spectacular with Alex Rohan Band — Casablanca Cruise
DESCRIPTION:Join us for a festive 4th of July Cruise on the Casablanca! This all-ages event sets sail for an unforgettable evening on the water\, featuring live music from the Alex Rohan Band\, all the way from Connecticut.
URL:https://portholemaine.com/event/4th-of-july-spectacular-with-alex-rohan-band/
CATEGORIES:Casablanca Cruise
END:VEVENT
BEGIN:VEVENT
DTSTART;TZID=Europe/Moscow:20250704T190000
DTEND;TZID=Europe/Moscow:20250704T190000
DTSTAMP:20260423T004701
CREATED:20250630T200038Z
LAST-MODIFIED:20250630T200038Z
UID:10000910-1751655600-1751655600@portholemaine.com
SUMMARY:DJ Father Tish & DJ Jay-C
DESCRIPTION:Deck dance party with DJ Father Tish & DJ Jay-C
URL:https://portholemaine.com/event/dj-father-tish-dj-jay-c-4/
LOCATION:The Porthole\, 20 Custom House Wharf\, Portland\, ME\, 04101
CATEGORIES:Live Music
ORGANIZER;CN="Porthole Restaurant & Pub":MAILTO:gm@portholemaine.commaine.com
END:VEVENT
BEGIN:VEVENT
DTSTART;TZID=Europe/Moscow:20250704T160000
DTEND;TZID=Europe/Moscow:20250704T160000
DTSTAMP:20260423T004701
CREATED:20250630T195905Z
LAST-MODIFIED:20250630T195905Z
UID:10000909-1751644800-1751644800@portholemaine.com
SUMMARY:Christie Ray Duo
DESCRIPTION:Live music with Christie Ray Duo
URL:https://portholemaine.com/event/christie-ray-duo/
LOCATION:The Porthole\, 20 Custom House Wharf\, Portland\, ME\, 04101
ORGANIZER;CN="Porthole Restaurant & Pub":MAILTO:gm@portholemaine.commaine.com
END:VEVENT
BEGIN:VEVENT
DTSTART;TZID=Europe/Moscow:20250704T130000
DTEND;TZID=Europe/Moscow:20250704T160000
DTSTAMP:20260423T004701
CREATED:20250415T194106Z
LAST-MODIFIED:20250630T195141Z
UID:10000805-1751634000-1751644800@portholemaine.com
SUMMARY:Something Stupid
DESCRIPTION:Live music with Something Stupid
URL:https://portholemaine.com/event/something-stupid-2/
LOCATION:The Porthole\, 20 Custom House Wharf\, Portland\, ME\, 04101
CATEGORIES:Live Music
ORGANIZER;CN="Porthole Restaurant & Pub":MAILTO:gm@portholemaine.commaine.com
END:VEVENT
BEGIN:VEVENT
DTSTART;TZID=Europe/Moscow:20250703T200000
DTEND;TZID=Europe/Moscow:20250703T230000
DTSTAMP:20260423T004701
CREATED:20250415T185555Z
LAST-MODIFIED:20250630T195245Z
UID:10000804-1751572800-1751583600@portholemaine.com
SUMMARY:Matty & The Penders
DESCRIPTION:Live music with Matty & The Penders
URL:https://portholemaine.com/event/matty-the-penders-3/
LOCATION:The Porthole\, 20 Custom House Wharf\, Portland\, ME\, 04101
CATEGORIES:Live Music
ORGANIZER;CN="Porthole Restaurant & Pub":MAILTO:gm@portholemaine.commaine.com
END:VEVENT
BEGIN:VEVENT
DTSTART;TZID=Europe/Moscow:20250703T160000
DTEND;TZID=Europe/Moscow:20250703T160000
DTSTAMP:20260423T004701
CREATED:20250630T195423Z
LAST-MODIFIED:20250630T195423Z
UID:10000741-1751558400-1751558400@portholemaine.com
SUMMARY:Happy Hour with Jacky Treehorn
DESCRIPTION:Happy Hour with Jacky Treehorn
URL:https://portholemaine.com/event/happy-hour-with-jacky-treehorn-2/
CATEGORIES:Entertainment
END:VEVENT
BEGIN:VEVENT
DTSTART;TZID=Europe/Moscow:20250703T130000
DTEND;TZID=Europe/Moscow:20250703T130000
DTSTAMP:20260423T004701
CREATED:20250415T185403Z
LAST-MODIFIED:20250415T185403Z
UID:10000803-1751547600-1751547600@portholemaine.com
SUMMARY:Christie Ray Grant Band
DESCRIPTION:Live music with Christie Ray Grant Band
URL:https://portholemaine.com/event/christie-ray-grant-band-3/
LOCATION:The Porthole\, 20 Custom House Wharf\, Portland\, ME\, 04101
CATEGORIES:Live Music
END:VEVENT
BEGIN:VEVENT
DTSTART;TZID=Europe/Moscow:20250702T180000
DTEND;TZID=Europe/Moscow:20250702T180000
DTSTAMP:20260423T004701
CREATED:20250415T185038Z
LAST-MODIFIED:20250415T185115Z
UID:10000801-1751479200-1751479200@portholemaine.com
SUMMARY:Goff Hill Rundown
DESCRIPTION:Live music with Goff Hill Rundown
URL:https://portholemaine.com/event/tyler-dhone-24/
LOCATION:The Porthole\, 20 Custom House Wharf\, Portland\, ME\, 04101
CATEGORIES:Live Music
ORGANIZER;CN="Porthole Restaurant & Pub":MAILTO:gm@portholemaine.commaine.com
END:VEVENT
BEGIN:VEVENT
DTSTART;TZID=Europe/Moscow:20250702T130000
DTEND;TZID=Europe/Moscow:20250702T130000
DTSTAMP:20260423T004701
CREATED:20250415T185218Z
LAST-MODIFIED:20250415T185218Z
UID:10000802-1751461200-1751461200@portholemaine.com
SUMMARY:Tyler Dhone
DESCRIPTION:Live music with Tyler Dhone
URL:https://portholemaine.com/event/tyler-dhone-25/
LOCATION:The Porthole\, 20 Custom House Wharf\, Portland\, ME\, 04101
CATEGORIES:Live Music
ORGANIZER;CN="Porthole Restaurant & Pub":MAILTO:gm@portholemaine.commaine.com
END:VEVENT
BEGIN:VEVENT
DTSTART;TZID=Europe/Moscow:20250701T170000
DTEND;TZID=Europe/Moscow:20250701T210000
DTSTAMP:20260423T004701
CREATED:20250630T195033Z
LAST-MODIFIED:20250630T195033Z
UID:10000908-1751389200-1751403600@portholemaine.com
SUMMARY:After Dark
DESCRIPTION:Live music with After Dark
URL:https://portholemaine.com/event/after-dark-9/
LOCATION:The Porthole\, 20 Custom House Wharf\, Portland\, ME\, 04101
CATEGORIES:Live Music
ORGANIZER;CN="Porthole Restaurant & Pub":MAILTO:gm@portholemaine.commaine.com
END:VEVENT
BEGIN:VEVENT
DTSTART;TZID=Europe/Moscow:20250701T130000
DTEND;TZID=Europe/Moscow:20250701T160000
DTSTAMP:20260423T004701
CREATED:20250630T194955Z
LAST-MODIFIED:20250630T194955Z
UID:10000907-1751374800-1751385600@portholemaine.com
SUMMARY:Andi Fawcett
DESCRIPTION:Live music with Andi Fawcett
URL:https://portholemaine.com/event/andi-fawcett-21/
LOCATION:The Porthole\, 20 Custom House Wharf\, Portland\, ME\, 04101
CATEGORIES:Live Music
ORGANIZER;CN="Porthole Restaurant & Pub":MAILTO:gm@portholemaine.commaine.com
END:VEVENT
BEGIN:VEVENT
DTSTART;TZID=Europe/Moscow:20250629T180000
DTEND;TZID=Europe/Moscow:20250629T180000
DTSTAMP:20260423T004701
CREATED:20250414T180559Z
LAST-MODIFIED:20250414T180559Z
UID:10000734-1751220000-1751220000@portholemaine.com
SUMMARY:After Dark
DESCRIPTION:Live music with After Dark
URL:https://portholemaine.com/event/after-dark-6/
LOCATION:The Porthole\, 20 Custom House Wharf\, Portland\, ME\, 04101
CATEGORIES:Live Music
ORGANIZER;CN="Porthole Restaurant & Pub":MAILTO:gm@portholemaine.commaine.com
END:VEVENT
BEGIN:VEVENT
DTSTART;TZID=Europe/Moscow:20250629T130000
DTEND;TZID=Europe/Moscow:20250629T160000
DTSTAMP:20260423T004701
CREATED:20250610T151509Z
LAST-MODIFIED:20250610T155328Z
UID:10000892-1751202000-1751212800@portholemaine.com
SUMMARY:The Middle Men — Casablanca Cruise
DESCRIPTION:Casablanca Concert Cruise with The Middle Men
URL:https://portholemaine.com/event/the-middle-men-3/
CATEGORIES:Casablanca Cruise
END:VEVENT
BEGIN:VEVENT
DTSTART;TZID=Europe/Moscow:20250629T130000
DTEND;TZID=Europe/Moscow:20250629T130000
DTSTAMP:20260423T004701
CREATED:20250414T180515Z
LAST-MODIFIED:20250414T180515Z
UID:10000733-1751202000-1751202000@portholemaine.com
SUMMARY:The Inflatables
DESCRIPTION:Live music with The Inflatables
URL:https://portholemaine.com/event/the-inflatables-4/
LOCATION:The Porthole\, 20 Custom House Wharf\, Portland\, ME\, 04101
CATEGORIES:Live Music
ORGANIZER;CN="Porthole Restaurant & Pub":MAILTO:gm@portholemaine.commaine.com
END:VEVENT
BEGIN:VEVENT
DTSTART;TZID=Europe/Moscow:20250628T180000
DTEND;TZID=Europe/Moscow:20250628T180000
DTSTAMP:20260423T004701
CREATED:20250414T180353Z
LAST-MODIFIED:20250414T180353Z
UID:10000732-1751133600-1751133600@portholemaine.com
SUMMARY:DJ Father Tish & DJ Jay-C
DESCRIPTION:Deck dance party with DJ Father Tish & DJ Jay-C
URL:https://portholemaine.com/event/dj-father-tish-dj-jay-c-2/
LOCATION:The Porthole\, 20 Custom House Wharf\, Portland\, ME\, 04101
CATEGORIES:Live Music
ORGANIZER;CN="Porthole Restaurant & Pub":MAILTO:gm@portholemaine.commaine.com
END:VEVENT
BEGIN:VEVENT
DTSTART;TZID=Europe/Moscow:20250628T130000
DTEND;TZID=Europe/Moscow:20250628T130000
DTSTAMP:20260423T004701
CREATED:20250414T175917Z
LAST-MODIFIED:20250414T175917Z
UID:10000731-1751115600-1751115600@portholemaine.com
SUMMARY:Northern Groove
DESCRIPTION:Live music with Northern Groove
URL:https://portholemaine.com/event/northern-groove-8/
LOCATION:The Porthole\, 20 Custom House Wharf\, Portland\, ME\, 04101
CATEGORIES:Live Music
END:VEVENT
BEGIN:VEVENT
DTSTART;TZID=Europe/Moscow:20250627T180000
DTEND;TZID=Europe/Moscow:20250627T180000
DTSTAMP:20260423T004701
CREATED:20250414T174855Z
LAST-MODIFIED:20250414T175807Z
UID:10000730-1751047200-1751047200@portholemaine.com
SUMMARY:After Dark
DESCRIPTION:Live music with After Dark
URL:https://portholemaine.com/event/after-dark-5/
LOCATION:The Porthole\, 20 Custom House Wharf\, Portland\, ME\, 04101
CATEGORIES:Live Music
END:VEVENT
BEGIN:VEVENT
DTSTART;TZID=Europe/Moscow:20250626T180000
DTEND;TZID=Europe/Moscow:20250626T180000
DTSTAMP:20260423T004701
CREATED:20250414T172257Z
LAST-MODIFIED:20250414T172257Z
UID:10000729-1750960800-1750960800@portholemaine.com
SUMMARY:Toby McAllister
DESCRIPTION:Live music with Toby McAllister
URL:https://portholemaine.com/event/toby-mcallister-4/
LOCATION:The Porthole\, 20 Custom House Wharf\, Portland\, ME\, 04101
CATEGORIES:Live Music
ORGANIZER;CN="Porthole Restaurant & Pub":MAILTO:gm@portholemaine.commaine.com
END:VEVENT
BEGIN:VEVENT
DTSTART;TZID=Europe/Moscow:20250626T150000
DTEND;TZID=Europe/Moscow:20250626T150000
DTSTAMP:20260423T004701
CREATED:20250415T183817Z
LAST-MODIFIED:20250415T194537Z
UID:10000740-1750950000-1750950000@portholemaine.com
SUMMARY:Happy Hour with Jacky Treehorn
DESCRIPTION:Happy Hour with Jacky Treehorn
URL:https://portholemaine.com/event/happy-hour-with-jacky-treehorn/2025-06-26/
CATEGORIES:Entertainment
END:VEVENT
END:VCALENDAR