BEGIN:VCALENDAR
VERSION:2.0
PRODID:-//Porthole - ECPv6.10.2//NONSGML v1.0//EN
CALSCALE:GREGORIAN
METHOD:PUBLISH
X-WR-CALNAME:Porthole
X-ORIGINAL-URL:https://portholemaine.com
X-WR-CALDESC:Events for Porthole
REFRESH-INTERVAL;VALUE=DURATION:PT1H
X-Robots-Tag:noindex
X-PUBLISHED-TTL:PT1H
BEGIN:VTIMEZONE
TZID:Europe/Moscow
BEGIN:STANDARD
TZOFFSETFROM:+0300
TZOFFSETTO:+0300
TZNAME:MSK
DTSTART:20250101T000000
END:STANDARD
END:VTIMEZONE
BEGIN:VEVENT
DTSTART;TZID=Europe/Moscow:20251101T140000
DTEND;TZID=Europe/Moscow:20251101T170000
DTSTAMP:20260421T221223
CREATED:20251025T204133Z
LAST-MODIFIED:20251025T204133Z
UID:10001034-1762005600-1762016400@portholemaine.com
SUMMARY:Andi Fawcett & Friends
DESCRIPTION:
URL:https://portholemaine.com/event/andi-fawcett-friends-5/2025-11-01/
END:VEVENT
BEGIN:VEVENT
DTSTART;TZID=Europe/Moscow:20251101T190000
DTEND;TZID=Europe/Moscow:20251101T230000
DTSTAMP:20260421T221223
CREATED:20251003T142939Z
LAST-MODIFIED:20251003T142939Z
UID:10000962-1762023600-1762038000@portholemaine.com
SUMMARY:DJ Jay-C
DESCRIPTION:
URL:https://portholemaine.com/event/dj-jay-c/
END:VEVENT
BEGIN:VEVENT
DTSTART;TZID=Europe/Moscow:20251108T140000
DTEND;TZID=Europe/Moscow:20251108T170000
DTSTAMP:20260421T221223
CREATED:20251025T204133Z
LAST-MODIFIED:20251025T204133Z
UID:10001035-1762610400-1762621200@portholemaine.com
SUMMARY:Andi Fawcett & Friends
DESCRIPTION:
URL:https://portholemaine.com/event/andi-fawcett-friends-5/2025-11-08/
END:VEVENT
BEGIN:VEVENT
DTSTART;TZID=Europe/Moscow:20251115T140000
DTEND;TZID=Europe/Moscow:20251115T170000
DTSTAMP:20260421T221223
CREATED:20251025T204133Z
LAST-MODIFIED:20251025T204133Z
UID:10001036-1763215200-1763226000@portholemaine.com
SUMMARY:Andi Fawcett & Friends
DESCRIPTION:
URL:https://portholemaine.com/event/andi-fawcett-friends-5/2025-11-15/
END:VEVENT
BEGIN:VEVENT
DTSTART;TZID=Europe/Moscow:20251121T180000
DTEND;TZID=Europe/Moscow:20251121T210000
DTSTAMP:20260421T221223
CREATED:20251118T202022Z
LAST-MODIFIED:20251118T202104Z
UID:10001060-1763748000-1763758800@portholemaine.com
SUMMARY:Don Campbell Duo
DESCRIPTION:
URL:https://portholemaine.com/event/don-campbell-duo/
END:VEVENT
BEGIN:VEVENT
DTSTART;TZID=Europe/Moscow:20251122T140000
DTEND;TZID=Europe/Moscow:20251122T170000
DTSTAMP:20260421T221223
CREATED:20251025T204133Z
LAST-MODIFIED:20251025T204133Z
UID:10001037-1763820000-1763830800@portholemaine.com
SUMMARY:Andi Fawcett & Friends
DESCRIPTION:
URL:https://portholemaine.com/event/andi-fawcett-friends-5/2025-11-22/
END:VEVENT
BEGIN:VEVENT
DTSTART;TZID=Europe/Moscow:20251128T130000
DTEND;TZID=Europe/Moscow:20251128T160000
DTSTAMP:20260421T221223
CREATED:20251027T163236Z
LAST-MODIFIED:20251027T163236Z
UID:10001059-1764334800-1764345600@portholemaine.com
SUMMARY:Maker's Market
DESCRIPTION:
URL:https://portholemaine.com/event/makers-market/
END:VEVENT
BEGIN:VEVENT
DTSTART;TZID=Europe/Moscow:20251128T173000
DTEND;TZID=Europe/Moscow:20251128T193000
DTSTAMP:20260421T221223
CREATED:20251025T204351Z
LAST-MODIFIED:20251025T205906Z
UID:10001058-1764351000-1764358200@portholemaine.com
SUMMARY:Tree Lighting Celebration
DESCRIPTION:
URL:https://portholemaine.com/event/tree-lighting-celebration/
END:VEVENT
BEGIN:VEVENT
DTSTART;TZID=Europe/Moscow:20251129T150000
DTEND;TZID=Europe/Moscow:20251129T180000
DTSTAMP:20260421T221223
CREATED:20251025T204319Z
LAST-MODIFIED:20251025T204319Z
UID:10001057-1764428400-1764439200@portholemaine.com
SUMMARY:Holiday Cheer with Don Campbell
DESCRIPTION:
URL:https://portholemaine.com/event/holiday-cheer-with-don-campbell/
END:VEVENT
END:VCALENDAR