BEGIN:VCALENDAR
VERSION:2.0
PRODID:-//Porthole - ECPv6.10.2//NONSGML v1.0//EN
CALSCALE:GREGORIAN
METHOD:PUBLISH
X-ORIGINAL-URL:https://portholemaine.com
X-WR-CALDESC:Events for Porthole
REFRESH-INTERVAL;VALUE=DURATION:PT1H
X-Robots-Tag:noindex
X-PUBLISHED-TTL:PT1H
BEGIN:VTIMEZONE
TZID:Europe/Moscow
BEGIN:STANDARD
TZOFFSETFROM:+0300
TZOFFSETTO:+0300
TZNAME:MSK
DTSTART:20260101T000000
END:STANDARD
END:VTIMEZONE
BEGIN:VEVENT
DTSTART;TZID=Europe/Moscow:20260307T140000
DTEND;TZID=Europe/Moscow:20260307T170000
DTSTAMP:20260421T152229
CREATED:20251025T204133Z
LAST-MODIFIED:20251025T204133Z
UID:10001050-1772892000-1772902800@portholemaine.com
SUMMARY:Andi Fawcett & Friends
DESCRIPTION:
URL:https://portholemaine.com/event/andi-fawcett-friends-5/2026-03-07/
END:VEVENT
BEGIN:VEVENT
DTSTART;TZID=Europe/Moscow:20260314T140000
DTEND;TZID=Europe/Moscow:20260314T170000
DTSTAMP:20260421T152229
CREATED:20251025T204133Z
LAST-MODIFIED:20251025T204133Z
UID:10001051-1773496800-1773507600@portholemaine.com
SUMMARY:Andi Fawcett & Friends
DESCRIPTION:
URL:https://portholemaine.com/event/andi-fawcett-friends-5/2026-03-14/
END:VEVENT
BEGIN:VEVENT
DTSTART;TZID=Europe/Moscow:20260321T140000
DTEND;TZID=Europe/Moscow:20260321T170000
DTSTAMP:20260421T152229
CREATED:20251025T204133Z
LAST-MODIFIED:20251025T204133Z
UID:10001052-1774101600-1774112400@portholemaine.com
SUMMARY:Andi Fawcett & Friends
DESCRIPTION:
URL:https://portholemaine.com/event/andi-fawcett-friends-5/2026-03-21/
END:VEVENT
BEGIN:VEVENT
DTSTART;TZID=Europe/Moscow:20260325T180000
DTEND;TZID=Europe/Moscow:20260325T200000
DTSTAMP:20260421T152229
CREATED:20260325T155139Z
LAST-MODIFIED:20260325T155139Z
UID:10001195-1774461600-1774468800@portholemaine.com
SUMMARY:Trivia with Raise The Bar
DESCRIPTION:
URL:https://portholemaine.com/event/trivia-with-raise-the-bar/2026-03-25/
END:VEVENT
END:VCALENDAR